| Back to Multiple platform build/check report for BioC 3.9 |
|
This page was generated on 2019-10-16 12:20:00 -0400 (Wed, 16 Oct 2019).
| Package 1005/1741 | Hostname | OS / Arch | INSTALL | BUILD | CHECK | BUILD BIN | ||||||
| MiPP 1.56.0 Sukwoo Kim
| malbec2 | Linux (Ubuntu 18.04.2 LTS) / x86_64 | OK | OK | OK | |||||||
| tokay2 | Windows Server 2012 R2 Standard / x64 | [ OK ] | OK | OK | OK | |||||||
| celaya2 | OS X 10.11.6 El Capitan / x86_64 | OK | OK | OK | OK |
| Package: MiPP |
| Version: 1.56.0 |
| Command: C:\cygwin\bin\curl.exe -O https://malbec2.bioconductor.org/BBS/3.9/bioc/src/contrib/MiPP_1.56.0.tar.gz && rm -rf MiPP.buildbin-libdir && mkdir MiPP.buildbin-libdir && C:\Users\biocbuild\bbs-3.9-bioc\R\bin\R.exe CMD INSTALL --merge-multiarch --build --library=MiPP.buildbin-libdir MiPP_1.56.0.tar.gz && C:\Users\biocbuild\bbs-3.9-bioc\R\bin\R.exe CMD INSTALL MiPP_1.56.0.zip && rm MiPP_1.56.0.tar.gz MiPP_1.56.0.zip |
| StartedAt: 2019-10-15 21:14:35 -0400 (Tue, 15 Oct 2019) |
| EndedAt: 2019-10-15 21:15:05 -0400 (Tue, 15 Oct 2019) |
| EllapsedTime: 30.0 seconds |
| RetCode: 0 |
| Status: OK |
##############################################################################
##############################################################################
###
### Running command:
###
### C:\cygwin\bin\curl.exe -O https://malbec2.bioconductor.org/BBS/3.9/bioc/src/contrib/MiPP_1.56.0.tar.gz && rm -rf MiPP.buildbin-libdir && mkdir MiPP.buildbin-libdir && C:\Users\biocbuild\bbs-3.9-bioc\R\bin\R.exe CMD INSTALL --merge-multiarch --build --library=MiPP.buildbin-libdir MiPP_1.56.0.tar.gz && C:\Users\biocbuild\bbs-3.9-bioc\R\bin\R.exe CMD INSTALL MiPP_1.56.0.zip && rm MiPP_1.56.0.tar.gz MiPP_1.56.0.zip
###
##############################################################################
##############################################################################
% Total % Received % Xferd Average Speed Time Time Time Current
Dload Upload Total Spent Left Speed
0 0 0 0 0 0 0 0 --:--:-- --:--:-- --:--:-- 0
100 167k 100 167k 0 0 2245k 0 --:--:-- --:--:-- --:--:-- 2461k
install for i386
* installing *source* package 'MiPP' ...
** using staged installation
** R
** data
** byte-compile and prepare package for lazy loading
** help
*** installing help indices
converting help for package 'MiPP'
finding HTML links ... done
colon html
cv.mipp.rule html
get.mipp html
get.mipp.lda html
get.mipp.logistic html
get.mipp.qda html
get.mipp.svm.linear html
get.mipp.svm.rbf html
leuk1 html
leuk2 html
leukemia html
linearkernel.decision.function html
mipp html
mipp.preproc html
mipp.rule html
mipp.seq html
pre.select html
quant.normal html
quant.normal2 html
rbfkernel.decision.function html
** building package indices
** installing vignettes
** testing if installed package can be loaded from temporary location
** testing if installed package can be loaded from final location
** testing if installed package keeps a record of temporary installation path
install for x64
* installing *source* package 'MiPP' ...
** testing if installed package can be loaded
* MD5 sums
packaged installation of 'MiPP' as MiPP_1.56.0.zip
* DONE (MiPP)
* installing to library 'C:/Users/biocbuild/bbs-3.9-bioc/R/library'
package 'MiPP' successfully unpacked and MD5 sums checked