| Back to Multiple platform build/check report for BioC 3.9 |
|
This page was generated on 2019-10-16 12:22:54 -0400 (Wed, 16 Oct 2019).
| Package 995/1741 | Hostname | OS / Arch | INSTALL | BUILD | CHECK | BUILD BIN | ||||||
| MiChip 1.38.0 Jonathon Blake
| malbec2 | Linux (Ubuntu 18.04.2 LTS) / x86_64 | OK | OK | OK | |||||||
| tokay2 | Windows Server 2012 R2 Standard / x64 | [ OK ] | OK | OK | OK | |||||||
| celaya2 | OS X 10.11.6 El Capitan / x86_64 | OK | OK | OK | OK |
| Package: MiChip |
| Version: 1.38.0 |
| Command: C:\cygwin\bin\curl.exe -O https://malbec2.bioconductor.org/BBS/3.9/bioc/src/contrib/MiChip_1.38.0.tar.gz && rm -rf MiChip.buildbin-libdir && mkdir MiChip.buildbin-libdir && C:\Users\biocbuild\bbs-3.9-bioc\R\bin\R.exe CMD INSTALL --merge-multiarch --build --library=MiChip.buildbin-libdir MiChip_1.38.0.tar.gz && C:\Users\biocbuild\bbs-3.9-bioc\R\bin\R.exe CMD INSTALL MiChip_1.38.0.zip && rm MiChip_1.38.0.tar.gz MiChip_1.38.0.zip |
| StartedAt: 2019-10-15 18:48:51 -0400 (Tue, 15 Oct 2019) |
| EndedAt: 2019-10-15 18:49:25 -0400 (Tue, 15 Oct 2019) |
| EllapsedTime: 33.8 seconds |
| RetCode: 0 |
| Status: OK |
##############################################################################
##############################################################################
###
### Running command:
###
### C:\cygwin\bin\curl.exe -O https://malbec2.bioconductor.org/BBS/3.9/bioc/src/contrib/MiChip_1.38.0.tar.gz && rm -rf MiChip.buildbin-libdir && mkdir MiChip.buildbin-libdir && C:\Users\biocbuild\bbs-3.9-bioc\R\bin\R.exe CMD INSTALL --merge-multiarch --build --library=MiChip.buildbin-libdir MiChip_1.38.0.tar.gz && C:\Users\biocbuild\bbs-3.9-bioc\R\bin\R.exe CMD INSTALL MiChip_1.38.0.zip && rm MiChip_1.38.0.tar.gz MiChip_1.38.0.zip
###
##############################################################################
##############################################################################
% Total % Received % Xferd Average Speed Time Time Time Current
Dload Upload Total Spent Left Speed
0 0 0 0 0 0 0 0 --:--:-- --:--:-- --:--:-- 0
100 422k 100 422k 0 0 4877k 0 --:--:-- --:--:-- --:--:-- 5344k
install for i386
* installing *source* package 'MiChip' ...
** using staged installation
** R
** inst
** byte-compile and prepare package for lazy loading
** help
*** installing help indices
converting help for package 'MiChip'
finding HTML links ... done
MiChip html
boxplotData html
boxplotDataNoFile html
correctForFlags html
myForgivingMedian html
naOmitMedian html
normalizePerChipMedian html
outputAnnotatedDataMatrix html
panelCor html
parseRawData html
plotIntensitiesScatter html
removeUnwantedRows html
returnAnnotatedDataMatrix html
setIntensityCutoff html
standardRemoveRows html
summarizeIntensitiesAsMedian html
workedExampleMedianNormalize html
workedExampleNotNormalizedData html
** building package indices
** installing vignettes
** testing if installed package can be loaded from temporary location
** testing if installed package can be loaded from final location
** testing if installed package keeps a record of temporary installation path
install for x64
* installing *source* package 'MiChip' ...
** testing if installed package can be loaded
* MD5 sums
packaged installation of 'MiChip' as MiChip_1.38.0.zip
* DONE (MiChip)
* installing to library 'C:/Users/biocbuild/bbs-3.9-bioc/R/library'
package 'MiChip' successfully unpacked and MD5 sums checked