| Back to Multiple platform build/check report for BioC 3.9 |
|
This page was generated on 2019-10-16 12:36:06 -0400 (Wed, 16 Oct 2019).
| Package 971/1741 | Hostname | OS / Arch | INSTALL | BUILD | CHECK | BUILD BIN | ||||||
| MetCirc 1.14.0 Thomas Naake
| malbec2 | Linux (Ubuntu 18.04.2 LTS) / x86_64 | OK | OK | OK | |||||||
| tokay2 | Windows Server 2012 R2 Standard / x64 | [ OK ] | OK | OK | OK | |||||||
| celaya2 | OS X 10.11.6 El Capitan / x86_64 | OK | OK | OK | OK |
| Package: MetCirc |
| Version: 1.14.0 |
| Command: C:\cygwin\bin\curl.exe -O https://malbec2.bioconductor.org/BBS/3.9/bioc/src/contrib/MetCirc_1.14.0.tar.gz && rm -rf MetCirc.buildbin-libdir && mkdir MetCirc.buildbin-libdir && C:\Users\biocbuild\bbs-3.9-bioc\R\bin\R.exe CMD INSTALL --merge-multiarch --build --library=MetCirc.buildbin-libdir MetCirc_1.14.0.tar.gz && C:\Users\biocbuild\bbs-3.9-bioc\R\bin\R.exe CMD INSTALL MetCirc_1.14.0.zip && rm MetCirc_1.14.0.tar.gz MetCirc_1.14.0.zip |
| StartedAt: 2019-10-15 18:56:40 -0400 (Tue, 15 Oct 2019) |
| EndedAt: 2019-10-15 18:57:24 -0400 (Tue, 15 Oct 2019) |
| EllapsedTime: 43.3 seconds |
| RetCode: 0 |
| Status: OK |
##############################################################################
##############################################################################
###
### Running command:
###
### C:\cygwin\bin\curl.exe -O https://malbec2.bioconductor.org/BBS/3.9/bioc/src/contrib/MetCirc_1.14.0.tar.gz && rm -rf MetCirc.buildbin-libdir && mkdir MetCirc.buildbin-libdir && C:\Users\biocbuild\bbs-3.9-bioc\R\bin\R.exe CMD INSTALL --merge-multiarch --build --library=MetCirc.buildbin-libdir MetCirc_1.14.0.tar.gz && C:\Users\biocbuild\bbs-3.9-bioc\R\bin\R.exe CMD INSTALL MetCirc_1.14.0.zip && rm MetCirc_1.14.0.tar.gz MetCirc_1.14.0.zip
###
##############################################################################
##############################################################################
% Total % Received % Xferd Average Speed Time Time Time Current
Dload Upload Total Spent Left Speed
0 0 0 0 0 0 0 0 --:--:-- --:--:-- --:--:-- 0
100 1576k 100 1576k 0 0 20.3M 0 --:--:-- --:--:-- --:--:-- 22.6M
install for i386
* installing *source* package 'MetCirc' ...
** using staged installation
** R
** data
** inst
** byte-compile and prepare package for lazy loading
** help
*** installing help indices
converting help for package 'MetCirc'
finding HTML links ... done
MSP html
NDP html
adduct-set html
adduct html
allocatePrecursor2mz html
binnedMSP html
binning html
cart2Polar html
circosLegend html
classes-set html
classes html
combine html
compartmentTissue html
convert2MSP html
convertExampleDF html
convertMSP2MSP html
createLink0Matrix html
createLinkMatrix html
createOrderedSimMat html
createSimilarityMatrix html
cutLinkMatrix html
cutUniquePrecursor html
extract-methods html
getBegEndIndMSP html
getLinkMatrixIndices html
getPrecursorMZ html
getRT html
highlight html
idMSMStoMSP-data html
information-set html
information html
length-method html
minFragCart2Polar html
msp2FunctionalLossesMSP html
msp2msp html
names-set html
names html
peaks html
plotCircos html
printInformationSelect html
sd01_outputXCMS html
sd02_deconvoluted html
shinyCircos html
show-method html
similarityMat html
thresholdLinkMatrix html
tissue html
truncateName html
** building package indices
** installing vignettes
** testing if installed package can be loaded from temporary location
** testing if installed package can be loaded from final location
** testing if installed package keeps a record of temporary installation path
install for x64
* installing *source* package 'MetCirc' ...
** testing if installed package can be loaded
* MD5 sums
packaged installation of 'MetCirc' as MetCirc_1.14.0.zip
* DONE (MetCirc)
* installing to library 'C:/Users/biocbuild/bbs-3.9-bioc/R/library'
package 'MetCirc' successfully unpacked and MD5 sums checked