| Back to Multiple platform build/check report for BioC 3.9 |
|
This page was generated on 2019-10-16 12:43:21 -0400 (Wed, 16 Oct 2019).
| Package 948/1741 | Hostname | OS / Arch | INSTALL | BUILD | CHECK | BUILD BIN | ||||||
| Melissa 1.0.0 C. A. Kapourani
| malbec2 | Linux (Ubuntu 18.04.2 LTS) / x86_64 | OK | OK | OK | |||||||
| tokay2 | Windows Server 2012 R2 Standard / x64 | OK | OK | OK | [ OK ] | |||||||
| celaya2 | OS X 10.11.6 El Capitan / x86_64 | OK | OK | OK | OK |
| Package: Melissa |
| Version: 1.0.0 |
| Command: rm -rf Melissa.buildbin-libdir && mkdir Melissa.buildbin-libdir && C:\Users\biocbuild\bbs-3.9-bioc\R\bin\R.exe CMD INSTALL --merge-multiarch --build --library=Melissa.buildbin-libdir Melissa_1.0.0.tar.gz |
| StartedAt: 2019-10-16 09:37:09 -0400 (Wed, 16 Oct 2019) |
| EndedAt: 2019-10-16 09:38:02 -0400 (Wed, 16 Oct 2019) |
| EllapsedTime: 53.1 seconds |
| RetCode: 0 |
| Status: OK |
| PackageFile: Melissa_1.0.0.zip |
| PackageFileSize: 2.35 MiB |
##############################################################################
##############################################################################
###
### Running command:
###
### rm -rf Melissa.buildbin-libdir && mkdir Melissa.buildbin-libdir && C:\Users\biocbuild\bbs-3.9-bioc\R\bin\R.exe CMD INSTALL --merge-multiarch --build --library=Melissa.buildbin-libdir Melissa_1.0.0.tar.gz
###
##############################################################################
##############################################################################
install for i386
* installing *source* package 'Melissa' ...
** using staged installation
** R
** data
*** moving datasets to lazyload DB
** inst
** byte-compile and prepare package for lazy loading
** help
*** installing help indices
converting help for package 'Melissa'
finding HTML links ... done
Melissa html
binarise_files html
cluster_ari html
cluster_error html
create_melissa_data_obj html
eval_cluster_performance html
eval_imputation_performance html
extract_y html
filter_regions html
impute_met_state html
init_design_matrix html
log_sum_exp html
melissa_encode_dt html
melissa_gibbs html
melissa_synth_dt html
melissa_vb html
partition_dataset html
plot_melissa_profiles html
** building package indices
** installing vignettes
** testing if installed package can be loaded from temporary location
** testing if installed package can be loaded from final location
** testing if installed package keeps a record of temporary installation path
install for x64
* installing *source* package 'Melissa' ...
** testing if installed package can be loaded
* MD5 sums
packaged installation of 'Melissa' as Melissa_1.0.0.zip
* DONE (Melissa)