| Back to Multiple platform build/check report for BioC 3.9 |
|
This page was generated on 2019-10-16 12:32:38 -0400 (Wed, 16 Oct 2019).
| Package 926/1741 | Hostname | OS / Arch | INSTALL | BUILD | CHECK | BUILD BIN | ||||||
| MatrixRider 1.16.0 Elena Grassi
| malbec2 | Linux (Ubuntu 18.04.2 LTS) / x86_64 | OK | OK | OK | |||||||
| tokay2 | Windows Server 2012 R2 Standard / x64 | [ OK ] | OK | OK | OK | |||||||
| celaya2 | OS X 10.11.6 El Capitan / x86_64 | OK | OK | OK | OK |
| Package: MatrixRider |
| Version: 1.16.0 |
| Command: C:\cygwin\bin\curl.exe -O https://malbec2.bioconductor.org/BBS/3.9/bioc/src/contrib/MatrixRider_1.16.0.tar.gz && rm -rf MatrixRider.buildbin-libdir && mkdir MatrixRider.buildbin-libdir && C:\Users\biocbuild\bbs-3.9-bioc\R\bin\R.exe CMD INSTALL --merge-multiarch --build --library=MatrixRider.buildbin-libdir MatrixRider_1.16.0.tar.gz && C:\Users\biocbuild\bbs-3.9-bioc\R\bin\R.exe CMD INSTALL MatrixRider_1.16.0.zip && rm MatrixRider_1.16.0.tar.gz MatrixRider_1.16.0.zip |
| StartedAt: 2019-10-15 20:33:10 -0400 (Tue, 15 Oct 2019) |
| EndedAt: 2019-10-15 20:34:10 -0400 (Tue, 15 Oct 2019) |
| EllapsedTime: 60.4 seconds |
| RetCode: 0 |
| Status: OK |
##############################################################################
##############################################################################
###
### Running command:
###
### C:\cygwin\bin\curl.exe -O https://malbec2.bioconductor.org/BBS/3.9/bioc/src/contrib/MatrixRider_1.16.0.tar.gz && rm -rf MatrixRider.buildbin-libdir && mkdir MatrixRider.buildbin-libdir && C:\Users\biocbuild\bbs-3.9-bioc\R\bin\R.exe CMD INSTALL --merge-multiarch --build --library=MatrixRider.buildbin-libdir MatrixRider_1.16.0.tar.gz && C:\Users\biocbuild\bbs-3.9-bioc\R\bin\R.exe CMD INSTALL MatrixRider_1.16.0.zip && rm MatrixRider_1.16.0.tar.gz MatrixRider_1.16.0.zip
###
##############################################################################
##############################################################################
% Total % Received % Xferd Average Speed Time Time Time Current
Dload Upload Total Spent Left Speed
0 0 0 0 0 0 0 0 --:--:-- --:--:-- --:--:-- 0
100 22524 100 22524 0 0 49189 0 --:--:-- --:--:-- --:--:-- 49831
install for i386
* installing *source* package 'MatrixRider' ...
** using staged installation
** libs
C:/Rtools/mingw_32/bin/gcc -I"C:/Users/BIOCBU~1/BBS-3~1.9-B/R/include" -DNDEBUG -I"C:/Users/biocbuild/bbs-3.9-bioc/R/library/IRanges/include" -I"C:/Users/biocbuild/bbs-3.9-bioc/R/library/XVector/include" -I"C:/Users/biocbuild/bbs-3.9-bioc/R/library/Biostrings/include" -I"C:/Users/biocbuild/bbs-3.9-bioc/R/library/S4Vectors/include" -I"C:/extsoft/include" -O3 -Wall -std=gnu99 -mtune=generic -c Biostring_stubs.c -o Biostring_stubs.o
C:/Rtools/mingw_32/bin/gcc -I"C:/Users/BIOCBU~1/BBS-3~1.9-B/R/include" -DNDEBUG -I"C:/Users/biocbuild/bbs-3.9-bioc/R/library/IRanges/include" -I"C:/Users/biocbuild/bbs-3.9-bioc/R/library/XVector/include" -I"C:/Users/biocbuild/bbs-3.9-bioc/R/library/Biostrings/include" -I"C:/Users/biocbuild/bbs-3.9-bioc/R/library/S4Vectors/include" -I"C:/extsoft/include" -O3 -Wall -std=gnu99 -mtune=generic -c CuTest.c -o CuTest.o
C:/Rtools/mingw_32/bin/gcc -I"C:/Users/BIOCBU~1/BBS-3~1.9-B/R/include" -DNDEBUG -I"C:/Users/biocbuild/bbs-3.9-bioc/R/library/IRanges/include" -I"C:/Users/biocbuild/bbs-3.9-bioc/R/library/XVector/include" -I"C:/Users/biocbuild/bbs-3.9-bioc/R/library/Biostrings/include" -I"C:/Users/biocbuild/bbs-3.9-bioc/R/library/S4Vectors/include" -I"C:/extsoft/include" -O3 -Wall -std=gnu99 -mtune=generic -c R_init_MatrixRider.c -o R_init_MatrixRider.o
C:/Rtools/mingw_32/bin/gcc -I"C:/Users/BIOCBU~1/BBS-3~1.9-B/R/include" -DNDEBUG -I"C:/Users/biocbuild/bbs-3.9-bioc/R/library/IRanges/include" -I"C:/Users/biocbuild/bbs-3.9-bioc/R/library/XVector/include" -I"C:/Users/biocbuild/bbs-3.9-bioc/R/library/Biostrings/include" -I"C:/Users/biocbuild/bbs-3.9-bioc/R/library/S4Vectors/include" -I"C:/extsoft/include" -O3 -Wall -std=gnu99 -mtune=generic -c RunCuTest.c -o RunCuTest.o
C:/Rtools/mingw_32/bin/gcc -I"C:/Users/BIOCBU~1/BBS-3~1.9-B/R/include" -DNDEBUG -I"C:/Users/biocbuild/bbs-3.9-bioc/R/library/IRanges/include" -I"C:/Users/biocbuild/bbs-3.9-bioc/R/library/XVector/include" -I"C:/Users/biocbuild/bbs-3.9-bioc/R/library/Biostrings/include" -I"C:/Users/biocbuild/bbs-3.9-bioc/R/library/S4Vectors/include" -I"C:/extsoft/include" -O3 -Wall -std=gnu99 -mtune=generic -c XVector_stubs.c -o XVector_stubs.o
C:/Rtools/mingw_32/bin/gcc -I"C:/Users/BIOCBU~1/BBS-3~1.9-B/R/include" -DNDEBUG -I"C:/Users/biocbuild/bbs-3.9-bioc/R/library/IRanges/include" -I"C:/Users/biocbuild/bbs-3.9-bioc/R/library/XVector/include" -I"C:/Users/biocbuild/bbs-3.9-bioc/R/library/Biostrings/include" -I"C:/Users/biocbuild/bbs-3.9-bioc/R/library/S4Vectors/include" -I"C:/extsoft/include" -O3 -Wall -std=gnu99 -mtune=generic -c matrix_rider.c -o matrix_rider.o
C:/Rtools/mingw_32/bin/gcc -shared -s -static-libgcc -o MatrixRider.dll tmp.def Biostring_stubs.o CuTest.o R_init_MatrixRider.o RunCuTest.o XVector_stubs.o matrix_rider.o -LC:/extsoft/lib/i386 -LC:/extsoft/lib -LC:/Users/BIOCBU~1/BBS-3~1.9-B/R/bin/i386 -lR
installing to C:/Users/biocbuild/bbs-3.9-bioc/meat/MatrixRider.buildbin-libdir/00LOCK-MatrixRider/00new/MatrixRider/libs/i386
** R
** inst
** byte-compile and prepare package for lazy loading
** help
*** installing help indices
converting help for package 'MatrixRider'
finding HTML links ... done
MatrixRider-package html
getSeqOccupancy-method html
finding level-2 HTML links ... done
** building package indices
** installing vignettes
** testing if installed package can be loaded from temporary location
** testing if installed package can be loaded from final location
** testing if installed package keeps a record of temporary installation path
install for x64
* installing *source* package 'MatrixRider' ...
** libs
C:/Rtools/mingw_64/bin/gcc -I"C:/Users/BIOCBU~1/BBS-3~1.9-B/R/include" -DNDEBUG -I"C:/Users/biocbuild/bbs-3.9-bioc/R/library/IRanges/include" -I"C:/Users/biocbuild/bbs-3.9-bioc/R/library/XVector/include" -I"C:/Users/biocbuild/bbs-3.9-bioc/R/library/Biostrings/include" -I"C:/Users/biocbuild/bbs-3.9-bioc/R/library/S4Vectors/include" -I"C:/extsoft/include" -O2 -Wall -std=gnu99 -mtune=generic -c Biostring_stubs.c -o Biostring_stubs.o
C:/Rtools/mingw_64/bin/gcc -I"C:/Users/BIOCBU~1/BBS-3~1.9-B/R/include" -DNDEBUG -I"C:/Users/biocbuild/bbs-3.9-bioc/R/library/IRanges/include" -I"C:/Users/biocbuild/bbs-3.9-bioc/R/library/XVector/include" -I"C:/Users/biocbuild/bbs-3.9-bioc/R/library/Biostrings/include" -I"C:/Users/biocbuild/bbs-3.9-bioc/R/library/S4Vectors/include" -I"C:/extsoft/include" -O2 -Wall -std=gnu99 -mtune=generic -c CuTest.c -o CuTest.o
C:/Rtools/mingw_64/bin/gcc -I"C:/Users/BIOCBU~1/BBS-3~1.9-B/R/include" -DNDEBUG -I"C:/Users/biocbuild/bbs-3.9-bioc/R/library/IRanges/include" -I"C:/Users/biocbuild/bbs-3.9-bioc/R/library/XVector/include" -I"C:/Users/biocbuild/bbs-3.9-bioc/R/library/Biostrings/include" -I"C:/Users/biocbuild/bbs-3.9-bioc/R/library/S4Vectors/include" -I"C:/extsoft/include" -O2 -Wall -std=gnu99 -mtune=generic -c R_init_MatrixRider.c -o R_init_MatrixRider.o
C:/Rtools/mingw_64/bin/gcc -I"C:/Users/BIOCBU~1/BBS-3~1.9-B/R/include" -DNDEBUG -I"C:/Users/biocbuild/bbs-3.9-bioc/R/library/IRanges/include" -I"C:/Users/biocbuild/bbs-3.9-bioc/R/library/XVector/include" -I"C:/Users/biocbuild/bbs-3.9-bioc/R/library/Biostrings/include" -I"C:/Users/biocbuild/bbs-3.9-bioc/R/library/S4Vectors/include" -I"C:/extsoft/include" -O2 -Wall -std=gnu99 -mtune=generic -c RunCuTest.c -o RunCuTest.o
C:/Rtools/mingw_64/bin/gcc -I"C:/Users/BIOCBU~1/BBS-3~1.9-B/R/include" -DNDEBUG -I"C:/Users/biocbuild/bbs-3.9-bioc/R/library/IRanges/include" -I"C:/Users/biocbuild/bbs-3.9-bioc/R/library/XVector/include" -I"C:/Users/biocbuild/bbs-3.9-bioc/R/library/Biostrings/include" -I"C:/Users/biocbuild/bbs-3.9-bioc/R/library/S4Vectors/include" -I"C:/extsoft/include" -O2 -Wall -std=gnu99 -mtune=generic -c XVector_stubs.c -o XVector_stubs.o
C:/Rtools/mingw_64/bin/gcc -I"C:/Users/BIOCBU~1/BBS-3~1.9-B/R/include" -DNDEBUG -I"C:/Users/biocbuild/bbs-3.9-bioc/R/library/IRanges/include" -I"C:/Users/biocbuild/bbs-3.9-bioc/R/library/XVector/include" -I"C:/Users/biocbuild/bbs-3.9-bioc/R/library/Biostrings/include" -I"C:/Users/biocbuild/bbs-3.9-bioc/R/library/S4Vectors/include" -I"C:/extsoft/include" -O2 -Wall -std=gnu99 -mtune=generic -c matrix_rider.c -o matrix_rider.o
C:/Rtools/mingw_64/bin/gcc -shared -s -static-libgcc -o MatrixRider.dll tmp.def Biostring_stubs.o CuTest.o R_init_MatrixRider.o RunCuTest.o XVector_stubs.o matrix_rider.o -LC:/extsoft/lib/x64 -LC:/extsoft/lib -LC:/Users/BIOCBU~1/BBS-3~1.9-B/R/bin/x64 -lR
installing to C:/Users/biocbuild/bbs-3.9-bioc/meat/MatrixRider.buildbin-libdir/MatrixRider/libs/x64
** testing if installed package can be loaded
* MD5 sums
packaged installation of 'MatrixRider' as MatrixRider_1.16.0.zip
* DONE (MatrixRider)
* installing to library 'C:/Users/biocbuild/bbs-3.9-bioc/R/library'
package 'MatrixRider' successfully unpacked and MD5 sums checked