| Back to Multiple platform build/check report for BioC 3.9 |
|
This page was generated on 2019-10-16 12:39:26 -0400 (Wed, 16 Oct 2019).
| Package 1059/1741 | Hostname | OS / Arch | INSTALL | BUILD | CHECK | BUILD BIN | ||||||
| MSstatsQC 2.2.0 Eralp Dogu
| malbec2 | Linux (Ubuntu 18.04.2 LTS) / x86_64 | OK | OK | OK | |||||||
| tokay2 | Windows Server 2012 R2 Standard / x64 | [ OK ] | OK | OK | OK | |||||||
| celaya2 | OS X 10.11.6 El Capitan / x86_64 | OK | OK | OK | OK |
| Package: MSstatsQC |
| Version: 2.2.0 |
| Command: C:\cygwin\bin\curl.exe -O https://malbec2.bioconductor.org/BBS/3.9/bioc/src/contrib/MSstatsQC_2.2.0.tar.gz && rm -rf MSstatsQC.buildbin-libdir && mkdir MSstatsQC.buildbin-libdir && C:\Users\biocbuild\bbs-3.9-bioc\R\bin\R.exe CMD INSTALL --merge-multiarch --build --library=MSstatsQC.buildbin-libdir MSstatsQC_2.2.0.tar.gz && C:\Users\biocbuild\bbs-3.9-bioc\R\bin\R.exe CMD INSTALL MSstatsQC_2.2.0.zip && rm MSstatsQC_2.2.0.tar.gz MSstatsQC_2.2.0.zip |
| StartedAt: 2019-10-15 20:36:32 -0400 (Tue, 15 Oct 2019) |
| EndedAt: 2019-10-15 20:37:49 -0400 (Tue, 15 Oct 2019) |
| EllapsedTime: 76.5 seconds |
| RetCode: 0 |
| Status: OK |
##############################################################################
##############################################################################
###
### Running command:
###
### C:\cygwin\bin\curl.exe -O https://malbec2.bioconductor.org/BBS/3.9/bioc/src/contrib/MSstatsQC_2.2.0.tar.gz && rm -rf MSstatsQC.buildbin-libdir && mkdir MSstatsQC.buildbin-libdir && C:\Users\biocbuild\bbs-3.9-bioc\R\bin\R.exe CMD INSTALL --merge-multiarch --build --library=MSstatsQC.buildbin-libdir MSstatsQC_2.2.0.tar.gz && C:\Users\biocbuild\bbs-3.9-bioc\R\bin\R.exe CMD INSTALL MSstatsQC_2.2.0.zip && rm MSstatsQC_2.2.0.tar.gz MSstatsQC_2.2.0.zip
###
##############################################################################
##############################################################################
% Total % Received % Xferd Average Speed Time Time Time Current
Dload Upload Total Spent Left Speed
0 0 0 0 0 0 0 0 --:--:-- --:--:-- --:--:-- 0
100 2519k 100 2519k 0 0 28.2M 0 --:--:-- --:--:-- --:--:-- 30.3M
install for i386
* installing *source* package 'MSstatsQC' ...
** using staged installation
** R
** data
*** moving datasets to lazyload DB
** byte-compile and prepare package for lazy loading
** help
*** installing help indices
converting help for package 'MSstatsQC'
finding HTML links ... done
CUSUMChart html
ChangePointEstimator html
DataProcess html
DecisionMap html
MSnbaseToMSstatsQC html
MissingDataMap html
QCloudDDA html
QCloudSRM html
QuiCDIA html
RadarPlot html
RemoveMissing html
RiverPlot html
S9Site54 html
XmRChart html
** building package indices
** installing vignettes
** testing if installed package can be loaded from temporary location
** testing if installed package can be loaded from final location
** testing if installed package keeps a record of temporary installation path
install for x64
* installing *source* package 'MSstatsQC' ...
** testing if installed package can be loaded
* MD5 sums
packaged installation of 'MSstatsQC' as MSstatsQC_2.2.0.zip
* DONE (MSstatsQC)
* installing to library 'C:/Users/biocbuild/bbs-3.9-bioc/R/library'
package 'MSstatsQC' successfully unpacked and MD5 sums checked