| Back to Multiple platform build/check report for BioC 3.9 |
|
This page was generated on 2019-10-16 12:43:50 -0400 (Wed, 16 Oct 2019).
| Package 1033/1741 | Hostname | OS / Arch | INSTALL | BUILD | CHECK | BUILD BIN | ||||||
| MOFA 1.0.0 Britta Velten
| malbec2 | Linux (Ubuntu 18.04.2 LTS) / x86_64 | OK | OK | OK | |||||||
| tokay2 | Windows Server 2012 R2 Standard / x64 | OK | OK | OK | [ OK ] | |||||||
| celaya2 | OS X 10.11.6 El Capitan / x86_64 | OK | OK | OK | OK |
| Package: MOFA |
| Version: 1.0.0 |
| Command: rm -rf MOFA.buildbin-libdir && mkdir MOFA.buildbin-libdir && C:\Users\biocbuild\bbs-3.9-bioc\R\bin\R.exe --arch x64 CMD INSTALL --no-multiarch --build --library=MOFA.buildbin-libdir MOFA_1.0.0.tar.gz |
| StartedAt: 2019-10-16 09:42:32 -0400 (Wed, 16 Oct 2019) |
| EndedAt: 2019-10-16 09:43:25 -0400 (Wed, 16 Oct 2019) |
| EllapsedTime: 53.2 seconds |
| RetCode: 0 |
| Status: OK |
| PackageFile: MOFA_1.0.0.zip |
| PackageFileSize: 2.022 MiB |
##############################################################################
##############################################################################
###
### Running command:
###
### rm -rf MOFA.buildbin-libdir && mkdir MOFA.buildbin-libdir && C:\Users\biocbuild\bbs-3.9-bioc\R\bin\R.exe --arch x64 CMD INSTALL --no-multiarch --build --library=MOFA.buildbin-libdir MOFA_1.0.0.tar.gz
###
##############################################################################
##############################################################################
* installing *source* package 'MOFA' ...
** using staged installation
** R
** inst
** byte-compile and prepare package for lazy loading
** help
*** installing help indices
converting help for package 'MOFA'
finding HTML links ... done
DataOptions html
Dimensions html
Expectations html
FeatureIntercepts html
ImputedData html
InputData html
MOFA html
MOFAmodel html
ModelOptions html
Status html
TrainData html
TrainOptions html
TrainStats html
calculateVarianceExplained html
clusterSamples html
compareFactors html
compareModels html
createMOFAobject html
finding level-2 HTML links ... done
factorNames html
featureNames html
getCovariates html
getDefaultDataOptions html
getDefaultModelOptions html
getDefaultTrainOptions html
getDimensions html
getELBO html
getExpectations html
getFactors html
getImputedData html
getTrainData html
getWeights html
impute html
loadModel html
makeExampleData html
plotDataHeatmap html
plotDataOverview html
plotDataScatter html
plotEnrichment html
plotEnrichmentBars html
plotEnrichmentDetailed html
plotEnrichmentHeatmap html
plotFactorBeeswarm html
plotFactorCor html
plotFactorHist html
plotFactorScatter html
plotFactorScatters html
plotTopWeights html
plotVarianceExplained html
plotWeights html
plotWeightsHeatmap html
predict html
prepareMOFA html
qualityControl html
regressCovariates html
runEnrichmentAnalysis html
runMOFA html
sampleNames html
selectModel html
subsetFactors html
subsetSamples html
subsetViews html
trainCurveELBO html
trainCurveFactors html
viewNames html
** building package indices
** installing vignettes
** testing if installed package can be loaded from temporary location
** testing if installed package can be loaded from final location
** testing if installed package keeps a record of temporary installation path
* MD5 sums
packaged installation of 'MOFA' as MOFA_1.0.0.zip
* DONE (MOFA)