| Back to Multiple platform build/check report for BioC 3.9 |
|
This page was generated on 2019-10-16 12:03:53 -0400 (Wed, 16 Oct 2019).
| Package 1000/1741 | Hostname | OS / Arch | INSTALL | BUILD | CHECK | BUILD BIN | ||||||
| MIMOSA 1.22.0 Greg Finak
| malbec2 | Linux (Ubuntu 18.04.2 LTS) / x86_64 | [ OK ] | OK | WARNINGS | |||||||
| tokay2 | Windows Server 2012 R2 Standard / x64 | OK | OK | WARNINGS | OK | |||||||
| celaya2 | OS X 10.11.6 El Capitan / x86_64 | OK | OK | OK | OK |
| Package: MIMOSA |
| Version: 1.22.0 |
| Command: /home/biocbuild/bbs-3.9-bioc/R/bin/R CMD INSTALL MIMOSA |
| StartedAt: 2019-10-15 18:28:13 -0400 (Tue, 15 Oct 2019) |
| EndedAt: 2019-10-15 18:29:07 -0400 (Tue, 15 Oct 2019) |
| EllapsedTime: 53.8 seconds |
| RetCode: 0 |
| Status: OK |
##############################################################################
##############################################################################
###
### Running command:
###
### /home/biocbuild/bbs-3.9-bioc/R/bin/R CMD INSTALL MIMOSA
###
##############################################################################
##############################################################################
* installing to library ‘/home/biocbuild/bbs-3.9-bioc/R/library’
* installing *source* package ‘MIMOSA’ ...
** using staged installation
** libs
g++ -std=gnu++11 -I"/home/biocbuild/bbs-3.9-bioc/R/include" -DNDEBUG -I"/home/biocbuild/bbs-3.9-bioc/R/library/Rcpp/include" -I"/home/biocbuild/bbs-3.9-bioc/R/library/RcppArmadillo/include" -I/usr/local/include `/home/biocbuild/bbs-3.9-bioc/R/bin/Rscript -e "RcppArmadillo:::CxxFlags()"` -fpic -g -O2 -Wall -c BetaMix.cpp -o BetaMix.o
g++ -std=gnu++11 -I"/home/biocbuild/bbs-3.9-bioc/R/include" -DNDEBUG -I"/home/biocbuild/bbs-3.9-bioc/R/library/Rcpp/include" -I"/home/biocbuild/bbs-3.9-bioc/R/library/RcppArmadillo/include" -I/usr/local/include `/home/biocbuild/bbs-3.9-bioc/R/bin/Rscript -e "RcppArmadillo:::CxxFlags()"` -fpic -g -O2 -Wall -c MCMC.cpp -o MCMC.o
MCMC.cpp: In function ‘SEXPREC* fitMCMC(SEXP, SEXP, SEXP, SEXP, SEXP, SEXP, SEXP, SEXP, SEXP, SEXP, SEXP, SEXP, SEXP, SEXP, SEXP, SEXP, SEXP, SEXP)’:
MCMC.cpp:73:9: warning: suggest parentheses around comparison in operand of ‘|’ [-Wparentheses]
if(file==NULL|fileP==NULL){
^
MCMC.cpp:88:18: warning: comparison between signed and unsigned integer expressions [-Wsign-compare]
if(alphas.size()!=stim.ncol()){
~~~~~~~~~~~~~^~~~~~~~~~~~~
MCMC.cpp:188:15: warning: comparison between signed and unsigned integer expressions [-Wsign-compare]
for(int i=0;i&)’:
MCMC.cpp:627:15: warning: comparison between signed and unsigned integer expressions [-Wsign-compare]
for(int i=0;i&, std::vector&, std::vector&, std::vector&, std::vector&, int, int)’:
MCMC.cpp:677:12: warning: comparison between signed and unsigned integer expressions [-Wsign-compare]
for(i=0;i < lnull.size(); i++){
~~^~~~~~~~~~~~~~
MCMC.cpp: In function ‘double normconstIBeta(double, double, double, double)’:
MCMC.cpp:811:15: warning: comparison between signed and unsigned integer expressions [-Wsign-compare]
for(int i=0;i