| Back to Multiple platform build/check report for BioC 3.9 |
|
This page was generated on 2018-10-23 02:22:07 -0400 (Tue, 23 Oct 2018).
| Package 892/1627 | Hostname | OS / Arch | INSTALL | BUILD | CHECK | BUILD BIN | ||||||
| MEAL 1.11.7 Carlos Ruiz-Arenas
| malbec2 | Linux (Ubuntu 16.04.1 LTS) / x86_64 | OK | OK | WARNINGS | |||||||
| tokay2 | Windows Server 2012 R2 Standard / x64 | OK | OK | WARNINGS | OK | |||||||
| merida2 | OS X 10.11.6 El Capitan / x86_64 | OK | OK | TIMEOUT | [ OK ] |
| Package: MEAL |
| Version: 1.11.7 |
| Command: rm -rf MEAL.buildbin-libdir && mkdir MEAL.buildbin-libdir && /Users/biocbuild/BBS/utils/build-universal.sh MEAL_1.11.7.tar.gz /Library/Frameworks/R.framework/Versions/Current/Resources/bin/R MEAL.buildbin-libdir |
| StartedAt: 2018-10-22 19:32:00 -0400 (Mon, 22 Oct 2018) |
| EndedAt: 2018-10-22 19:33:15 -0400 (Mon, 22 Oct 2018) |
| EllapsedTime: 75.2 seconds |
| RetCode: 0 |
| Status: OK |
| PackageFile: MEAL_1.11.7.tgz |
| PackageFileSize: 2.41 MiB |
############################################################################## ############################################################################## ### ### Running command: ### ### rm -rf MEAL.buildbin-libdir && mkdir MEAL.buildbin-libdir && /Users/biocbuild/BBS/utils/build-universal.sh MEAL_1.11.7.tar.gz /Library/Frameworks/R.framework/Versions/Current/Resources/bin/R MEAL.buildbin-libdir ### ############################################################################## ############################################################################## >>>>>>> >>>>>>> INSTALLATION WITH 'R CMD INSTALL --preclean --no-multiarch --library=MEAL.buildbin-libdir MEAL_1.11.7.tar.gz' >>>>>>> * installing *source* package ‘MEAL’ ... ** R ** inst ** byte-compile and prepare package for lazy loading Warning: S3 method ‘xts::as.xts.data.table’ was declared in NAMESPACE but not found ** help *** installing help indices ** building package indices ** installing vignettes ** testing if installed package can be loaded Warning: S3 method ‘xts::as.xts.data.table’ was declared in NAMESPACE but not found * DONE (MEAL)