| Back to Multiple platform build/check report for BioC 3.9 |
|
This page was generated on 2019-10-16 12:31:46 -0400 (Wed, 16 Oct 2019).
| Package 929/1741 | Hostname | OS / Arch | INSTALL | BUILD | CHECK | BUILD BIN | ||||||
| MBAmethyl 1.18.0 Tao Wang
| malbec2 | Linux (Ubuntu 18.04.2 LTS) / x86_64 | OK | OK | OK | |||||||
| tokay2 | Windows Server 2012 R2 Standard / x64 | [ OK ] | OK | OK | OK | |||||||
| celaya2 | OS X 10.11.6 El Capitan / x86_64 | OK | OK | OK | OK |
| Package: MBAmethyl |
| Version: 1.18.0 |
| Command: C:\cygwin\bin\curl.exe -O https://malbec2.bioconductor.org/BBS/3.9/bioc/src/contrib/MBAmethyl_1.18.0.tar.gz && rm -rf MBAmethyl.buildbin-libdir && mkdir MBAmethyl.buildbin-libdir && C:\Users\biocbuild\bbs-3.9-bioc\R\bin\R.exe CMD INSTALL --merge-multiarch --build --library=MBAmethyl.buildbin-libdir MBAmethyl_1.18.0.tar.gz && C:\Users\biocbuild\bbs-3.9-bioc\R\bin\R.exe CMD INSTALL MBAmethyl_1.18.0.zip && rm MBAmethyl_1.18.0.tar.gz MBAmethyl_1.18.0.zip |
| StartedAt: 2019-10-15 18:55:46 -0400 (Tue, 15 Oct 2019) |
| EndedAt: 2019-10-15 18:56:27 -0400 (Tue, 15 Oct 2019) |
| EllapsedTime: 41.2 seconds |
| RetCode: 0 |
| Status: OK |
##############################################################################
##############################################################################
###
### Running command:
###
### C:\cygwin\bin\curl.exe -O https://malbec2.bioconductor.org/BBS/3.9/bioc/src/contrib/MBAmethyl_1.18.0.tar.gz && rm -rf MBAmethyl.buildbin-libdir && mkdir MBAmethyl.buildbin-libdir && C:\Users\biocbuild\bbs-3.9-bioc\R\bin\R.exe CMD INSTALL --merge-multiarch --build --library=MBAmethyl.buildbin-libdir MBAmethyl_1.18.0.tar.gz && C:\Users\biocbuild\bbs-3.9-bioc\R\bin\R.exe CMD INSTALL MBAmethyl_1.18.0.zip && rm MBAmethyl_1.18.0.tar.gz MBAmethyl_1.18.0.zip
###
##############################################################################
##############################################################################
% Total % Received % Xferd Average Speed Time Time Time Current
Dload Upload Total Spent Left Speed
0 0 0 0 0 0 0 0 --:--:-- --:--:-- --:--:-- 0
100 5870 100 5870 0 0 89338 0 --:--:-- --:--:-- --:--:-- 99491
install for i386
* installing *source* package 'MBAmethyl' ...
** using staged installation
** R
** inst
** byte-compile and prepare package for lazy loading
** help
*** installing help indices
converting help for package 'MBAmethyl'
finding HTML links ... done
MBAmethyl-package html
MBAmethyl html
** building package indices
** installing vignettes
** testing if installed package can be loaded from temporary location
** testing if installed package can be loaded from final location
** testing if installed package keeps a record of temporary installation path
install for x64
* installing *source* package 'MBAmethyl' ...
** testing if installed package can be loaded
* MD5 sums
packaged installation of 'MBAmethyl' as MBAmethyl_1.18.0.zip
* DONE (MBAmethyl)
* installing to library 'C:/Users/biocbuild/bbs-3.9-bioc/R/library'
package 'MBAmethyl' successfully unpacked and MD5 sums checked