| Back to Multiple platform build/check report for BioC 3.9 | 
 | 
This page was generated on 2019-10-16 12:20:16 -0400 (Wed, 16 Oct 2019).
| Package 910/1741 | Hostname | OS / Arch | INSTALL | BUILD | CHECK | BUILD BIN | ||||||
| MANOR 1.56.0 Pierre Neuvial 
 | malbec2 | Linux (Ubuntu 18.04.2 LTS) / x86_64 | OK | OK | OK |  | ||||||
| tokay2 | Windows Server 2012 R2 Standard / x64 | [ OK ] | OK | OK | OK |  | ||||||
| celaya2 | OS X 10.11.6 El Capitan / x86_64 | OK | OK | OK | OK |  | 
| Package: MANOR | 
| Version: 1.56.0 | 
| Command: C:\cygwin\bin\curl.exe -O https://malbec2.bioconductor.org/BBS/3.9/bioc/src/contrib/MANOR_1.56.0.tar.gz && rm -rf MANOR.buildbin-libdir && mkdir MANOR.buildbin-libdir && C:\Users\biocbuild\bbs-3.9-bioc\R\bin\R.exe CMD INSTALL --merge-multiarch --build --library=MANOR.buildbin-libdir MANOR_1.56.0.tar.gz && C:\Users\biocbuild\bbs-3.9-bioc\R\bin\R.exe CMD INSTALL MANOR_1.56.0.zip && rm MANOR_1.56.0.tar.gz MANOR_1.56.0.zip | 
| StartedAt: 2019-10-15 18:55:06 -0400 (Tue, 15 Oct 2019) | 
| EndedAt: 2019-10-15 18:55:49 -0400 (Tue, 15 Oct 2019) | 
| EllapsedTime: 43.6 seconds | 
| RetCode: 0 | 
| Status: OK | 
##############################################################################
##############################################################################
###
### Running command:
###
###   C:\cygwin\bin\curl.exe -O https://malbec2.bioconductor.org/BBS/3.9/bioc/src/contrib/MANOR_1.56.0.tar.gz && rm -rf MANOR.buildbin-libdir && mkdir MANOR.buildbin-libdir && C:\Users\biocbuild\bbs-3.9-bioc\R\bin\R.exe CMD INSTALL --merge-multiarch --build --library=MANOR.buildbin-libdir MANOR_1.56.0.tar.gz && C:\Users\biocbuild\bbs-3.9-bioc\R\bin\R.exe CMD INSTALL MANOR_1.56.0.zip && rm MANOR_1.56.0.tar.gz MANOR_1.56.0.zip
###
##############################################################################
##############################################################################
  % Total    % Received % Xferd  Average Speed   Time    Time     Time  Current
                                 Dload  Upload   Total   Spent    Left  Speed
  0     0    0     0    0     0      0      0 --:--:-- --:--:-- --:--:--     0
  0  469k    0     0    0     0      0      0 --:--:-- --:--:-- --:--:--     0
100  469k  100  469k    0     0  1750k      0 --:--:-- --:--:-- --:--:-- 1790k
install for i386
* installing *source* package 'MANOR' ...
** using staged installation
** libs
C:/Rtools/mingw_32/bin/gcc  -I"C:/Users/BIOCBU~1/BBS-3~1.9-B/R/include" -DNDEBUG     -I"C:/extsoft/include"     -O3 -Wall  -std=gnu99 -mtune=generic -c Rnem_arg.c -o Rnem_arg.o
C:/Rtools/mingw_32/bin/gcc  -I"C:/Users/BIOCBU~1/BBS-3~1.9-B/R/include" -DNDEBUG     -I"C:/extsoft/include"     -O3 -Wall  -std=gnu99 -mtune=generic -c Rnem_exe.c -o Rnem_exe.o
C:/Rtools/mingw_32/bin/gcc  -I"C:/Users/BIOCBU~1/BBS-3~1.9-B/R/include" -DNDEBUG     -I"C:/extsoft/include"     -O3 -Wall  -std=gnu99 -mtune=generic -c exememo.c -o exememo.o
exememo.c: In function 'GenAlloc':
exememo.c:41:6: warning: format '%ld' expects argument of type 'long int', but argument 5 has type 'size_t' [-Wformat=]
      where, what, nelem, elsize);
      ^
exememo.c:41:6: warning: format '%ld' expects argument of type 'long int', but argument 6 has type 'size_t' [-Wformat=]
exememo.c:40:5: warning: 'msg' may be used uninitialized in this function [-Wmaybe-uninitialized]
     sprintf(msg, "Fatal: in %s, no memory for %s (%ld elements size %ld)\n",
     ^
C:/Rtools/mingw_32/bin/gcc  -I"C:/Users/BIOCBU~1/BBS-3~1.9-B/R/include" -DNDEBUG     -I"C:/extsoft/include"     -O3 -Wall  -std=gnu99 -mtune=generic -c nem_alg.c -o nem_alg.o
C:/Rtools/mingw_32/bin/gcc  -I"C:/Users/BIOCBU~1/BBS-3~1.9-B/R/include" -DNDEBUG     -I"C:/extsoft/include"     -O3 -Wall  -std=gnu99 -mtune=generic -c nem_hlp.c -o nem_hlp.o
C:/Rtools/mingw_32/bin/gcc  -I"C:/Users/BIOCBU~1/BBS-3~1.9-B/R/include" -DNDEBUG     -I"C:/extsoft/include"     -O3 -Wall  -std=gnu99 -mtune=generic -c nem_mod.c -o nem_mod.o
C:/Rtools/mingw_32/bin/gcc  -I"C:/Users/BIOCBU~1/BBS-3~1.9-B/R/include" -DNDEBUG     -I"C:/extsoft/include"     -O3 -Wall  -std=gnu99 -mtune=generic -c nem_nei.c -o nem_nei.o
C:/Rtools/mingw_32/bin/gcc  -I"C:/Users/BIOCBU~1/BBS-3~1.9-B/R/include" -DNDEBUG     -I"C:/extsoft/include"     -O3 -Wall  -std=gnu99 -mtune=generic -c nem_rnd.c -o nem_rnd.o
C:/Rtools/mingw_32/bin/gcc  -I"C:/Users/BIOCBU~1/BBS-3~1.9-B/R/include" -DNDEBUG     -I"C:/extsoft/include"     -O3 -Wall  -std=gnu99 -mtune=generic -c nem_ver.c -o nem_ver.o
C:/Rtools/mingw_32/bin/gcc -shared -s -static-libgcc -o MANOR.dll tmp.def Rnem_arg.o Rnem_exe.o exememo.o nem_alg.o nem_hlp.o nem_mod.o nem_nei.o nem_rnd.o nem_ver.o -LC:/extsoft/lib/i386 -LC:/extsoft/lib -LC:/Users/BIOCBU~1/BBS-3~1.9-B/R/bin/i386 -lR
installing to C:/Users/biocbuild/bbs-3.9-bioc/meat/MANOR.buildbin-libdir/00LOCK-MANOR/00new/MANOR/libs/i386
** R
** data
** inst
** byte-compile and prepare package for lazy loading
** help
*** installing help indices
  converting help for package 'MANOR'
    finding HTML links ... done
    MANOR-internal                          html  
    arrayTrend                              html  
    detectSB                                html  
    flag.arrayCGH                           html  
    flag.summary                            html  
    flags                                   html  
    genome.plot                             html  
    html.report                             html  
    import                                  html  
    nem                                     html  
    norm                                    html  
    qscore                                  html  
    qscore.arrayCGH                         html  
    qscore.summary                          html  
    qscores                                 html  
    report.plot                             html  
    sort                                    html  
    spatial                                 html  
    to.flag                                 html  
** building package indices
** installing vignettes
** testing if installed package can be loaded from temporary location
** testing if installed package can be loaded from final location
** testing if installed package keeps a record of temporary installation path
install for x64
* installing *source* package 'MANOR' ...
** libs
C:/Rtools/mingw_64/bin/gcc  -I"C:/Users/BIOCBU~1/BBS-3~1.9-B/R/include" -DNDEBUG     -I"C:/extsoft/include"     -O2 -Wall  -std=gnu99 -mtune=generic -c Rnem_arg.c -o Rnem_arg.o
C:/Rtools/mingw_64/bin/gcc  -I"C:/Users/BIOCBU~1/BBS-3~1.9-B/R/include" -DNDEBUG     -I"C:/extsoft/include"     -O2 -Wall  -std=gnu99 -mtune=generic -c Rnem_exe.c -o Rnem_exe.o
C:/Rtools/mingw_64/bin/gcc  -I"C:/Users/BIOCBU~1/BBS-3~1.9-B/R/include" -DNDEBUG     -I"C:/extsoft/include"     -O2 -Wall  -std=gnu99 -mtune=generic -c exememo.c -o exememo.o
exememo.c: In function 'GenAlloc':
exememo.c:41:6: warning: format '%ld' expects argument of type 'long int', but argument 5 has type 'size_t' [-Wformat=]
      where, what, nelem, elsize);
      ^
exememo.c:41:6: warning: format '%ld' expects argument of type 'long int', but argument 6 has type 'size_t' [-Wformat=]
exememo.c:40:5: warning: 'msg' may be used uninitialized in this function [-Wmaybe-uninitialized]
     sprintf(msg, "Fatal: in %s, no memory for %s (%ld elements size %ld)\n",
     ^
C:/Rtools/mingw_64/bin/gcc  -I"C:/Users/BIOCBU~1/BBS-3~1.9-B/R/include" -DNDEBUG     -I"C:/extsoft/include"     -O2 -Wall  -std=gnu99 -mtune=generic -c nem_alg.c -o nem_alg.o
C:/Rtools/mingw_64/bin/gcc  -I"C:/Users/BIOCBU~1/BBS-3~1.9-B/R/include" -DNDEBUG     -I"C:/extsoft/include"     -O2 -Wall  -std=gnu99 -mtune=generic -c nem_hlp.c -o nem_hlp.o
C:/Rtools/mingw_64/bin/gcc  -I"C:/Users/BIOCBU~1/BBS-3~1.9-B/R/include" -DNDEBUG     -I"C:/extsoft/include"     -O2 -Wall  -std=gnu99 -mtune=generic -c nem_mod.c -o nem_mod.o
C:/Rtools/mingw_64/bin/gcc  -I"C:/Users/BIOCBU~1/BBS-3~1.9-B/R/include" -DNDEBUG     -I"C:/extsoft/include"     -O2 -Wall  -std=gnu99 -mtune=generic -c nem_nei.c -o nem_nei.o
C:/Rtools/mingw_64/bin/gcc  -I"C:/Users/BIOCBU~1/BBS-3~1.9-B/R/include" -DNDEBUG     -I"C:/extsoft/include"     -O2 -Wall  -std=gnu99 -mtune=generic -c nem_rnd.c -o nem_rnd.o
C:/Rtools/mingw_64/bin/gcc  -I"C:/Users/BIOCBU~1/BBS-3~1.9-B/R/include" -DNDEBUG     -I"C:/extsoft/include"     -O2 -Wall  -std=gnu99 -mtune=generic -c nem_ver.c -o nem_ver.o
C:/Rtools/mingw_64/bin/gcc -shared -s -static-libgcc -o MANOR.dll tmp.def Rnem_arg.o Rnem_exe.o exememo.o nem_alg.o nem_hlp.o nem_mod.o nem_nei.o nem_rnd.o nem_ver.o -LC:/extsoft/lib/x64 -LC:/extsoft/lib -LC:/Users/BIOCBU~1/BBS-3~1.9-B/R/bin/x64 -lR
installing to C:/Users/biocbuild/bbs-3.9-bioc/meat/MANOR.buildbin-libdir/MANOR/libs/x64
** testing if installed package can be loaded
* MD5 sums
packaged installation of 'MANOR' as MANOR_1.56.0.zip
* DONE (MANOR)
* installing to library 'C:/Users/biocbuild/bbs-3.9-bioc/R/library'
package 'MANOR' successfully unpacked and MD5 sums checked