| Back to Multiple platform build/check report for BioC 3.9 |
|
This page was generated on 2019-10-16 12:06:26 -0400 (Wed, 16 Oct 2019).
| Package 887/1741 | Hostname | OS / Arch | INSTALL | BUILD | CHECK | BUILD BIN | ||||||
| LowMACA 1.14.1 Stefano de Pretis
| malbec2 | Linux (Ubuntu 18.04.2 LTS) / x86_64 | OK | OK | [ OK ] | |||||||
| tokay2 | Windows Server 2012 R2 Standard / x64 | OK | OK | OK | OK | |||||||
| celaya2 | OS X 10.11.6 El Capitan / x86_64 | OK | OK | OK | OK |
| Package: LowMACA |
| Version: 1.14.1 |
| Command: /home/biocbuild/bbs-3.9-bioc/R/bin/R CMD check --install=check:LowMACA.install-out.txt --library=/home/biocbuild/bbs-3.9-bioc/R/library --no-vignettes --timings LowMACA_1.14.1.tar.gz |
| StartedAt: 2019-10-16 02:46:28 -0400 (Wed, 16 Oct 2019) |
| EndedAt: 2019-10-16 02:57:13 -0400 (Wed, 16 Oct 2019) |
| EllapsedTime: 644.4 seconds |
| RetCode: 0 |
| Status: OK |
| CheckDir: LowMACA.Rcheck |
| Warnings: 0 |
##############################################################################
##############################################################################
###
### Running command:
###
### /home/biocbuild/bbs-3.9-bioc/R/bin/R CMD check --install=check:LowMACA.install-out.txt --library=/home/biocbuild/bbs-3.9-bioc/R/library --no-vignettes --timings LowMACA_1.14.1.tar.gz
###
##############################################################################
##############################################################################
* using log directory ‘/home/biocbuild/bbs-3.9-bioc/meat/LowMACA.Rcheck’
* using R version 3.6.1 (2019-07-05)
* using platform: x86_64-pc-linux-gnu (64-bit)
* using session charset: UTF-8
* using option ‘--no-vignettes’
* checking for file ‘LowMACA/DESCRIPTION’ ... OK
* checking extension type ... Package
* this is package ‘LowMACA’ version ‘1.14.1’
* checking package namespace information ... OK
* checking package dependencies ... OK
* checking if this is a source package ... OK
* checking if there is a namespace ... OK
* checking for hidden files and directories ... OK
* checking for portable file names ... OK
* checking for sufficient/correct file permissions ... OK
* checking whether package ‘LowMACA’ can be installed ... OK
* checking installed package size ... OK
* checking package directory ... OK
* checking ‘build’ directory ... OK
* checking DESCRIPTION meta-information ... OK
* checking top-level files ... OK
* checking for left-over files ... OK
* checking index information ... OK
* checking package subdirectories ... OK
* checking R files for non-ASCII characters ... OK
* checking R files for syntax errors ... OK
* checking whether the package can be loaded ... OK
* checking whether the package can be loaded with stated dependencies ... OK
* checking whether the package can be unloaded cleanly ... OK
* checking whether the namespace can be loaded with stated dependencies ... OK
* checking whether the namespace can be unloaded cleanly ... OK
* checking dependencies in R code ... OK
* checking S3 generic/method consistency ... OK
* checking replacement functions ... OK
* checking foreign function calls ... OK
* checking R code for possible problems ... OK
* checking Rd files ... OK
* checking Rd metadata ... OK
* checking Rd cross-references ... OK
* checking for missing documentation entries ... OK
* checking for code/documentation mismatches ... OK
* checking Rd \usage sections ... OK
* checking Rd contents ... OK
* checking for unstated dependencies in examples ... OK
* checking contents of ‘data’ directory ... OK
* checking data for non-ASCII characters ... OK
* checking data for ASCII and uncompressed saves ... OK
* checking files in ‘vignettes’ ... OK
* checking examples ... OK
Examples with CPU or elapsed time > 5s
user system elapsed
allPfamAnalysis 181.652 12.149 195.018
lfmSingleSequence 93.170 5.977 99.204
setup 12.344 1.214 29.356
LowMACA-class 11.170 0.784 19.563
LowMACA-package 9.268 0.445 14.092
alignSequences 5.888 0.945 20.697
* checking for unstated dependencies in vignettes ... OK
* checking package vignettes in ‘inst/doc’ ... OK
* checking running R code from vignettes ... SKIPPED
* checking re-building of vignette outputs ... SKIPPED
* checking PDF version of manual ... OK
* DONE
Status: OK
LowMACA.Rcheck/00install.out
############################################################################## ############################################################################## ### ### Running command: ### ### /home/biocbuild/bbs-3.9-bioc/R/bin/R CMD INSTALL LowMACA ### ############################################################################## ############################################################################## * installing to library ‘/home/biocbuild/bbs-3.9-bioc/R/library’ * installing *source* package ‘LowMACA’ ... ** using staged installation ** R ** data ** inst ** byte-compile and prepare package for lazy loading ** help *** installing help indices ** building package indices ** installing vignettes ** testing if installed package can be loaded from temporary location Checking if clustalo is in the PATH... Checking clustalo Version... Checking perl installation... Checking perl modules XML::Simple and LWP... ** testing if installed package can be loaded from final location Checking if clustalo is in the PATH... Checking clustalo Version... Checking perl installation... Checking perl modules XML::Simple and LWP... ** testing if installed package keeps a record of temporary installation path * DONE (LowMACA)
LowMACA.Rcheck/LowMACA-Ex.timings
| name | user | system | elapsed | |
| BLOSUM62 | 0.010 | 0.000 | 0.011 | |
| LowMACA-class | 11.170 | 0.784 | 19.563 | |
| LowMACA-package | 9.268 | 0.445 | 14.092 | |
| LowMACA_AML | 0.026 | 0.008 | 0.034 | |
| alignSequences | 5.888 | 0.945 | 20.697 | |
| allPfamAnalysis | 181.652 | 12.149 | 195.018 | |
| bpAll | 1.289 | 0.020 | 1.309 | |
| entropy | 1.275 | 0.000 | 1.275 | |
| getMutations | 1.769 | 0.323 | 3.609 | |
| lfm | 2.111 | 0.032 | 2.143 | |
| lfmSingleSequence | 93.170 | 5.977 | 99.204 | |
| lmAlignment | 0.048 | 0.000 | 0.048 | |
| lmEntropy | 1.027 | 0.004 | 1.030 | |
| lmMutations | 0.065 | 0.000 | 0.065 | |
| lmObj | 0.146 | 0.000 | 0.147 | |
| lmParams | 0.804 | 0.238 | 1.041 | |
| lmPlot | 4.207 | 0.110 | 4.316 | |
| lmPlotSingleSequence | 4.441 | 0.240 | 4.683 | |
| mapMutations | 0.805 | 0.013 | 0.816 | |
| newLowMACA | 3.413 | 0.056 | 3.471 | |
| nullProfile | 1.385 | 0.004 | 1.389 | |
| parallelize | 0.712 | 0.000 | 0.712 | |
| protter | 0.934 | 0.000 | 3.369 | |
| setup | 12.344 | 1.214 | 29.356 | |
| showTumorType | 0.074 | 0.122 | 0.223 | |