| Back to Multiple platform build/check report for BioC 3.9 |
|
This page was generated on 2019-10-16 12:23:05 -0400 (Wed, 16 Oct 2019).
| Package 876/1741 | Hostname | OS / Arch | INSTALL | BUILD | CHECK | BUILD BIN | ||||||
| LiquidAssociation 1.38.0 Yen-Yi Ho
| malbec2 | Linux (Ubuntu 18.04.2 LTS) / x86_64 | OK | OK | OK | |||||||
| tokay2 | Windows Server 2012 R2 Standard / x64 | OK | OK | OK | [ OK ] | |||||||
| celaya2 | OS X 10.11.6 El Capitan / x86_64 | OK | OK | OK | OK |
| Package: LiquidAssociation |
| Version: 1.38.0 |
| Command: rm -rf LiquidAssociation.buildbin-libdir && mkdir LiquidAssociation.buildbin-libdir && C:\Users\biocbuild\bbs-3.9-bioc\R\bin\R.exe CMD INSTALL --merge-multiarch --build --library=LiquidAssociation.buildbin-libdir LiquidAssociation_1.38.0.tar.gz |
| StartedAt: 2019-10-16 09:32:46 -0400 (Wed, 16 Oct 2019) |
| EndedAt: 2019-10-16 09:33:34 -0400 (Wed, 16 Oct 2019) |
| EllapsedTime: 47.9 seconds |
| RetCode: 0 |
| Status: OK |
| PackageFile: LiquidAssociation_1.38.0.zip |
| PackageFileSize: 324.6 KiB |
##############################################################################
##############################################################################
###
### Running command:
###
### rm -rf LiquidAssociation.buildbin-libdir && mkdir LiquidAssociation.buildbin-libdir && C:\Users\biocbuild\bbs-3.9-bioc\R\bin\R.exe CMD INSTALL --merge-multiarch --build --library=LiquidAssociation.buildbin-libdir LiquidAssociation_1.38.0.tar.gz
###
##############################################################################
##############################################################################
install for i386
* installing *source* package 'LiquidAssociation' ...
** using staged installation
** R
** inst
** byte-compile and prepare package for lazy loading
** help
*** installing help indices
converting help for package 'LiquidAssociation'
finding HTML links ... done
CNM-class html
CNM.full-methods html
CNM.simple-methods html
GLA-methods html
LA-methods html
LiquidAssociation-Internal html
LiquidAssociation-package html
getsGLA-methods html
getsLA-methods html
plotGLA-methods html
** building package indices
** installing vignettes
** testing if installed package can be loaded from temporary location
** testing if installed package can be loaded from final location
** testing if installed package keeps a record of temporary installation path
install for x64
* installing *source* package 'LiquidAssociation' ...
** testing if installed package can be loaded
* MD5 sums
packaged installation of 'LiquidAssociation' as LiquidAssociation_1.38.0.zip
* DONE (LiquidAssociation)