| Back to Multiple platform build/check report for BioC 3.9 |
|
This page was generated on 2019-10-16 12:09:35 -0400 (Wed, 16 Oct 2019).
| Package 872/1741 | Hostname | OS / Arch | INSTALL | BUILD | CHECK | BUILD BIN | ||||||
| LINC 1.12.0 Manuel Goepferich
| malbec2 | Linux (Ubuntu 18.04.2 LTS) / x86_64 | OK | OK | [ OK ] | |||||||
| tokay2 | Windows Server 2012 R2 Standard / x64 | OK | OK | OK | OK | |||||||
| celaya2 | OS X 10.11.6 El Capitan / x86_64 | OK | OK | OK | OK |
| Package: LINC |
| Version: 1.12.0 |
| Command: /home/biocbuild/bbs-3.9-bioc/R/bin/R CMD check --install=check:LINC.install-out.txt --library=/home/biocbuild/bbs-3.9-bioc/R/library --no-vignettes --timings LINC_1.12.0.tar.gz |
| StartedAt: 2019-10-16 02:44:01 -0400 (Wed, 16 Oct 2019) |
| EndedAt: 2019-10-16 02:53:12 -0400 (Wed, 16 Oct 2019) |
| EllapsedTime: 550.6 seconds |
| RetCode: 0 |
| Status: OK |
| CheckDir: LINC.Rcheck |
| Warnings: 0 |
##############################################################################
##############################################################################
###
### Running command:
###
### /home/biocbuild/bbs-3.9-bioc/R/bin/R CMD check --install=check:LINC.install-out.txt --library=/home/biocbuild/bbs-3.9-bioc/R/library --no-vignettes --timings LINC_1.12.0.tar.gz
###
##############################################################################
##############################################################################
* using log directory ‘/home/biocbuild/bbs-3.9-bioc/meat/LINC.Rcheck’
* using R version 3.6.1 (2019-07-05)
* using platform: x86_64-pc-linux-gnu (64-bit)
* using session charset: UTF-8
* using option ‘--no-vignettes’
* checking for file ‘LINC/DESCRIPTION’ ... OK
* checking extension type ... Package
* this is package ‘LINC’ version ‘1.12.0’
* checking package namespace information ... OK
* checking package dependencies ... OK
* checking if this is a source package ... OK
* checking if there is a namespace ... OK
* checking for hidden files and directories ... OK
* checking for portable file names ... OK
* checking for sufficient/correct file permissions ... OK
* checking whether package ‘LINC’ can be installed ... OK
* checking installed package size ... OK
* checking package directory ... OK
* checking ‘build’ directory ... OK
* checking DESCRIPTION meta-information ... OK
* checking top-level files ... OK
* checking for left-over files ... OK
* checking index information ... OK
* checking package subdirectories ... OK
* checking R files for non-ASCII characters ... OK
* checking R files for syntax errors ... OK
* checking whether the package can be loaded ... OK
* checking whether the package can be loaded with stated dependencies ... OK
* checking whether the package can be unloaded cleanly ... OK
* checking whether the namespace can be loaded with stated dependencies ... OK
* checking whether the namespace can be unloaded cleanly ... OK
* checking dependencies in R code ... OK
* checking S3 generic/method consistency ... OK
* checking replacement functions ... OK
* checking foreign function calls ... OK
* checking R code for possible problems ... NOTE
justlinc,matrix: no visible global function definition for ‘plot’
Undefined global functions or variables:
plot
Consider adding
importFrom("graphics", "plot")
to your NAMESPACE file.
* checking Rd files ... OK
* checking Rd metadata ... OK
* checking Rd cross-references ... OK
* checking for missing documentation entries ... OK
* checking for code/documentation mismatches ... OK
* checking Rd \usage sections ... OK
* checking Rd contents ... OK
* checking for unstated dependencies in examples ... OK
* checking contents of ‘data’ directory ... OK
* checking data for non-ASCII characters ... OK
* checking data for ASCII and uncompressed saves ... OK
* checking R/sysdata.rda ... NOTE
Note: significantly better compression could be obtained
by using R CMD build --resave-data
old_size new_size compress
sysdata.rda 449Kb 311Kb xz
* checking line endings in C/C++/Fortran sources/headers ... OK
* checking compiled code ... NOTE
Note: information on .o files is not available
* checking files in ‘vignettes’ ... OK
* checking examples ... OK
Examples with CPU or elapsed time > 5s
user system elapsed
getbio-methods 152.692 1.556 154.786
singlelinc-methods 86.517 0.811 87.776
clusterlinc-methods 21.469 0.052 21.522
linc-methods 5.403 0.012 5.429
* checking for unstated dependencies in ‘tests’ ... OK
* checking tests ...
Running ‘runTests.R’
OK
* checking for unstated dependencies in vignettes ... OK
* checking package vignettes in ‘inst/doc’ ... OK
* checking running R code from vignettes ... SKIPPED
* checking re-building of vignette outputs ... SKIPPED
* checking PDF version of manual ... OK
* DONE
Status: 3 NOTEs
See
‘/home/biocbuild/bbs-3.9-bioc/meat/LINC.Rcheck/00check.log’
for details.
LINC.Rcheck/00install.out
##############################################################################
##############################################################################
###
### Running command:
###
### /home/biocbuild/bbs-3.9-bioc/R/bin/R CMD INSTALL LINC
###
##############################################################################
##############################################################################
* installing to library ‘/home/biocbuild/bbs-3.9-bioc/R/library’
* installing *source* package ‘LINC’ ...
** using staged installation
** libs
g++ -std=gnu++11 -I"/home/biocbuild/bbs-3.9-bioc/R/include" -DNDEBUG -I"/home/biocbuild/bbs-3.9-bioc/R/library/Rcpp/include" -I/usr/local/include -fpic -g -O2 -Wall -c Cppspear.cpp -o Cppspear.o
Cppspear.cpp: In function ‘Rcpp::NumericMatrix Cppspear(Rcpp::NumericMatrix, Rcpp::NumericMatrix)’:
Cppspear.cpp:78:14: warning: unused variable ‘qspear’ [-Wunused-variable]
double qspear;double nfraction;
^~~~~~
gcc -I"/home/biocbuild/bbs-3.9-bioc/R/include" -DNDEBUG -I"/home/biocbuild/bbs-3.9-bioc/R/library/Rcpp/include" -I/usr/local/include -fpic -g -O2 -Wall -c LINC_init.c -o LINC_init.o
g++ -std=gnu++11 -I"/home/biocbuild/bbs-3.9-bioc/R/include" -DNDEBUG -I"/home/biocbuild/bbs-3.9-bioc/R/library/Rcpp/include" -I/usr/local/include -fpic -g -O2 -Wall -c RcppExports.cpp -o RcppExports.o
g++ -std=gnu++11 -I"/home/biocbuild/bbs-3.9-bioc/R/include" -DNDEBUG -I"/home/biocbuild/bbs-3.9-bioc/R/library/Rcpp/include" -I/usr/local/include -fpic -g -O2 -Wall -c docdd.cpp -o docdd.o
g++ -std=gnu++11 -I"/home/biocbuild/bbs-3.9-bioc/R/include" -DNDEBUG -I"/home/biocbuild/bbs-3.9-bioc/R/library/Rcpp/include" -I/usr/local/include -fpic -g -O2 -Wall -c doesd.cpp -o doesd.o
g++ -std=gnu++11 -shared -L/home/biocbuild/bbs-3.9-bioc/R/lib -L/usr/local/lib -o LINC.so Cppspear.o LINC_init.o RcppExports.o docdd.o doesd.o -L/home/biocbuild/bbs-3.9-bioc/R/lib -lR
installing to /home/biocbuild/bbs-3.9-bioc/R/library/00LOCK-LINC/00new/LINC/libs
** R
** data
** inst
** byte-compile and prepare package for lazy loading
Creating a new generic function for ‘history’ in package ‘LINC’
** help
*** installing help indices
** building package indices
** installing vignettes
** testing if installed package can be loaded from temporary location
** checking absolute paths in shared objects and dynamic libraries
** testing if installed package can be loaded from final location
** testing if installed package keeps a record of temporary installation path
* DONE (LINC)
LINC.Rcheck/tests/runTests.Rout
R version 3.6.1 (2019-07-05) -- "Action of the Toes"
Copyright (C) 2019 The R Foundation for Statistical Computing
Platform: x86_64-pc-linux-gnu (64-bit)
R is free software and comes with ABSOLUTELY NO WARRANTY.
You are welcome to redistribute it under certain conditions.
Type 'license()' or 'licence()' for distribution details.
R is a collaborative project with many contributors.
Type 'contributors()' for more information and
'citation()' on how to cite R or R packages in publications.
Type 'demo()' for some demos, 'help()' for on-line help, or
'help.start()' for an HTML browser interface to help.
Type 'q()' to quit R.
> BiocGenerics:::testPackage("LINC")
This is LINC - Co-Expression Analysis of lincRNAs
(Manuel Goepferich & Carl Herrmann)
Attaching package: 'LINC'
The following object is masked from 'package:utils':
history
removed 4 zero variance genes from input
removed genes with duplicated names
linc: gene system(s) assumed:
ENTREZID
linc: Correlation function with 'everything' called
linc: Computation of correlation matrix started
clusterlinc: computation for the correlation test started
clusterlinc: distance matrix called with the method dicedist
clusterlinc: co-expressed genes selected based on 'pvalCutOff'
removed 4 zero variance genes from input
removed genes with duplicated names
linc: gene system(s) assumed:
ENTREZID
linc: Correlation function with 'everything' called
linc: Computation of correlation matrix started
singlelinc: no test conducted, genes selected based on correlation values
singlelinc: co-expression analysis yielded 9 genes
singlelinc: The function enrichGO will be called.
Loading required package: org.Hs.eg.db
Loading required package: AnnotationDbi
Loading required package: stats4
Loading required package: BiocGenerics
Loading required package: parallel
Attaching package: 'BiocGenerics'
The following objects are masked from 'package:parallel':
clusterApply, clusterApplyLB, clusterCall, clusterEvalQ,
clusterExport, clusterMap, parApply, parCapply, parLapply,
parLapplyLB, parRapply, parSapply, parSapplyLB
The following objects are masked from 'package:stats':
IQR, mad, sd, var, xtabs
The following objects are masked from 'package:base':
Filter, Find, Map, Position, Reduce, anyDuplicated, append,
as.data.frame, basename, cbind, colnames, dirname, do.call,
duplicated, eval, evalq, get, grep, grepl, intersect, is.unsorted,
lapply, mapply, match, mget, order, paste, pmax, pmax.int, pmin,
pmin.int, rank, rbind, rownames, sapply, setdiff, sort, table,
tapply, union, unique, unsplit, which, which.max, which.min
Loading required package: Biobase
Welcome to Bioconductor
Vignettes contain introductory material; view with
'browseVignettes()'. To cite Bioconductor, see
'citation("Biobase")', and for packages 'citation("pkgname")'.
Loading required package: IRanges
Loading required package: S4Vectors
Attaching package: 'S4Vectors'
The following object is masked from 'package:base':
expand.grid
removed 4 zero variance genes from input
removed genes with duplicated names
linc: gene system(s) assumed:
ENTREZID
linc: Correlation function with 'everything' called
linc: Computation of correlation matrix started
removed 4 zero variance genes from input
removed genes with duplicated names
linc: gene system(s) assumed:
ENTREZID
linc: Correlation function with 'everything' called
linc: Computation of correlation matrix started
clusterlinc: computation for the correlation test started
clusterlinc: distance matrix called with the method dicedist
clusterlinc: co-expressed genes selected based on 'pvalCutOff'
RUNIT TEST PROTOCOL -- Wed Oct 16 02:53:06 2019
***********************************************
Number of test functions: 4
Number of errors: 0
Number of failures: 0
1 Test Suite :
LINC RUnit Tests - 4 test functions, 0 errors, 0 failures
Number of test functions: 4
Number of errors: 0
Number of failures: 0
Warning messages:
1: In linc(cor_test_mat, codingGenes = c(TRUE, FALSE, TRUE, TRUE, FALSE, :
Input 'object' contains infinite values
2: In linc(cor_test_mat, codingGenes = c(TRUE, FALSE, TRUE, TRUE, FALSE, :
Input 'object' contains infinite values
3: In singlelinc(linc_matrix, query = "17", onlycor = T, underth = F, :
'testFun' was supplied and 'onlycor' equals 'TRUE', here 'onlycor' has the higher priority
4: In linc(cor_test_mat, codingGenes = c(TRUE, FALSE, TRUE, TRUE, FALSE, :
Input 'object' contains infinite values
5: In linc(cor_test_mat, codingGenes = c(TRUE, FALSE, TRUE, TRUE, FALSE, :
Input 'object' contains infinite values
>
> proc.time()
user system elapsed
84.177 2.269 86.872
LINC.Rcheck/LINC-Ex.timings
| name | user | system | elapsed | |
| Arith-methods | 2.962 | 0.069 | 3.064 | |
| BRAIN_EXPR | 0.289 | 0.016 | 0.306 | |
| LINCbio-class | 0.002 | 0.000 | 0.001 | |
| LINCcluster-class | 0.000 | 0.000 | 0.001 | |
| LINCfeature-class | 0.001 | 0.000 | 0.000 | |
| LINCmatrix-class | 0.000 | 0.000 | 0.001 | |
| LINCsingle-class | 0.001 | 0.000 | 0.001 | |
| assignment-methods | 0.317 | 0.012 | 0.330 | |
| changeOrgDb | 0.753 | 0.016 | 0.769 | |
| clusterlinc-methods | 21.469 | 0.052 | 21.522 | |
| correlation-methods | 0.201 | 0.036 | 0.238 | |
| express-methods | 0.279 | 0.084 | 0.363 | |
| feature | 1.733 | 0.008 | 1.740 | |
| getbio-methods | 152.692 | 1.556 | 154.786 | |
| getcoexpr | 0.382 | 0.000 | 0.382 | |
| getlinc-methods | 0.265 | 0.000 | 0.264 | |
| history-methods | 0.256 | 0.000 | 0.257 | |
| justlinc-methods | 0.001 | 0.000 | 0.001 | |
| linCenvir-methods | 0.254 | 0.000 | 0.253 | |
| linc-methods | 5.403 | 0.012 | 5.429 | |
| linctable-methods | 0 | 0 | 0 | |
| plotlinc-methods | 4.765 | 0.011 | 4.782 | |
| querycluster | 0.551 | 0.000 | 0.551 | |
| results-methods | 0.269 | 0.000 | 0.269 | |
| singlelinc-methods | 86.517 | 0.811 | 87.776 | |