| Back to Multiple platform build/check report for BioC 3.9 |
|
This page was generated on 2019-10-16 12:11:19 -0400 (Wed, 16 Oct 2019).
| Package 837/1741 | Hostname | OS / Arch | INSTALL | BUILD | CHECK | BUILD BIN | ||||||
| IsoformSwitchAnalyzeR 1.6.0 Kristoffer Vitting-Seerup
| malbec2 | Linux (Ubuntu 18.04.2 LTS) / x86_64 | OK | OK | [ OK ] | |||||||
| tokay2 | Windows Server 2012 R2 Standard / x64 | OK | OK | OK | OK | |||||||
| celaya2 | OS X 10.11.6 El Capitan / x86_64 | OK | OK | OK | OK |
| Package: IsoformSwitchAnalyzeR |
| Version: 1.6.0 |
| Command: /home/biocbuild/bbs-3.9-bioc/R/bin/R CMD check --install=check:IsoformSwitchAnalyzeR.install-out.txt --library=/home/biocbuild/bbs-3.9-bioc/R/library --no-vignettes --timings IsoformSwitchAnalyzeR_1.6.0.tar.gz |
| StartedAt: 2019-10-16 02:37:19 -0400 (Wed, 16 Oct 2019) |
| EndedAt: 2019-10-16 02:44:49 -0400 (Wed, 16 Oct 2019) |
| EllapsedTime: 449.8 seconds |
| RetCode: 0 |
| Status: OK |
| CheckDir: IsoformSwitchAnalyzeR.Rcheck |
| Warnings: 0 |
##############################################################################
##############################################################################
###
### Running command:
###
### /home/biocbuild/bbs-3.9-bioc/R/bin/R CMD check --install=check:IsoformSwitchAnalyzeR.install-out.txt --library=/home/biocbuild/bbs-3.9-bioc/R/library --no-vignettes --timings IsoformSwitchAnalyzeR_1.6.0.tar.gz
###
##############################################################################
##############################################################################
* using log directory ‘/home/biocbuild/bbs-3.9-bioc/meat/IsoformSwitchAnalyzeR.Rcheck’
* using R version 3.6.1 (2019-07-05)
* using platform: x86_64-pc-linux-gnu (64-bit)
* using session charset: UTF-8
* using option ‘--no-vignettes’
* checking for file ‘IsoformSwitchAnalyzeR/DESCRIPTION’ ... OK
* checking extension type ... Package
* this is package ‘IsoformSwitchAnalyzeR’ version ‘1.6.0’
* checking package namespace information ... OK
* checking package dependencies ... OK
* checking if this is a source package ... OK
* checking if there is a namespace ... OK
* checking for hidden files and directories ... OK
* checking for portable file names ... OK
* checking for sufficient/correct file permissions ... OK
* checking whether package ‘IsoformSwitchAnalyzeR’ can be installed ... OK
* checking installed package size ... OK
* checking package directory ... OK
* checking ‘build’ directory ... OK
* checking DESCRIPTION meta-information ... OK
* checking top-level files ... OK
* checking for left-over files ... OK
* checking index information ... OK
* checking package subdirectories ... OK
* checking R files for non-ASCII characters ... OK
* checking R files for syntax errors ... OK
* checking whether the package can be loaded ... OK
* checking whether the package can be loaded with stated dependencies ... OK
* checking whether the package can be unloaded cleanly ... OK
* checking whether the namespace can be loaded with stated dependencies ... OK
* checking whether the namespace can be unloaded cleanly ... OK
* checking dependencies in R code ... OK
* checking S3 generic/method consistency ... OK
* checking replacement functions ... OK
* checking foreign function calls ... OK
* checking R code for possible problems ... NOTE
expressionAnalysisPlot: no visible binding for global variable
‘Condition’
expressionAnalysisPlot: no visible binding for global variable
‘gene_expression’
expressionAnalysisPlot: no visible binding for global variable ‘CI_up’
expressionAnalysisPlot: no visible binding for global variable
‘CI_down’
expressionAnalysisPlot: no visible binding for global variable
‘sigLevelPos’
expressionAnalysisPlot: no visible binding for global variable
‘sigLevel’
expressionAnalysisPlot: no visible binding for global variable ‘CI_hi’
expressionAnalysisPlot: no visible binding for global variable ‘CI_low’
expressionAnalysisPlot: no visible binding for global variable ‘ymax’
expressionAnalysisPlot: no visible binding for global variable
‘sigEval’
expressionAnalysisPlot: no visible binding for global variable ‘idNr’
expressionAnalysisPlot: no visible binding for global variable ‘IF’
extractConsequenceEnrichment: no visible binding for global variable
‘feature2’
extractConsequenceEnrichment: no visible binding for global variable
‘propOfRelevantEvents’
extractConsequenceEnrichment: no visible binding for global variable
‘Significant’
extractConsequenceEnrichment: no visible binding for global variable
‘propCiLo’
extractConsequenceEnrichment: no visible binding for global variable
‘propCiHi’
extractConsequenceEnrichment: no visible binding for global variable
‘nTot’
extractConsequenceEnrichmentComparison: no visible binding for global
variable ‘Comparison’
extractConsequenceEnrichmentComparison: no visible binding for global
variable ‘propOfRelevantEvents’
extractConsequenceEnrichmentComparison: no visible binding for global
variable ‘Significant’
extractConsequenceEnrichmentComparison: no visible binding for global
variable ‘nTot’
extractConsequenceEnrichmentComparison: no visible binding for global
variable ‘propCiHi’
extractConsequenceEnrichmentComparison: no visible binding for global
variable ‘propCiLo’
extractConsequenceGenomeWide: no visible binding for global variable
‘isoform_feature’
extractConsequenceGenomeWide: no visible binding for global variable
‘value’
extractConsequenceGenomeWide: no visible binding for global variable
‘variable’
extractConsequenceGenomeWide: no visible binding for global variable
‘ymax’
extractConsequenceGenomeWide: no visible binding for global variable
‘significance’
extractConsequenceGenomeWide: no visible binding for global variable
‘idNr’
extractConsequenceSummary: no visible binding for global variable
‘switchConsequence’
extractConsequenceSummary: no visible binding for global variable
‘geneFraction’
extractConsequenceSummary: no visible binding for global variable
‘nrGenesWithConsequences’
extractConsequenceSummary: no visible binding for global variable
‘isoFraction’
extractConsequenceSummary: no visible binding for global variable
‘nrIsoWithConsequences’
extractSplicingEnrichment: no visible binding for global variable
‘AStype2’
extractSplicingEnrichment: no visible binding for global variable
‘propUp’
extractSplicingEnrichment: no visible binding for global variable
‘Significant’
extractSplicingEnrichment: no visible binding for global variable
‘nTot’
extractSplicingEnrichment: no visible binding for global variable
‘propUpCiHi’
extractSplicingEnrichment: no visible binding for global variable
‘propUpCiLo’
extractSplicingEnrichmentComparison: no visible binding for global
variable ‘Comparison’
extractSplicingEnrichmentComparison: no visible binding for global
variable ‘propUp’
extractSplicingEnrichmentComparison: no visible binding for global
variable ‘Significant’
extractSplicingEnrichmentComparison: no visible binding for global
variable ‘nTot’
extractSplicingEnrichmentComparison: no visible binding for global
variable ‘propUpCiHi’
extractSplicingEnrichmentComparison: no visible binding for global
variable ‘propUpCiLo’
extractSplicingGenomeWide: no visible binding for global variable
‘isoform_feature’
extractSplicingGenomeWide: no visible binding for global variable
‘value’
extractSplicingGenomeWide: no visible binding for global variable
‘variable’
extractSplicingGenomeWide: no visible binding for global variable
‘ymax’
extractSplicingGenomeWide: no visible binding for global variable
‘significance’
extractSplicingGenomeWide: no visible binding for global variable
‘idNr’
extractSplicingSummary: no visible binding for global variable
‘splicingResult’
extractSplicingSummary: no visible binding for global variable
‘geneFraction’
extractSplicingSummary: no visible binding for global variable
‘nrGenesWithConsequences’
extractSplicingSummary: no visible binding for global variable
‘isoFraction’
extractSplicingSummary: no visible binding for global variable
‘nrIsoWithConsequences’
grangesFracOverlap: no visible global function definition for
‘queryHits’
grangesFracOverlap: no visible global function definition for
‘subjectHits’
isoformToGeneExp: no visible binding for global variable ‘isoform_id’
isoformToGeneExp: no visible binding for global variable ‘gene_id’
preFilter: no visible global function definition for ‘setdff’
switchPlotTranscript: no visible global function definition for
‘queryHits’
switchPlotTranscript: no visible binding for global variable ‘y’
switchPlotTranscript: no visible binding for global variable ‘yend’
switchPlotTranscript: no visible binding for global variable ‘x’
switchPlotTranscript: no visible binding for global variable ‘ymin’
switchPlotTranscript: no visible binding for global variable ‘xmin’
switchPlotTranscript: no visible binding for global variable ‘ymax’
switchPlotTranscript: no visible binding for global variable ‘xmax’
switchPlotTranscript: no visible binding for global variable ‘Domain’
Undefined global functions or variables:
AStype2 CI_down CI_hi CI_low CI_up Comparison Condition Domain IF
Significant feature2 geneFraction gene_expression gene_id idNr
isoFraction isoform_feature isoform_id nTot nrGenesWithConsequences
nrIsoWithConsequences propCiHi propCiLo propOfRelevantEvents propUp
propUpCiHi propUpCiLo queryHits setdff sigEval sigLevel sigLevelPos
significance splicingResult subjectHits switchConsequence value
variable x xmax xmin y yend ymax ymin
* checking Rd files ... OK
* checking Rd metadata ... OK
* checking Rd cross-references ... OK
* checking for missing documentation entries ... OK
* checking for code/documentation mismatches ... OK
* checking Rd \usage sections ... OK
* checking Rd contents ... OK
* checking for unstated dependencies in examples ... OK
* checking contents of ‘data’ directory ... OK
* checking data for non-ASCII characters ... OK
* checking data for ASCII and uncompressed saves ... OK
* checking line endings in C/C++/Fortran sources/headers ... OK
* checking compiled code ... NOTE
Note: information on .o files is not available
* checking files in ‘vignettes’ ... OK
* checking examples ... OK
Examples with CPU or elapsed time > 5s
user system elapsed
IsoformSwitchTestDEXSeq 26.602 0.188 26.848
importCufflinksGalaxyData 15.796 0.024 16.251
isoformSwitchAnalysisCombined 11.247 0.088 11.337
analyzeAlternativSplicing 10.266 0.004 10.269
extractSequence 7.826 0.031 7.859
extractTopSwitches 7.501 0.040 7.551
analyzeORF 7.174 0.016 7.190
IsoformSwitchTestDRIMSeq 6.937 0.080 7.017
isoformSwitchAnalysisPart2 6.284 0.020 6.303
extractSwitchSummary 6.061 0.020 6.081
isoformSwitchAnalysisPart1 5.922 0.008 5.931
* checking for unstated dependencies in vignettes ... OK
* checking package vignettes in ‘inst/doc’ ... OK
* checking running R code from vignettes ... SKIPPED
* checking re-building of vignette outputs ... SKIPPED
* checking PDF version of manual ... OK
* DONE
Status: 2 NOTEs
See
‘/home/biocbuild/bbs-3.9-bioc/meat/IsoformSwitchAnalyzeR.Rcheck/00check.log’
for details.
IsoformSwitchAnalyzeR.Rcheck/00install.out
############################################################################## ############################################################################## ### ### Running command: ### ### /home/biocbuild/bbs-3.9-bioc/R/bin/R CMD INSTALL IsoformSwitchAnalyzeR ### ############################################################################## ############################################################################## * installing to library ‘/home/biocbuild/bbs-3.9-bioc/R/library’ * installing *source* package ‘IsoformSwitchAnalyzeR’ ... ** using staged installation ** libs gcc -I"/home/biocbuild/bbs-3.9-bioc/R/include" -DNDEBUG -I/usr/local/include -fpic -g -O2 -Wall -c utils.c -o utils.o gcc -shared -L/home/biocbuild/bbs-3.9-bioc/R/lib -L/usr/local/lib -o IsoformSwitchAnalyzeR.so utils.o -L/home/biocbuild/bbs-3.9-bioc/R/lib -lR installing to /home/biocbuild/bbs-3.9-bioc/R/library/00LOCK-IsoformSwitchAnalyzeR/00new/IsoformSwitchAnalyzeR/libs ** R ** data ** inst ** byte-compile and prepare package for lazy loading ** help *** installing help indices ** building package indices ** installing vignettes ** testing if installed package can be loaded from temporary location ** checking absolute paths in shared objects and dynamic libraries ** testing if installed package can be loaded from final location ** testing if installed package keeps a record of temporary installation path * DONE (IsoformSwitchAnalyzeR)
IsoformSwitchAnalyzeR.Rcheck/IsoformSwitchAnalyzeR-Ex.timings
| name | user | system | elapsed | |
| IsoformSwitchTestDEXSeq | 26.602 | 0.188 | 26.848 | |
| IsoformSwitchTestDRIMSeq | 6.937 | 0.080 | 7.017 | |
| analyzeAlternativSplicing | 10.266 | 0.004 | 10.269 | |
| analyzeCPAT | 0.042 | 0.000 | 0.058 | |
| analyzeCPC2 | 0.037 | 0.004 | 0.103 | |
| analyzeNetSurf2 | 1.579 | 0.008 | 1.598 | |
| analyzeORF | 7.174 | 0.016 | 7.190 | |
| analyzePFAM | 0.663 | 0.000 | 0.663 | |
| analyzeSignalP | 0.108 | 0.004 | 0.116 | |
| analyzeSwitchConsequences | 1.214 | 0.008 | 1.222 | |
| expressionAnalysisPlots | 1.193 | 0.000 | 1.192 | |
| extractConsequenceEnrichment | 0.921 | 0.004 | 0.925 | |
| extractConsequenceEnrichmentComparison | 1.065 | 0.004 | 1.069 | |
| extractConsequenceSummary | 0.787 | 0.004 | 0.792 | |
| extractExpressionMatrix | 0.231 | 0.000 | 0.231 | |
| extractGenomeWideAnalysis | 4.334 | 0.024 | 4.367 | |
| extractGenomeWideSplicingAnalysis | 2.564 | 0.004 | 2.568 | |
| extractSequence | 7.826 | 0.031 | 7.859 | |
| extractSplicingEnrichment | 2.038 | 0.004 | 2.041 | |
| extractSplicingEnrichmentComparison | 2.616 | 0.008 | 2.623 | |
| extractSplicingSummary | 1.094 | 0.004 | 1.098 | |
| extractSwitchOverlap | 0.355 | 0.004 | 0.359 | |
| extractSwitchSummary | 6.061 | 0.020 | 6.081 | |
| extractTopSwitches | 7.501 | 0.040 | 7.551 | |
| getCDS | 0 | 0 | 0 | |
| importCufflinksGalaxyData | 15.796 | 0.024 | 16.251 | |
| importGTF | 0.362 | 0.000 | 0.361 | |
| importIsoformExpression | 0.081 | 0.004 | 0.085 | |
| importRdata | 0.704 | 0.000 | 0.722 | |
| isoformSwitchAnalysisCombined | 11.247 | 0.088 | 11.337 | |
| isoformSwitchAnalysisPart1 | 5.922 | 0.008 | 5.931 | |
| isoformSwitchAnalysisPart2 | 6.284 | 0.020 | 6.303 | |
| isoformToGeneExp | 0.119 | 0.000 | 0.119 | |
| isoformToIsoformFraction | 0.122 | 0.000 | 0.122 | |
| preFilter | 0.029 | 0.003 | 0.032 | |
| subsetSwitchAnalyzeRlist | 0.033 | 0.000 | 0.033 | |
| switchAnalyzeRlist | 0.597 | 0.000 | 0.598 | |
| switchPlot | 2.609 | 0.000 | 2.609 | |
| switchPlotTranscript | 1.149 | 0.000 | 1.150 | |
| testData | 0.026 | 0.000 | 0.027 | |