| Back to Multiple platform build/check report for BioC 3.9 |
|
This page was generated on 2019-10-16 12:42:58 -0400 (Wed, 16 Oct 2019).
| Package 836/1741 | Hostname | OS / Arch | INSTALL | BUILD | CHECK | BUILD BIN | ||||||
| IsoCorrectoRGUI 1.0.2 Christian Kohler
| malbec2 | Linux (Ubuntu 18.04.2 LTS) / x86_64 | OK | OK | OK | |||||||
| tokay2 | Windows Server 2012 R2 Standard / x64 | OK | OK | OK | [ OK ] | |||||||
| celaya2 | OS X 10.11.6 El Capitan / x86_64 | OK | OK | OK | OK |
| Package: IsoCorrectoRGUI |
| Version: 1.0.2 |
| Command: rm -rf IsoCorrectoRGUI.buildbin-libdir && mkdir IsoCorrectoRGUI.buildbin-libdir && C:\Users\biocbuild\bbs-3.9-bioc\R\bin\R.exe CMD INSTALL --merge-multiarch --build --library=IsoCorrectoRGUI.buildbin-libdir IsoCorrectoRGUI_1.0.2.tar.gz |
| StartedAt: 2019-10-16 09:30:22 -0400 (Wed, 16 Oct 2019) |
| EndedAt: 2019-10-16 09:30:55 -0400 (Wed, 16 Oct 2019) |
| EllapsedTime: 32.8 seconds |
| RetCode: 0 |
| Status: OK |
| PackageFile: IsoCorrectoRGUI_1.0.2.zip |
| PackageFileSize: 486.7 KiB |
##############################################################################
##############################################################################
###
### Running command:
###
### rm -rf IsoCorrectoRGUI.buildbin-libdir && mkdir IsoCorrectoRGUI.buildbin-libdir && C:\Users\biocbuild\bbs-3.9-bioc\R\bin\R.exe CMD INSTALL --merge-multiarch --build --library=IsoCorrectoRGUI.buildbin-libdir IsoCorrectoRGUI_1.0.2.tar.gz
###
##############################################################################
##############################################################################
install for i386
* installing *source* package 'IsoCorrectoRGUI' ...
** using staged installation
** R
** inst
** byte-compile and prepare package for lazy loading
** help
*** installing help indices
converting help for package 'IsoCorrectoRGUI'
finding HTML links ... done
GetGUIstatus html
IsoCorrectionGUI html
** building package indices
** installing vignettes
** testing if installed package can be loaded from temporary location
** testing if installed package can be loaded from final location
** testing if installed package keeps a record of temporary installation path
install for x64
* installing *source* package 'IsoCorrectoRGUI' ...
** testing if installed package can be loaded
* MD5 sums
packaged installation of 'IsoCorrectoRGUI' as IsoCorrectoRGUI_1.0.2.zip
* DONE (IsoCorrectoRGUI)