| Back to Multiple platform build/check report for BioC 3.9 |
|
This page was generated on 2019-10-15 12:50:57 -0400 (Tue, 15 Oct 2019).
| Package 823/1741 | Hostname | OS / Arch | INSTALL | BUILD | CHECK | BUILD BIN | ||||||
| InterMineR 1.6.1 InterMine Team
| malbec2 | Linux (Ubuntu 18.04.2 LTS) / x86_64 | OK | OK | [ OK ] | |||||||
| tokay2 | Windows Server 2012 R2 Standard / x64 | OK | OK | WARNINGS | OK | |||||||
| celaya2 | OS X 10.11.6 El Capitan / x86_64 | OK | OK | OK | OK |
| Package: InterMineR |
| Version: 1.6.1 |
| Command: /home/biocbuild/bbs-3.9-bioc/R/bin/R CMD check --install=check:InterMineR.install-out.txt --library=/home/biocbuild/bbs-3.9-bioc/R/library --no-vignettes --timings InterMineR_1.6.1.tar.gz |
| StartedAt: 2019-10-15 02:18:04 -0400 (Tue, 15 Oct 2019) |
| EndedAt: 2019-10-15 02:24:16 -0400 (Tue, 15 Oct 2019) |
| EllapsedTime: 372.6 seconds |
| RetCode: 0 |
| Status: OK |
| CheckDir: InterMineR.Rcheck |
| Warnings: 0 |
##############################################################################
##############################################################################
###
### Running command:
###
### /home/biocbuild/bbs-3.9-bioc/R/bin/R CMD check --install=check:InterMineR.install-out.txt --library=/home/biocbuild/bbs-3.9-bioc/R/library --no-vignettes --timings InterMineR_1.6.1.tar.gz
###
##############################################################################
##############################################################################
* using log directory ‘/home/biocbuild/bbs-3.9-bioc/meat/InterMineR.Rcheck’
* using R version 3.6.1 (2019-07-05)
* using platform: x86_64-pc-linux-gnu (64-bit)
* using session charset: UTF-8
* using option ‘--no-vignettes’
* checking for file ‘InterMineR/DESCRIPTION’ ... OK
* this is package ‘InterMineR’ version ‘1.6.1’
* checking package namespace information ... OK
* checking package dependencies ... OK
* checking if this is a source package ... OK
* checking if there is a namespace ... OK
* checking for hidden files and directories ... NOTE
Found the following hidden files and directories:
.travis.yml
These were most likely included in error. See section ‘Package
structure’ in the ‘Writing R Extensions’ manual.
* checking for portable file names ... OK
* checking for sufficient/correct file permissions ... OK
* checking whether package ‘InterMineR’ can be installed ... OK
* checking installed package size ... OK
* checking package directory ... OK
* checking ‘build’ directory ... OK
* checking DESCRIPTION meta-information ... OK
* checking top-level files ... NOTE
File
LICENSE
is not mentioned in the DESCRIPTION file.
* checking for left-over files ... OK
* checking index information ... OK
* checking package subdirectories ... OK
* checking R files for non-ASCII characters ... OK
* checking R files for syntax errors ... OK
* checking whether the package can be loaded ... OK
* checking whether the package can be loaded with stated dependencies ... OK
* checking whether the package can be unloaded cleanly ... OK
* checking whether the namespace can be loaded with stated dependencies ... OK
* checking whether the namespace can be unloaded cleanly ... OK
* checking dependencies in R code ... OK
* checking S3 generic/method consistency ... OK
* checking replacement functions ... OK
* checking foreign function calls ... OK
* checking R code for possible problems ... NOTE
convertToGeneAnswers: no visible binding for global variable
‘geneExpProfile’
convertToRangedSummarizedExperiment: no visible global function
definition for ‘reshape’
doEnrichment: no visible global function definition for ‘URLencode’
listDatasets: no visible binding for global variable ‘child_name’
runQuery,ANY-InterMineR: no visible global function definition for
‘URLencode’
runQuery,ANY-list: no visible global function definition for
‘URLencode’
Undefined global functions or variables:
URLencode child_name geneExpProfile reshape
Consider adding
importFrom("stats", "reshape")
importFrom("utils", "URLencode")
to your NAMESPACE file.
* checking Rd files ... OK
* checking Rd metadata ... OK
* checking Rd cross-references ... OK
* checking for missing documentation entries ... OK
* checking for code/documentation mismatches ... OK
* checking Rd \usage sections ... OK
* checking Rd contents ... OK
* checking for unstated dependencies in examples ... OK
* checking contents of ‘data’ directory ... OK
* checking data for non-ASCII characters ... OK
* checking data for ASCII and uncompressed saves ... OK
* checking files in ‘vignettes’ ... OK
* checking examples ... OK
Examples with CPU or elapsed time > 5s
user system elapsed
convertToGeneAnswers 18.650 0.228 29.651
simplifyResult 10.818 0.016 12.923
doEnrichment 7.049 0.035 138.495
convertToRangedSummarizedExperiment 4.010 0.012 8.659
runQuery 2.838 0.004 7.562
* checking for unstated dependencies in vignettes ... OK
* checking package vignettes in ‘inst/doc’ ... OK
* checking running R code from vignettes ... SKIPPED
* checking re-building of vignette outputs ... SKIPPED
* checking PDF version of manual ... OK
* DONE
Status: 3 NOTEs
See
‘/home/biocbuild/bbs-3.9-bioc/meat/InterMineR.Rcheck/00check.log’
for details.
InterMineR.Rcheck/00install.out
############################################################################## ############################################################################## ### ### Running command: ### ### /home/biocbuild/bbs-3.9-bioc/R/bin/R CMD INSTALL InterMineR ### ############################################################################## ############################################################################## * installing to library ‘/home/biocbuild/bbs-3.9-bioc/R/library’ * installing *source* package ‘InterMineR’ ... ** using staged installation ** R ** data *** moving datasets to lazyload DB ** inst ** byte-compile and prepare package for lazy loading ** help *** installing help indices ** building package indices ** installing vignettes ** testing if installed package can be loaded from temporary location ** testing if installed package can be loaded from final location ** testing if installed package keeps a record of temporary installation path * DONE (InterMineR)
InterMineR.Rcheck/InterMineR-Ex.timings
| name | user | system | elapsed | |
| InterMineR-methods | 0.199 | 0.023 | 0.820 | |
| PL_DiabetesGenes | 0.003 | 0.000 | 0.003 | |
| PL_FlyTF_site_specific_TFs | 0.001 | 0.000 | 0.001 | |
| convertToGRanges | 0.853 | 0.060 | 2.241 | |
| convertToGeneAnswers | 18.650 | 0.228 | 29.651 | |
| convertToRangedSummarizedExperiment | 4.010 | 0.012 | 8.659 | |
| doEnrichment | 7.049 | 0.035 | 138.495 | |
| getDatasets | 0.143 | 0.000 | 1.223 | |
| getGeneIds | 0.612 | 0.016 | 3.283 | |
| getModel | 0 | 0 | 0 | |
| getRelease | 0.034 | 0.000 | 0.299 | |
| getTemplateQuery | 0.024 | 0.004 | 0.333 | |
| getTemplates | 0.048 | 0.000 | 0.518 | |
| getVersion | 0.031 | 0.000 | 0.310 | |
| getWidgets | 0.073 | 0.000 | 0.617 | |
| initInterMine | 0.017 | 0.000 | 0.190 | |
| listDatasets | 0.001 | 0.000 | 0.000 | |
| listMines | 0.014 | 0.004 | 0.200 | |
| newQuery | 0 | 0 | 0 | |
| runQuery | 2.838 | 0.004 | 7.562 | |
| setConstraints | 0.042 | 0.004 | 0.530 | |
| setQuery | 0.047 | 0.000 | 0.496 | |
| simplifyResult | 10.818 | 0.016 | 12.923 | |
| summary | 0.040 | 0.000 | 0.338 | |