| Back to Multiple platform build/check report for BioC 3.9 |
|
This page was generated on 2019-10-16 12:05:40 -0400 (Wed, 16 Oct 2019).
| Package 808/1741 | Hostname | OS / Arch | INSTALL | BUILD | CHECK | BUILD BIN | ||||||
| IMPCdata 1.20.0 Jeremy Mason
| malbec2 | Linux (Ubuntu 18.04.2 LTS) / x86_64 | OK | OK | [ OK ] | |||||||
| tokay2 | Windows Server 2012 R2 Standard / x64 | OK | OK | OK | OK | |||||||
| celaya2 | OS X 10.11.6 El Capitan / x86_64 | OK | OK | OK | OK |
| Package: IMPCdata |
| Version: 1.20.0 |
| Command: /home/biocbuild/bbs-3.9-bioc/R/bin/R CMD check --install=check:IMPCdata.install-out.txt --library=/home/biocbuild/bbs-3.9-bioc/R/library --no-vignettes --timings IMPCdata_1.20.0.tar.gz |
| StartedAt: 2019-10-16 02:30:04 -0400 (Wed, 16 Oct 2019) |
| EndedAt: 2019-10-16 02:31:51 -0400 (Wed, 16 Oct 2019) |
| EllapsedTime: 107.7 seconds |
| RetCode: 0 |
| Status: OK |
| CheckDir: IMPCdata.Rcheck |
| Warnings: 0 |
##############################################################################
##############################################################################
###
### Running command:
###
### /home/biocbuild/bbs-3.9-bioc/R/bin/R CMD check --install=check:IMPCdata.install-out.txt --library=/home/biocbuild/bbs-3.9-bioc/R/library --no-vignettes --timings IMPCdata_1.20.0.tar.gz
###
##############################################################################
##############################################################################
* using log directory ‘/home/biocbuild/bbs-3.9-bioc/meat/IMPCdata.Rcheck’
* using R version 3.6.1 (2019-07-05)
* using platform: x86_64-pc-linux-gnu (64-bit)
* using session charset: UTF-8
* using option ‘--no-vignettes’
* checking for file ‘IMPCdata/DESCRIPTION’ ... OK
* checking extension type ... Package
* this is package ‘IMPCdata’ version ‘1.20.0’
* checking package namespace information ... OK
* checking package dependencies ... OK
* checking if this is a source package ... OK
* checking if there is a namespace ... OK
* checking for hidden files and directories ... OK
* checking for portable file names ... OK
* checking for sufficient/correct file permissions ... OK
* checking whether package ‘IMPCdata’ can be installed ... OK
* checking installed package size ... OK
* checking package directory ... OK
* checking ‘build’ directory ... OK
* checking DESCRIPTION meta-information ... OK
* checking top-level files ... OK
* checking for left-over files ... OK
* checking index information ... OK
* checking package subdirectories ... OK
* checking R files for non-ASCII characters ... OK
* checking R files for syntax errors ... OK
* checking whether the package can be loaded ... OK
* checking whether the package can be loaded with stated dependencies ... OK
* checking whether the package can be unloaded cleanly ... OK
* checking whether the namespace can be loaded with stated dependencies ... OK
* checking whether the namespace can be unloaded cleanly ... OK
* checking dependencies in R code ... OK
* checking S3 generic/method consistency ... OK
* checking replacement functions ... OK
* checking foreign function calls ... OK
* checking R code for possible problems ... OK
* checking Rd files ... OK
* checking Rd metadata ... OK
* checking Rd cross-references ... OK
* checking for missing documentation entries ... OK
* checking for code/documentation mismatches ... OK
* checking Rd \usage sections ... OK
* checking Rd contents ... OK
* checking for unstated dependencies in examples ... OK
* checking files in ‘vignettes’ ... OK
* checking examples ... OK
Examples with CPU or elapsed time > 5s
user system elapsed
getPhenCenters 1.038 0.052 13.691
getIMPCDataset 0.901 0.020 7.705
printStrains 0.814 0.056 9.605
getStrains 0.832 0.032 9.487
getProcedures 0.507 0.013 5.709
printPipelines 0.395 0.005 5.098
* checking for unstated dependencies in vignettes ... OK
* checking package vignettes in ‘inst/doc’ ... OK
* checking running R code from vignettes ... SKIPPED
* checking re-building of vignette outputs ... SKIPPED
* checking PDF version of manual ... OK
* DONE
Status: OK
IMPCdata.Rcheck/00install.out
############################################################################## ############################################################################## ### ### Running command: ### ### /home/biocbuild/bbs-3.9-bioc/R/bin/R CMD INSTALL IMPCdata ### ############################################################################## ############################################################################## * installing to library ‘/home/biocbuild/bbs-3.9-bioc/R/library’ * installing *source* package ‘IMPCdata’ ... ** using staged installation ** R ** inst ** byte-compile and prepare package for lazy loading ** help *** installing help indices ** building package indices ** installing vignettes ** testing if installed package can be loaded from temporary location ** testing if installed package can be loaded from final location ** testing if installed package keeps a record of temporary installation path * DONE (IMPCdata)
IMPCdata.Rcheck/IMPCdata-Ex.timings
| name | user | system | elapsed | |
| getAlleles | 0.516 | 0.013 | 4.355 | |
| getGenes | 0.447 | 0.036 | 3.536 | |
| getIMPCDataset | 0.901 | 0.020 | 7.705 | |
| getIMPCTable | 0.323 | 0.020 | 2.998 | |
| getName | 0.070 | 0.004 | 0.808 | |
| getParameters | 0.499 | 0.028 | 3.905 | |
| getPhenCenters | 1.038 | 0.052 | 13.691 | |
| getPipelines | 0.412 | 0.022 | 3.587 | |
| getProcedures | 0.507 | 0.013 | 5.709 | |
| getStrains | 0.832 | 0.032 | 9.487 | |
| getZygosities | 0.085 | 0.004 | 0.609 | |
| printAlleles | 0.452 | 0.016 | 3.765 | |
| printGenes | 0.487 | 0.039 | 3.629 | |
| printParameters | 0.514 | 0.008 | 4.065 | |
| printPhenCenters | 0.152 | 0.008 | 4.238 | |
| printPipelines | 0.395 | 0.005 | 5.098 | |
| printProcedures | 0.455 | 0.028 | 4.862 | |
| printStrains | 0.814 | 0.056 | 9.605 | |