| Back to Multiple platform build/check report for BioC 3.9 |
|
This page was generated on 2019-10-16 11:57:10 -0400 (Wed, 16 Oct 2019).
| Package 760/1741 | Hostname | OS / Arch | INSTALL | BUILD | CHECK | BUILD BIN | ||||||
| HilbertVisGUI 1.42.0 Simon Anders
| malbec2 | Linux (Ubuntu 18.04.2 LTS) / x86_64 | OK | OK | [ OK ] | |||||||
| tokay2 | Windows Server 2012 R2 Standard / x64 | OK | OK | WARNINGS | OK | |||||||
| celaya2 | OS X 10.11.6 El Capitan / x86_64 | ...NOT SUPPORTED... | ||||||||||
| Package: HilbertVisGUI |
| Version: 1.42.0 |
| Command: /home/biocbuild/bbs-3.9-bioc/R/bin/R CMD check --install=check:HilbertVisGUI.install-out.txt --library=/home/biocbuild/bbs-3.9-bioc/R/library --no-vignettes --timings HilbertVisGUI_1.42.0.tar.gz |
| StartedAt: 2019-10-16 02:21:42 -0400 (Wed, 16 Oct 2019) |
| EndedAt: 2019-10-16 02:22:06 -0400 (Wed, 16 Oct 2019) |
| EllapsedTime: 23.4 seconds |
| RetCode: 0 |
| Status: OK |
| CheckDir: HilbertVisGUI.Rcheck |
| Warnings: 0 |
##############################################################################
##############################################################################
###
### Running command:
###
### /home/biocbuild/bbs-3.9-bioc/R/bin/R CMD check --install=check:HilbertVisGUI.install-out.txt --library=/home/biocbuild/bbs-3.9-bioc/R/library --no-vignettes --timings HilbertVisGUI_1.42.0.tar.gz
###
##############################################################################
##############################################################################
* using log directory ‘/home/biocbuild/bbs-3.9-bioc/meat/HilbertVisGUI.Rcheck’
* using R version 3.6.1 (2019-07-05)
* using platform: x86_64-pc-linux-gnu (64-bit)
* using session charset: UTF-8
* using option ‘--no-vignettes’
* checking for file ‘HilbertVisGUI/DESCRIPTION’ ... OK
* this is package ‘HilbertVisGUI’ version ‘1.42.0’
* checking package namespace information ... OK
* checking package dependencies ... OK
* checking if this is a source package ... OK
* checking if there is a namespace ... OK
* checking for hidden files and directories ... NOTE
Found the following hidden files and directories:
.BBSoptions
These were most likely included in error. See section ‘Package
structure’ in the ‘Writing R Extensions’ manual.
* checking for portable file names ... OK
* checking for sufficient/correct file permissions ... OK
* checking whether package ‘HilbertVisGUI’ can be installed ... OK
* checking installed package size ... OK
* checking package directory ... OK
* checking ‘build’ directory ... OK
* checking DESCRIPTION meta-information ... NOTE
Malformed Description field: should contain one or more complete sentences.
* checking top-level files ... OK
* checking for left-over files ... OK
* checking index information ... OK
* checking package subdirectories ... OK
* checking R files for non-ASCII characters ... OK
* checking R files for syntax errors ... OK
* checking whether the package can be loaded ... OK
* checking whether the package can be loaded with stated dependencies ... OK
* checking whether the package can be unloaded cleanly ... OK
* checking whether the namespace can be loaded with stated dependencies ... OK
* checking whether the namespace can be unloaded cleanly ... OK
* checking dependencies in R code ... OK
* checking S3 generic/method consistency ... OK
* checking replacement functions ... OK
* checking foreign function calls ... OK
* checking R code for possible problems ... NOTE
hilbertDisplay: no visible global function definition for
‘colorRampPalette’
hilbertDisplay: no visible global function definition for ‘col2rgb’
hilbertDisplay: no visible global function definition for ‘median’
hilbertDisplayThreeChannel: no visible global function definition for
‘col2rgb’
Undefined global functions or variables:
col2rgb colorRampPalette median
Consider adding
importFrom("grDevices", "col2rgb", "colorRampPalette")
importFrom("stats", "median")
to your NAMESPACE file.
* checking Rd files ... OK
* checking Rd metadata ... OK
* checking Rd cross-references ... OK
* checking for missing documentation entries ... OK
* checking for code/documentation mismatches ... OK
* checking Rd \usage sections ... OK
* checking Rd contents ... OK
* checking for unstated dependencies in examples ... OK
* checking line endings in shell scripts ... OK
* checking line endings in C/C++/Fortran sources/headers ... OK
* checking line endings in Makefiles ... OK
* checking compilation flags in Makevars ... OK
* checking for GNU extensions in Makefiles ... NOTE
GNU make is a SystemRequirements.
* checking for portable use of $(BLAS_LIBS) and $(LAPACK_LIBS) ... OK
* checking include directives in Makefiles ... OK
* checking compiled code ... NOTE
Note: information on .o files is not available
File ‘HilbertVisGUI/libs/HilbertVisGUI.so’:
Found non-API call to R: ‘getInputHandler’
Compiled code should not call non-API entry points in R.
See ‘Writing portable packages’ in the ‘Writing R Extensions’ manual.
* checking files in ‘vignettes’ ... OK
* checking examples ... OK
* checking for unstated dependencies in vignettes ... OK
* checking package vignettes in ‘inst/doc’ ... OK
* checking running R code from vignettes ... SKIPPED
* checking re-building of vignette outputs ... SKIPPED
* checking PDF version of manual ... OK
* DONE
Status: 5 NOTEs
See
‘/home/biocbuild/bbs-3.9-bioc/meat/HilbertVisGUI.Rcheck/00check.log’
for details.
HilbertVisGUI.Rcheck/00install.out
############################################################################## ############################################################################## ### ### Running command: ### ### /home/biocbuild/bbs-3.9-bioc/R/bin/R CMD INSTALL HilbertVisGUI ### ############################################################################## ############################################################################## * installing to library ‘/home/biocbuild/bbs-3.9-bioc/R/library’ * installing *source* package ‘HilbertVisGUI’ ... ** using staged installation Checking for pkg-config... /usr/bin/pkg-config Checking for gtkmm-2.4... found: version 2.24.5 ** libs gcc -I"/home/biocbuild/bbs-3.9-bioc/R/include" -DNDEBUG `pkg-config gtkmm-2.4 --cflags` -DSO_NAME=HilbertVisGUI -DSO_NAME=HilbertVisGUI -I/usr/local/include `pkg-config gtkmm-2.4 --cflags` -DSO_NAME=HilbertVisGUI -DSO_NAME=HilbertVisGUI -fpic -g -O2 -Wall -c R_env_prot.c -o R_env_prot.o g++ -std=gnu++11 -I"/home/biocbuild/bbs-3.9-bioc/R/include" -DNDEBUG `pkg-config gtkmm-2.4 --cflags` -DSO_NAME=HilbertVisGUI -DSO_NAME=HilbertVisGUI -I/usr/local/include -fpic -g -O2 -Wall -c R_interface.cc -o R_interface.o In file included from R_interface.cc:10:0: colorizers.h:42:9: warning: ‘templateclass std::auto_ptr’ is deprecated [-Wdeprecated-declarations] std::auto_ptr data; ^~~~~~~~ In file included from /usr/include/c++/7/memory:80:0, from /usr/include/glibmm-2.4/glibmm/objectbase.h:31, from /usr/include/glibmm-2.4/glibmm/wrap.h:22, from /usr/include/glibmm-2.4/glibmm/containerhandle_shared.h:24, from /usr/include/glibmm-2.4/glibmm/arrayhandle.h:21, from /usr/include/glibmm-2.4/glibmm.h:92, from /usr/include/gtkmm-2.4/gtkmm.h:87, from display.h:7, from R_interface.cc:8: /usr/include/c++/7/bits/unique_ptr.h:51:28: note: declared here template class auto_ptr; ^~~~~~~~ R_interface.cc: In function ‘SEXPREC* R_display_hilbert(SEXP)’: R_interface.cc:510:22: warning: comparison between signed and unsigned integer expressions [-Wsign-compare] for( int i = 0; i < palette_steps->size(); i++ ) ~~^~~~~~~~~~~~~~~~~~~~~~~ R_interface.cc:509:11: warning: unused variable ‘palette_level’ [-Wunused-variable] double palette_level = log( REAL( max_palette_valueR )[ 0 ] ) / log( 10. ) * 4; ^~~~~~~~~~~~~ R_interface.cc: In member function ‘void MainWindowForRForBidir::set_palette_level(double)’: R_interface.cc:702:22: warning: comparison between signed and unsigned integer expressions [-Wsign-compare] for( int i = 0; i < palette_steps->size(); i++ ) ~~^~~~~~~~~~~~~~~~~~~~~~~ R_interface.cc: In member function ‘double RDataVector ::get_bin_value(long int, long int) const [with data_el_t = int]’: R_interface.cc:119:8: warning: ‘val’ may be used uninitialized in this function [-Wmaybe-uninitialized] int val; ^~~ R_interface.cc: In member function ‘double RDataVector ::get_bin_value(long int, long int) const [with data_el_t = double]’: R_interface.cc:219:11: warning: ‘val’ may be used uninitialized in this function [-Wmaybe-uninitialized] val /= count; ~~~~^~~~~~~~ g++ -std=gnu++11 -I"/home/biocbuild/bbs-3.9-bioc/R/include" -DNDEBUG `pkg-config gtkmm-2.4 --cflags` -DSO_NAME=HilbertVisGUI -DSO_NAME=HilbertVisGUI -I/usr/local/include -fpic -g -O2 -Wall -c colorizers.cc -o colorizers.o In file included from colorizers.cc:1:0: colorizers.h:42:9: warning: ‘template class std::auto_ptr’ is deprecated [-Wdeprecated-declarations] std::auto_ptr data; ^~~~~~~~ In file included from /usr/include/c++/7/memory:80:0, from colorizers.h:4, from colorizers.cc:1: /usr/include/c++/7/bits/unique_ptr.h:51:28: note: declared here template class auto_ptr; ^~~~~~~~ g++ -std=gnu++11 -I"/home/biocbuild/bbs-3.9-bioc/R/include" -DNDEBUG `pkg-config gtkmm-2.4 --cflags` -DSO_NAME=HilbertVisGUI -DSO_NAME=HilbertVisGUI -I/usr/local/include -fpic -g -O2 -Wall -c display.cc -o display.o display.cc: In function ‘coord hilbert(long long int, int)’: display.cc:21:46: warning: narrowing conversion of ‘(((long int)c.coord::y) + (1 << (lv - 1)))’ from ‘long int’ to ‘int’ inside { } [-Wnarrowing] case 1: { return (coord) { c.x, c.y + ( 1l << (lv-1) ) }; } ~~~~^~~~~~~~~~~~~~~~~~ display.cc:22:41: warning: narrowing conversion of ‘(((long int)c.coord::x) + (1 << (lv - 1)))’ from ‘long int’ to ‘int’ inside { } [-Wnarrowing] case 2: { return (coord) { c.x + ( 1l << (lv-1) ), c.y + ( 1l << (lv-1) ) }; } ~~~~^~~~~~~~~~~~~~~~~~ display.cc:22:65: warning: narrowing conversion of ‘(((long int)c.coord::y) + (1 << (lv - 1)))’ from ‘long int’ to ‘int’ inside { } [-Wnarrowing] case 2: { return (coord) { c.x + ( 1l << (lv-1) ), c.y + ( 1l << (lv-1) ) }; } ~~~~^~~~~~~~~~~~~~~~~~ display.cc:23:50: warning: narrowing conversion of ‘(((1 << lv) - 1) - ((long int)c.coord::y))’ from ‘long int’ to ‘int’ inside { } [-Wnarrowing] case 3: { return (coord) { (1l< class std::auto_ptr’ is deprecated [-Wdeprecated-declarations] std::auto_ptr data; ^~~~~~~~ In file included from /usr/include/c++/7/memory:80:0, from /usr/include/glibmm-2.4/glibmm/objectbase.h:31, from /usr/include/glibmm-2.4/glibmm/wrap.h:22, from /usr/include/glibmm-2.4/glibmm/containerhandle_shared.h:24, from /usr/include/glibmm-2.4/glibmm/arrayhandle.h:21, from /usr/include/glibmm-2.4/glibmm.h:92, from /usr/include/gtkmm-2.4/gtkmm.h:87, from window.h:5, from window.cc:4: /usr/include/c++/7/bits/unique_ptr.h:51:28: note: declared here template class auto_ptr; ^~~~~~~~ g++ -std=gnu++11 -shared -L/home/biocbuild/bbs-3.9-bioc/R/lib -L/usr/local/lib -o HilbertVisGUI.so R_env_prot.o R_interface.o colorizers.o display.o ruler.o window.o -lgtkmm-2.4 -latkmm-1.6 -lgtk-x11-2.0 -lgdkmm-2.4 -lgiomm-2.4 -lpangomm-1.4 -lglibmm-2.4 -lcairomm-1.0 -lsigc-2.0 -lgtk-x11-2.0 -lgdk-x11-2.0 -lpangocairo-1.0 -latk-1.0 -lcairo -lgdk_pixbuf-2.0 -lgio-2.0 -lpangoft2-1.0 -lpango-1.0 -lgobject-2.0 -lglib-2.0 -lfontconfig -lfreetype -L/home/biocbuild/bbs-3.9-bioc/R/lib -lR installing to /home/biocbuild/bbs-3.9-bioc/R/library/00LOCK-HilbertVisGUI/00new/HilbertVisGUI/libs ** R ** inst ** byte-compile and prepare package for lazy loading ** help *** installing help indices ** building package indices ** installing vignettes ** testing if installed package can be loaded from temporary location ** checking absolute paths in shared objects and dynamic libraries ** testing if installed package can be loaded from final location ** testing if installed package keeps a record of temporary installation path * DONE (HilbertVisGUI)
HilbertVisGUI.Rcheck/HilbertVisGUI-Ex.timings
| name | user | system | elapsed | |
| hilbertDisplay | 0.131 | 0.008 | 0.739 | |