| Back to Multiple platform build/check report for BioC 3.9 |
|
This page was generated on 2019-10-16 12:42:40 -0400 (Wed, 16 Oct 2019).
| Package 753/1741 | Hostname | OS / Arch | INSTALL | BUILD | CHECK | BUILD BIN | ||||||
| HiCBricks 1.2.0 Koustav Pal
| malbec2 | Linux (Ubuntu 18.04.2 LTS) / x86_64 | OK | OK | OK | |||||||
| tokay2 | Windows Server 2012 R2 Standard / x64 | OK | OK | [ OK ] | OK | |||||||
| celaya2 | OS X 10.11.6 El Capitan / x86_64 | OK | OK | OK | OK |
| Package: HiCBricks |
| Version: 1.2.0 |
| Command: C:\Users\biocbuild\bbs-3.9-bioc\R\bin\R.exe CMD check --force-multiarch --install=check:HiCBricks.install-out.txt --library=C:\Users\biocbuild\bbs-3.9-bioc\R\library --no-vignettes --timings HiCBricks_1.2.0.tar.gz |
| StartedAt: 2019-10-16 04:23:33 -0400 (Wed, 16 Oct 2019) |
| EndedAt: 2019-10-16 04:26:45 -0400 (Wed, 16 Oct 2019) |
| EllapsedTime: 192.0 seconds |
| RetCode: 0 |
| Status: OK |
| CheckDir: HiCBricks.Rcheck |
| Warnings: 0 |
##############################################################################
##############################################################################
###
### Running command:
###
### C:\Users\biocbuild\bbs-3.9-bioc\R\bin\R.exe CMD check --force-multiarch --install=check:HiCBricks.install-out.txt --library=C:\Users\biocbuild\bbs-3.9-bioc\R\library --no-vignettes --timings HiCBricks_1.2.0.tar.gz
###
##############################################################################
##############################################################################
* using log directory 'C:/Users/biocbuild/bbs-3.9-bioc/meat/HiCBricks.Rcheck'
* using R version 3.6.1 (2019-07-05)
* using platform: x86_64-w64-mingw32 (64-bit)
* using session charset: ISO8859-1
* using option '--no-vignettes'
* checking for file 'HiCBricks/DESCRIPTION' ... OK
* checking extension type ... Package
* this is package 'HiCBricks' version '1.2.0'
* package encoding: UTF-8
* checking package namespace information ... OK
* checking package dependencies ... OK
* checking if this is a source package ... OK
* checking if there is a namespace ... OK
* checking for hidden files and directories ... OK
* checking for portable file names ... OK
* checking whether package 'HiCBricks' can be installed ... OK
* checking installed package size ... OK
* checking package directory ... OK
* checking 'build' directory ... OK
* checking DESCRIPTION meta-information ... OK
* checking top-level files ... OK
* checking for left-over files ... OK
* checking index information ... OK
* checking package subdirectories ... OK
* checking R files for non-ASCII characters ... OK
* checking R files for syntax errors ... OK
* loading checks for arch 'i386'
** checking whether the package can be loaded ... OK
** checking whether the package can be loaded with stated dependencies ... OK
** checking whether the package can be unloaded cleanly ... OK
** checking whether the namespace can be loaded with stated dependencies ... OK
** checking whether the namespace can be unloaded cleanly ... OK
* loading checks for arch 'x64'
** checking whether the package can be loaded ... OK
** checking whether the package can be loaded with stated dependencies ... OK
** checking whether the package can be unloaded cleanly ... OK
** checking whether the namespace can be loaded with stated dependencies ... OK
** checking whether the namespace can be unloaded cleanly ... OK
* checking dependencies in R code ... OK
* checking S3 generic/method consistency ... OK
* checking replacement functions ... OK
* checking foreign function calls ... OK
* checking R code for possible problems ... NOTE
Brick_get_ranges: no visible global function definition for 'FUN<-'
Undefined global functions or variables:
FUN<-
* checking Rd files ... OK
* checking Rd metadata ... OK
* checking Rd cross-references ... OK
* checking for missing documentation entries ... OK
* checking for code/documentation mismatches ... OK
* checking Rd \usage sections ... OK
* checking Rd contents ... OK
* checking for unstated dependencies in examples ... OK
* checking files in 'vignettes' ... OK
* checking examples ...
** running examples for arch 'i386' ... OK
Examples with CPU or elapsed time > 5s
user system elapsed
Brick_load_matrix 4.31 0.36 5.90
CreateBrick 0.08 0.04 5.95
** running examples for arch 'x64' ... OK
Examples with CPU or elapsed time > 5s
user system elapsed
Brick_load_matrix 3.71 0.18 7.71
Brick_load_cis_matrix_till_distance 3.64 0.19 5.25
* checking for unstated dependencies in vignettes ... OK
* checking package vignettes in 'inst/doc' ... OK
* checking running R code from vignettes ... SKIPPED
* checking re-building of vignette outputs ... SKIPPED
* checking PDF version of manual ... OK
* DONE
Status: 1 NOTE
See
'C:/Users/biocbuild/bbs-3.9-bioc/meat/HiCBricks.Rcheck/00check.log'
for details.
HiCBricks.Rcheck/00install.out
##############################################################################
##############################################################################
###
### Running command:
###
### C:\cygwin\bin\curl.exe -O https://malbec2.bioconductor.org/BBS/3.9/bioc/src/contrib/HiCBricks_1.2.0.tar.gz && rm -rf HiCBricks.buildbin-libdir && mkdir HiCBricks.buildbin-libdir && C:\Users\biocbuild\bbs-3.9-bioc\R\bin\R.exe CMD INSTALL --merge-multiarch --build --library=HiCBricks.buildbin-libdir HiCBricks_1.2.0.tar.gz && C:\Users\biocbuild\bbs-3.9-bioc\R\bin\R.exe CMD INSTALL HiCBricks_1.2.0.zip && rm HiCBricks_1.2.0.tar.gz HiCBricks_1.2.0.zip
###
##############################################################################
##############################################################################
% Total % Received % Xferd Average Speed Time Time Time Current
Dload Upload Total Spent Left Speed
0 0 0 0 0 0 0 0 --:--:-- --:--:-- --:--:-- 0
100 2467k 100 2467k 0 0 19.0M 0 --:--:-- --:--:-- --:--:-- 20.2M
install for i386
* installing *source* package 'HiCBricks' ...
** using staged installation
** R
** inst
** byte-compile and prepare package for lazy loading
** help
*** installing help indices
converting help for package 'HiCBricks'
finding HTML links ... done
Brick_add_ranges html
Brick_fetch_range_index html
Brick_fetch_row_vector html
Brick_get_bintable html
Brick_get_chrominfo html
Brick_get_matrix html
Brick_get_matrix_mcols html
Brick_get_matrix_within_coords html
Brick_get_ranges html
Brick_get_values_by_distance html
Brick_get_vector_values html
Brick_list_matrices html
Brick_list_matrix_mcols html
Brick_list_mcool_normalisations html
Brick_list_mcool_resolutions html
Brick_list_rangekeys html
Brick_list_ranges_mcols html
Brick_load_cis_matrix_till_distance html
Brick_load_data_from_mcool html
Brick_load_matrix html
Brick_local_score_differentiator html
Brick_make_ranges html
Brick_matrix_dimensions html
Brick_matrix_exists html
Brick_matrix_filename html
Brick_matrix_isdone html
Brick_matrix_issparse html
Brick_matrix_maxdist html
Brick_matrix_minmax html
Brick_mcool_normalisation_exists html
Brick_rangekey_exists html
Brick_return_region_position html
Brick_vizart_plot_heatmap html
CreateBrick html
CreateBrick_from_mcool html
HiCBricks html
** building package indices
** installing vignettes
** testing if installed package can be loaded from temporary location
** testing if installed package can be loaded from final location
** testing if installed package keeps a record of temporary installation path
install for x64
* installing *source* package 'HiCBricks' ...
** testing if installed package can be loaded
* MD5 sums
packaged installation of 'HiCBricks' as HiCBricks_1.2.0.zip
* DONE (HiCBricks)
* installing to library 'C:/Users/biocbuild/bbs-3.9-bioc/R/library'
package 'HiCBricks' successfully unpacked and MD5 sums checked
|
HiCBricks.Rcheck/examples_i386/HiCBricks-Ex.timings
|
HiCBricks.Rcheck/examples_x64/HiCBricks-Ex.timings
|