| Back to Multiple platform build/check report for BioC 3.9 |
|
This page was generated on 2019-10-16 12:08:53 -0400 (Wed, 16 Oct 2019).
| Package 741/1741 | Hostname | OS / Arch | INSTALL | BUILD | CHECK | BUILD BIN | ||||||
| Harman 1.12.0 Jason Ross
| malbec2 | Linux (Ubuntu 18.04.2 LTS) / x86_64 | [ OK ] | OK | OK | |||||||
| tokay2 | Windows Server 2012 R2 Standard / x64 | OK | OK | OK | OK | |||||||
| celaya2 | OS X 10.11.6 El Capitan / x86_64 | OK | OK | OK | OK |
| Package: Harman |
| Version: 1.12.0 |
| Command: /home/biocbuild/bbs-3.9-bioc/R/bin/R CMD INSTALL Harman |
| StartedAt: 2019-10-15 18:15:26 -0400 (Tue, 15 Oct 2019) |
| EndedAt: 2019-10-15 18:15:41 -0400 (Tue, 15 Oct 2019) |
| EllapsedTime: 14.7 seconds |
| RetCode: 0 |
| Status: OK |
##############################################################################
##############################################################################
###
### Running command:
###
### /home/biocbuild/bbs-3.9-bioc/R/bin/R CMD INSTALL Harman
###
##############################################################################
##############################################################################
* installing to library ‘/home/biocbuild/bbs-3.9-bioc/R/library’
* installing *source* package ‘Harman’ ...
** using staged installation
** libs
g++ -std=gnu++11 -I"/home/biocbuild/bbs-3.9-bioc/R/include" -DNDEBUG -D_ARRAYALIGNEMT=4 -D_USE_RCPP=1 -I"/home/biocbuild/bbs-3.9-bioc/R/library/Rcpp/include" -I/usr/local/include `/home/biocbuild/bbs-3.9-bioc/R/bin/Rscript -e "Rcpp:::CxxFlags()"` -I. -fpic -g -O2 -Wall -c Harman.cpp -o Harman.o
Harman.cpp: In function ‘SEXPREC* HarmanMain(SEXP, SEXP, SEXP, SEXP, SEXP, SEXP, SEXP)’:
Harman.cpp:3008:3: warning: this ‘else’ clause does not guard... [-Wmisleading-indentation]
else
^~~~
Harman.cpp:3022:5: note: ...this statement, but the latter is misleadingly indented as if it were guarded by the ‘else’
std::vector tr_std_tmp = Rcpp::as >(tr) ;
^~~
In file included from Harman.cpp:182:0:
CSelectRandom.h: In instantiation of ‘std::vector* CSelectRandom::ReturnVectOf32bitIntegersInRange_CSTDLIB(size_t, size_t, size_t, size_t) [with T = double; size_t = long unsigned int]’:
Harman.cpp:1764:117: required from here
CSelectRandom.h:943:20: warning: comparison between signed and unsigned integer expressions [-Wsign-compare]
while (currval < howManyIN)
~~~~~~~~^~~~~~~~~~~
g++ -std=gnu++11 -shared -L/home/biocbuild/bbs-3.9-bioc/R/lib -L/usr/local/lib -o Harman.so Harman.o -L/home/biocbuild/bbs-3.9-bioc/R/lib -lR
installing to /home/biocbuild/bbs-3.9-bioc/R/library/00LOCK-Harman/00new/Harman/libs
** R
** inst
** byte-compile and prepare package for lazy loading
** help
*** installing help indices
** building package indices
** installing vignettes
** testing if installed package can be loaded from temporary location
** checking absolute paths in shared objects and dynamic libraries
** testing if installed package can be loaded from final location
** testing if installed package keeps a record of temporary installation path
* DONE (Harman)