| Back to Multiple platform build/check report for BioC 3.9 |
|
This page was generated on 2019-10-16 12:47:44 -0400 (Wed, 16 Oct 2019).
| Package 656/1741 | Hostname | OS / Arch | INSTALL | BUILD | CHECK | BUILD BIN | ||||||
| GenomicFeatures 1.36.4 Bioconductor Package Maintainer
| malbec2 | Linux (Ubuntu 18.04.2 LTS) / x86_64 | OK | OK | ERROR | |||||||
| tokay2 | Windows Server 2012 R2 Standard / x64 | OK | OK | WARNINGS | OK | |||||||
| celaya2 | OS X 10.11.6 El Capitan / x86_64 | OK | [ OK ] | OK | OK |
| Package: GenomicFeatures |
| Version: 1.36.4 |
| Command: /Library/Frameworks/R.framework/Versions/Current/Resources/bin/R CMD build --keep-empty-dirs --no-resave-data GenomicFeatures |
| StartedAt: 2019-10-15 20:04:12 -0400 (Tue, 15 Oct 2019) |
| EndedAt: 2019-10-15 20:06:19 -0400 (Tue, 15 Oct 2019) |
| EllapsedTime: 127.0 seconds |
| RetCode: 0 |
| Status: OK |
| PackageFile: GenomicFeatures_1.36.4.tar.gz |
| PackageFileSize: 1.31 MiB |
############################################################################## ############################################################################## ### ### Running command: ### ### /Library/Frameworks/R.framework/Versions/Current/Resources/bin/R CMD build --keep-empty-dirs --no-resave-data GenomicFeatures ### ############################################################################## ############################################################################## * checking for file ‘GenomicFeatures/DESCRIPTION’ ... OK * preparing ‘GenomicFeatures’: * checking DESCRIPTION meta-information ... OK * installing the package to build vignettes * creating vignettes ... OK * checking for LF line-endings in source and make files and shell scripts * checking for empty or unneeded directories * building ‘GenomicFeatures_1.36.4.tar.gz’