| Back to Multiple platform build/check report for BioC 3.9 |
|
This page was generated on 2019-10-16 12:35:30 -0400 (Wed, 16 Oct 2019).
| Package 648/1741 | Hostname | OS / Arch | INSTALL | BUILD | CHECK | BUILD BIN | ||||||
| GenoGAM 2.2.0 Georg Stricker
| malbec2 | Linux (Ubuntu 18.04.2 LTS) / x86_64 | OK | OK | WARNINGS | |||||||
| tokay2 | Windows Server 2012 R2 Standard / x64 | OK | OK | WARNINGS | [ OK ] | |||||||
| celaya2 | OS X 10.11.6 El Capitan / x86_64 | OK | OK | WARNINGS | OK |
| Package: GenoGAM |
| Version: 2.2.0 |
| Command: rm -rf GenoGAM.buildbin-libdir && mkdir GenoGAM.buildbin-libdir && C:\Users\biocbuild\bbs-3.9-bioc\R\bin\R.exe CMD INSTALL --merge-multiarch --build --library=GenoGAM.buildbin-libdir GenoGAM_2.2.0.tar.gz |
| StartedAt: 2019-10-16 09:18:13 -0400 (Wed, 16 Oct 2019) |
| EndedAt: 2019-10-16 09:20:50 -0400 (Wed, 16 Oct 2019) |
| EllapsedTime: 157.0 seconds |
| RetCode: 0 |
| Status: OK |
| PackageFile: GenoGAM_2.2.0.zip |
| PackageFileSize: 5.226 MiB |
##############################################################################
##############################################################################
###
### Running command:
###
### rm -rf GenoGAM.buildbin-libdir && mkdir GenoGAM.buildbin-libdir && C:\Users\biocbuild\bbs-3.9-bioc\R\bin\R.exe CMD INSTALL --merge-multiarch --build --library=GenoGAM.buildbin-libdir GenoGAM_2.2.0.tar.gz
###
##############################################################################
##############################################################################
install for i386
* installing *source* package 'GenoGAM' ...
** using staged installation
** libs
C:/Rtools/mingw_32/bin/g++ -std=gnu++11 -I"C:/Users/BIOCBU~1/BBS-3~1.9-B/R/include" -DNDEBUG -I../inst/include -DARMA_64BIT_WORD=1 -I"C:/Users/biocbuild/bbs-3.9-bioc/R/library/Rcpp/include" -I"C:/Users/biocbuild/bbs-3.9-bioc/R/library/RcppArmadillo/include" -I"C:/extsoft/include" -fopenmp -O2 -Wall -mtune=generic -c RcppExports.cpp -o RcppExports.o
C:/Rtools/mingw_32/bin/g++ -std=gnu++11 -I"C:/Users/BIOCBU~1/BBS-3~1.9-B/R/include" -DNDEBUG -I../inst/include -DARMA_64BIT_WORD=1 -I"C:/Users/biocbuild/bbs-3.9-bioc/R/library/Rcpp/include" -I"C:/Users/biocbuild/bbs-3.9-bioc/R/library/RcppArmadillo/include" -I"C:/extsoft/include" -fopenmp -O2 -Wall -mtune=generic -c matrixMult.cpp -o matrixMult.o
C:/Rtools/mingw_32/bin/g++ -shared -s -static-libgcc -o GenoGAM.dll tmp.def RcppExports.o matrixMult.o -fopenmp -LC:/Users/BIOCBU~1/BBS-3~1.9-B/R/bin/i386 -lRlapack -LC:/Users/BIOCBU~1/BBS-3~1.9-B/R/bin/i386 -lRblas -lgfortran -lm -lquadmath -LC:/extsoft/lib/i386 -LC:/extsoft/lib -LC:/Users/BIOCBU~1/BBS-3~1.9-B/R/bin/i386 -lR
installing to C:/Users/biocbuild/bbs-3.9-bioc/meat/GenoGAM.buildbin-libdir/00LOCK-GenoGAM/00new/GenoGAM/libs/i386
** R
** inst
** byte-compile and prepare package for lazy loading
** help
*** installing help indices
converting help for package 'GenoGAM'
finding HTML links ... done
Coordinates-class html
GenoGAM-class html
GenoGAM html
GenoGAMDataSet-class html
Rd warning: C:/Users/biocbuild/bbs-3.9-bioc/tmpdir/RtmpmmSDGd/R.INSTALL2a1c672272de/GenoGAM/man/GenoGAMDataSet-class.Rd:139: file link 'GenoGAMSettings' in package 'GenoGAM' does not exist and so has been treated as a topic
GenoGAMDataSet-metrics html
GenoGAMDataSet-subsetting html
GenoGAMDataSetList-class html
GenoGAMDataSetList-metrics html
GenoGAMDataSetList-subsetting html
GenoGAMFamily-class html
GenoGAMList-class html
GenoGAMList-subsetting html
GenoGAMSettings-class html
asCoordinates html
callPeaks html
computeRegionSignificance html
computeSignificance html
computeSizeFactors html
fitGenoGAM html
makeTestGenoGAM html
makeTestGenoGAMDataSet html
makeTestGenoGAMDataSetList html
makeTestGenoGAMList html
plotGenoGAM html
readData html
writeToBEDFile html
** building package indices
** installing vignettes
** testing if installed package can be loaded from temporary location
** testing if installed package can be loaded from final location
** testing if installed package keeps a record of temporary installation path
install for x64
* installing *source* package 'GenoGAM' ...
** libs
C:/Rtools/mingw_64/bin/g++ -std=gnu++11 -I"C:/Users/BIOCBU~1/BBS-3~1.9-B/R/include" -DNDEBUG -I../inst/include -DARMA_64BIT_WORD=1 -I"C:/Users/biocbuild/bbs-3.9-bioc/R/library/Rcpp/include" -I"C:/Users/biocbuild/bbs-3.9-bioc/R/library/RcppArmadillo/include" -I"C:/extsoft/include" -fopenmp -O2 -Wall -mtune=generic -c RcppExports.cpp -o RcppExports.o
C:/Rtools/mingw_64/bin/g++ -std=gnu++11 -I"C:/Users/BIOCBU~1/BBS-3~1.9-B/R/include" -DNDEBUG -I../inst/include -DARMA_64BIT_WORD=1 -I"C:/Users/biocbuild/bbs-3.9-bioc/R/library/Rcpp/include" -I"C:/Users/biocbuild/bbs-3.9-bioc/R/library/RcppArmadillo/include" -I"C:/extsoft/include" -fopenmp -O2 -Wall -mtune=generic -c matrixMult.cpp -o matrixMult.o
C:/Rtools/mingw_64/bin/g++ -shared -s -static-libgcc -o GenoGAM.dll tmp.def RcppExports.o matrixMult.o -fopenmp -LC:/Users/BIOCBU~1/BBS-3~1.9-B/R/bin/x64 -lRlapack -LC:/Users/BIOCBU~1/BBS-3~1.9-B/R/bin/x64 -lRblas -lgfortran -lm -lquadmath -LC:/extsoft/lib/x64 -LC:/extsoft/lib -LC:/Users/BIOCBU~1/BBS-3~1.9-B/R/bin/x64 -lR
installing to C:/Users/biocbuild/bbs-3.9-bioc/meat/GenoGAM.buildbin-libdir/GenoGAM/libs/x64
** testing if installed package can be loaded
* MD5 sums
packaged installation of 'GenoGAM' as GenoGAM_2.2.0.zip
* DONE (GenoGAM)