| Back to Multiple platform build/check report for BioC 3.9 | 
 | 
This page was generated on 2019-10-16 12:26:49 -0400 (Wed, 16 Oct 2019).
| Package 632/1741 | Hostname | OS / Arch | INSTALL | BUILD | CHECK | BUILD BIN | ||||||
| GeneNetworkBuilder 1.26.1 Jianhong Ou 
 | malbec2 | Linux (Ubuntu 18.04.2 LTS) / x86_64 | OK | OK | OK |  | ||||||
| tokay2 | Windows Server 2012 R2 Standard / x64 | [ OK ] | OK | OK | OK |  | ||||||
| celaya2 | OS X 10.11.6 El Capitan / x86_64 | OK | OK | OK | OK |  | 
| Package: GeneNetworkBuilder | 
| Version: 1.26.1 | 
| Command: C:\cygwin\bin\curl.exe -O https://malbec2.bioconductor.org/BBS/3.9/bioc/src/contrib/GeneNetworkBuilder_1.26.1.tar.gz && rm -rf GeneNetworkBuilder.buildbin-libdir && mkdir GeneNetworkBuilder.buildbin-libdir && C:\Users\biocbuild\bbs-3.9-bioc\R\bin\R.exe CMD INSTALL --merge-multiarch --build --library=GeneNetworkBuilder.buildbin-libdir GeneNetworkBuilder_1.26.1.tar.gz && C:\Users\biocbuild\bbs-3.9-bioc\R\bin\R.exe CMD INSTALL GeneNetworkBuilder_1.26.1.zip && rm GeneNetworkBuilder_1.26.1.tar.gz GeneNetworkBuilder_1.26.1.zip | 
| StartedAt: 2019-10-15 19:50:00 -0400 (Tue, 15 Oct 2019) | 
| EndedAt: 2019-10-15 19:51:24 -0400 (Tue, 15 Oct 2019) | 
| EllapsedTime: 83.9 seconds | 
| RetCode: 0 | 
| Status: OK | 
##############################################################################
##############################################################################
###
### Running command:
###
###   C:\cygwin\bin\curl.exe -O https://malbec2.bioconductor.org/BBS/3.9/bioc/src/contrib/GeneNetworkBuilder_1.26.1.tar.gz && rm -rf GeneNetworkBuilder.buildbin-libdir && mkdir GeneNetworkBuilder.buildbin-libdir && C:\Users\biocbuild\bbs-3.9-bioc\R\bin\R.exe CMD INSTALL --merge-multiarch --build --library=GeneNetworkBuilder.buildbin-libdir GeneNetworkBuilder_1.26.1.tar.gz && C:\Users\biocbuild\bbs-3.9-bioc\R\bin\R.exe CMD INSTALL GeneNetworkBuilder_1.26.1.zip && rm GeneNetworkBuilder_1.26.1.tar.gz GeneNetworkBuilder_1.26.1.zip
###
##############################################################################
##############################################################################
  % Total    % Received % Xferd  Average Speed   Time    Time     Time  Current
                                 Dload  Upload   Total   Spent    Left  Speed
  0     0    0     0    0     0      0      0 --:--:-- --:--:-- --:--:--     0
100 4145k  100 4145k    0     0  44.5M      0 --:--:-- --:--:-- --:--:-- 48.1M
install for i386
* installing *source* package 'GeneNetworkBuilder' ...
** using staged installation
** libs
C:/Rtools/mingw_32/bin/g++  -I"C:/Users/BIOCBU~1/BBS-3~1.9-B/R/include" -DNDEBUG  -I"C:/Users/biocbuild/bbs-3.9-bioc/R/library/Rcpp/include"   -I"C:/extsoft/include"     -O2 -Wall  -mtune=generic -c geneTree.cpp -o geneTree.o
C:/Rtools/mingw_32/bin/g++  -I"C:/Users/BIOCBU~1/BBS-3~1.9-B/R/include" -DNDEBUG  -I"C:/Users/biocbuild/bbs-3.9-bioc/R/library/Rcpp/include"   -I"C:/extsoft/include"     -O2 -Wall  -mtune=generic -c nodefilter.cpp -o nodefilter.o
C:/Rtools/mingw_32/bin/gcc  -I"C:/Users/BIOCBU~1/BBS-3~1.9-B/R/include" -DNDEBUG  -I"C:/Users/biocbuild/bbs-3.9-bioc/R/library/Rcpp/include"   -I"C:/extsoft/include"     -O3 -Wall  -std=gnu99 -mtune=generic -c registerDynamicSymbol.c -o registerDynamicSymbol.o
C:/Rtools/mingw_32/bin/g++ -shared -s -static-libgcc -o GeneNetworkBuilder.dll tmp.def geneTree.o nodefilter.o registerDynamicSymbol.o -LC:/extsoft/lib/i386 -LC:/extsoft/lib -LC:/Users/BIOCBU~1/BBS-3~1.9-B/R/bin/i386 -lR
installing to C:/Users/biocbuild/bbs-3.9-bioc/meat/GeneNetworkBuilder.buildbin-libdir/00LOCK-GeneNetworkBuilder/00new/GeneNetworkBuilder/libs/i386
** R
** data
** inst
** byte-compile and prepare package for lazy loading
** help
*** installing help indices
  converting help for package 'GeneNetworkBuilder'
    finding HTML links ... done
    GeneNetworkBuilder-package              html  
    browseNetwork-shiny                     html  
    browseNetwork                           html  
    buildNetwork                            html  
    ce.IDsMap                               html  
    ce.interactionmap                       html  
    ce.mapIDs                               html  
    ce.miRNA.map                            html  
    convertID                               html  
    example.data                            html  
    exportNetwork                           html  
    filterNetwork                           html  
    hs.IDsMap                               html  
    hs.interactionmap                       html  
    hs.mapIDs                               html  
    hs.miRNA.map                            html  
    networkFromGenes                        html  
    polishNetwork                           html  
    saveXGMML                               html  
    uniqueExprsData                         html  
** building package indices
** installing vignettes
** testing if installed package can be loaded from temporary location
** testing if installed package can be loaded from final location
** testing if installed package keeps a record of temporary installation path
install for x64
* installing *source* package 'GeneNetworkBuilder' ...
** libs
C:/Rtools/mingw_64/bin/g++  -I"C:/Users/BIOCBU~1/BBS-3~1.9-B/R/include" -DNDEBUG  -I"C:/Users/biocbuild/bbs-3.9-bioc/R/library/Rcpp/include"   -I"C:/extsoft/include"     -O2 -Wall  -mtune=generic -c geneTree.cpp -o geneTree.o
C:/Rtools/mingw_64/bin/g++  -I"C:/Users/BIOCBU~1/BBS-3~1.9-B/R/include" -DNDEBUG  -I"C:/Users/biocbuild/bbs-3.9-bioc/R/library/Rcpp/include"   -I"C:/extsoft/include"     -O2 -Wall  -mtune=generic -c nodefilter.cpp -o nodefilter.o
C:/Rtools/mingw_64/bin/gcc  -I"C:/Users/BIOCBU~1/BBS-3~1.9-B/R/include" -DNDEBUG  -I"C:/Users/biocbuild/bbs-3.9-bioc/R/library/Rcpp/include"   -I"C:/extsoft/include"     -O2 -Wall  -std=gnu99 -mtune=generic -c registerDynamicSymbol.c -o registerDynamicSymbol.o
C:/Rtools/mingw_64/bin/g++ -shared -s -static-libgcc -o GeneNetworkBuilder.dll tmp.def geneTree.o nodefilter.o registerDynamicSymbol.o -LC:/extsoft/lib/x64 -LC:/extsoft/lib -LC:/Users/BIOCBU~1/BBS-3~1.9-B/R/bin/x64 -lR
installing to C:/Users/biocbuild/bbs-3.9-bioc/meat/GeneNetworkBuilder.buildbin-libdir/GeneNetworkBuilder/libs/x64
** testing if installed package can be loaded
* MD5 sums
packaged installation of 'GeneNetworkBuilder' as GeneNetworkBuilder_1.26.1.zip
* DONE (GeneNetworkBuilder)
* installing to library 'C:/Users/biocbuild/bbs-3.9-bioc/R/library'
package 'GeneNetworkBuilder' successfully unpacked and MD5 sums checked