| Back to Multiple platform build/check report for BioC 3.9 |
|
This page was generated on 2019-10-16 12:57:06 -0400 (Wed, 16 Oct 2019).
| Package 667/1741 | Hostname | OS / Arch | INSTALL | BUILD | CHECK | BUILD BIN | ||||||
| GenVisR 1.16.1 Zachary Skidmore
| malbec2 | Linux (Ubuntu 18.04.2 LTS) / x86_64 | OK | OK | OK | |||||||
| tokay2 | Windows Server 2012 R2 Standard / x64 | OK | OK | OK | OK | |||||||
| celaya2 | OS X 10.11.6 El Capitan / x86_64 | OK | OK | [ OK ] | OK |
| Package: GenVisR |
| Version: 1.16.1 |
| Command: /Library/Frameworks/R.framework/Versions/Current/Resources/bin/R CMD check --install=check:GenVisR.install-out.txt --library=/Library/Frameworks/R.framework/Versions/Current/Resources/library --no-vignettes --timings GenVisR_1.16.1.tar.gz |
| StartedAt: 2019-10-16 03:13:07 -0400 (Wed, 16 Oct 2019) |
| EndedAt: 2019-10-16 03:25:31 -0400 (Wed, 16 Oct 2019) |
| EllapsedTime: 743.9 seconds |
| RetCode: 0 |
| Status: OK |
| CheckDir: GenVisR.Rcheck |
| Warnings: 0 |
##############################################################################
##############################################################################
###
### Running command:
###
### /Library/Frameworks/R.framework/Versions/Current/Resources/bin/R CMD check --install=check:GenVisR.install-out.txt --library=/Library/Frameworks/R.framework/Versions/Current/Resources/library --no-vignettes --timings GenVisR_1.16.1.tar.gz
###
##############################################################################
##############################################################################
* using log directory ‘/Users/biocbuild/bbs-3.9-bioc/meat/GenVisR.Rcheck’
* using R version 3.6.1 (2019-07-05)
* using platform: x86_64-apple-darwin15.6.0 (64-bit)
* using session charset: UTF-8
* using option ‘--no-vignettes’
* checking for file ‘GenVisR/DESCRIPTION’ ... OK
* this is package ‘GenVisR’ version ‘1.16.1’
* checking package namespace information ... OK
* checking package dependencies ... OK
* checking if this is a source package ... OK
* checking if there is a namespace ... OK
* checking for hidden files and directories ... OK
* checking for portable file names ... OK
* checking for sufficient/correct file permissions ... OK
* checking whether package ‘GenVisR’ can be installed ... OK
* checking installed package size ... OK
* checking package directory ... OK
* checking ‘build’ directory ... OK
* checking DESCRIPTION meta-information ... OK
* checking top-level files ... OK
* checking for left-over files ... OK
* checking index information ... OK
* checking package subdirectories ... OK
* checking R files for non-ASCII characters ... OK
* checking R files for syntax errors ... OK
* checking whether the package can be loaded ... OK
* checking whether the package can be loaded with stated dependencies ... OK
* checking whether the package can be unloaded cleanly ... OK
* checking whether the namespace can be loaded with stated dependencies ... OK
* checking whether the namespace can be unloaded cleanly ... OK
* checking dependencies in R code ... NOTE
Namespace in Imports field not imported from: ‘reshape2’
All declared Imports should be used.
* checking S3 generic/method consistency ... OK
* checking replacement functions ... OK
* checking foreign function calls ... OK
* checking R code for possible problems ... NOTE
setTierTwo,data.table : a: no visible binding for global variable ‘tmp’
toLolliplot,GMS: no visible binding for global variable ‘missingINdex’
Undefined global functions or variables:
missingINdex tmp
* checking Rd files ... OK
* checking Rd metadata ... OK
* checking Rd cross-references ... OK
* checking for missing documentation entries ... OK
* checking for code/documentation mismatches ... OK
* checking Rd \usage sections ... OK
* checking Rd contents ... OK
* checking for unstated dependencies in examples ... OK
* checking contents of ‘data’ directory ... OK
* checking data for non-ASCII characters ... OK
* checking data for ASCII and uncompressed saves ... OK
* checking files in ‘vignettes’ ... OK
* checking examples ... OK
Examples with CPU or elapsed time > 5s
user system elapsed
Lolliplot-class 43.566 11.458 45.177
genCov 12.721 0.908 13.634
cnFreq 8.447 0.093 8.542
lohSpec 6.144 0.179 6.324
geneViz 5.154 0.202 5.362
cnSpec 5.047 0.096 5.145
lolliplot 4.063 0.069 11.291
* checking for unstated dependencies in ‘tests’ ... OK
* checking tests ...
Running ‘testthat.R’
OK
* checking for unstated dependencies in vignettes ... OK
* checking package vignettes in ‘inst/doc’ ... OK
* checking running R code from vignettes ... SKIPPED
* checking re-building of vignette outputs ... SKIPPED
* checking PDF version of manual ... OK
* DONE
Status: 2 NOTEs
See
‘/Users/biocbuild/bbs-3.9-bioc/meat/GenVisR.Rcheck/00check.log’
for details.
GenVisR.Rcheck/00install.out
############################################################################## ############################################################################## ### ### Running command: ### ### /Library/Frameworks/R.framework/Versions/Current/Resources/bin/R CMD INSTALL GenVisR ### ############################################################################## ############################################################################## * installing to library ‘/Library/Frameworks/R.framework/Versions/3.6/Resources/library’ * installing *source* package ‘GenVisR’ ... ** using staged installation ** R ** data *** moving datasets to lazyload DB ** inst ** byte-compile and prepare package for lazy loading ** help *** installing help indices ** building package indices ** installing vignettes ** testing if installed package can be loaded from temporary location ** testing if installed package can be loaded from final location ** testing if installed package keeps a record of temporary installation path * DONE (GenVisR)
GenVisR.Rcheck/tests/testthat.Rout
R version 3.6.1 (2019-07-05) -- "Action of the Toes"
Copyright (C) 2019 The R Foundation for Statistical Computing
Platform: x86_64-apple-darwin15.6.0 (64-bit)
R is free software and comes with ABSOLUTELY NO WARRANTY.
You are welcome to redistribute it under certain conditions.
Type 'license()' or 'licence()' for distribution details.
R is a collaborative project with many contributors.
Type 'contributors()' for more information and
'citation()' on how to cite R or R packages in publications.
Type 'demo()' for some demos, 'help()' for on-line help, or
'help.start()' for an HTML browser interface to help.
Type 'q()' to quit R.
> library(testthat)
> library(GenVisR)
>
> test_check("GenVisR")
══ testthat results ═══════════════════════════════════════════════════════════
[ OK: 651 | SKIPPED: 54 | WARNINGS: 11 | FAILED: 0 ]
>
> proc.time()
user system elapsed
207.786 47.408 217.085
GenVisR.Rcheck/GenVisR-Ex.timings
| name | user | system | elapsed | |
| Lolliplot-class | 43.566 | 11.458 | 45.177 | |
| TvTi | 3.517 | 0.054 | 3.573 | |
| Waterfall-class | 2.015 | 1.067 | 1.057 | |
| cnFreq | 8.447 | 0.093 | 8.542 | |
| cnSpec | 5.047 | 0.096 | 5.145 | |
| cnView | 1.057 | 0.034 | 1.091 | |
| compIdent | 3.080 | 0.267 | 3.348 | |
| covBars | 1.049 | 0.010 | 1.060 | |
| genCov | 12.721 | 0.908 | 13.634 | |
| geneViz | 5.154 | 0.202 | 5.362 | |
| ideoView | 0.733 | 0.039 | 0.772 | |
| lohSpec | 6.144 | 0.179 | 6.324 | |
| lohView | 1.279 | 0.011 | 1.291 | |
| lolliplot | 4.063 | 0.069 | 11.291 | |
| waterfall | 1.607 | 0.004 | 1.612 | |