| Back to Multiple platform build/check report for BioC 3.9 |
|
This page was generated on 2019-10-16 12:21:44 -0400 (Wed, 16 Oct 2019).
| Package 727/1741 | Hostname | OS / Arch | INSTALL | BUILD | CHECK | BUILD BIN | ||||||
| GSEAlm 1.44.0 Assaf Oron
| malbec2 | Linux (Ubuntu 18.04.2 LTS) / x86_64 | OK | OK | OK | |||||||
| tokay2 | Windows Server 2012 R2 Standard / x64 | [ OK ] | OK | OK | OK | |||||||
| celaya2 | OS X 10.11.6 El Capitan / x86_64 | OK | OK | OK | OK |
| Package: GSEAlm |
| Version: 1.44.0 |
| Command: C:\cygwin\bin\curl.exe -O https://malbec2.bioconductor.org/BBS/3.9/bioc/src/contrib/GSEAlm_1.44.0.tar.gz && rm -rf GSEAlm.buildbin-libdir && mkdir GSEAlm.buildbin-libdir && C:\Users\biocbuild\bbs-3.9-bioc\R\bin\R.exe CMD INSTALL --merge-multiarch --build --library=GSEAlm.buildbin-libdir GSEAlm_1.44.0.tar.gz && C:\Users\biocbuild\bbs-3.9-bioc\R\bin\R.exe CMD INSTALL GSEAlm_1.44.0.zip && rm GSEAlm_1.44.0.tar.gz GSEAlm_1.44.0.zip |
| StartedAt: 2019-10-15 18:50:09 -0400 (Tue, 15 Oct 2019) |
| EndedAt: 2019-10-15 18:50:27 -0400 (Tue, 15 Oct 2019) |
| EllapsedTime: 18.1 seconds |
| RetCode: 0 |
| Status: OK |
##############################################################################
##############################################################################
###
### Running command:
###
### C:\cygwin\bin\curl.exe -O https://malbec2.bioconductor.org/BBS/3.9/bioc/src/contrib/GSEAlm_1.44.0.tar.gz && rm -rf GSEAlm.buildbin-libdir && mkdir GSEAlm.buildbin-libdir && C:\Users\biocbuild\bbs-3.9-bioc\R\bin\R.exe CMD INSTALL --merge-multiarch --build --library=GSEAlm.buildbin-libdir GSEAlm_1.44.0.tar.gz && C:\Users\biocbuild\bbs-3.9-bioc\R\bin\R.exe CMD INSTALL GSEAlm_1.44.0.zip && rm GSEAlm_1.44.0.tar.gz GSEAlm_1.44.0.zip
###
##############################################################################
##############################################################################
% Total % Received % Xferd Average Speed Time Time Time Current
Dload Upload Total Spent Left Speed
0 0 0 0 0 0 0 0 --:--:-- --:--:-- --:--:-- 0
100 74016 100 74016 0 0 656k 0 --:--:-- --:--:-- --:--:-- 695k
install for i386
* installing *source* package 'GSEAlm' ...
** using staged installation
** R
** byte-compile and prepare package for lazy loading
** help
*** installing help indices
converting help for package 'GSEAlm'
finding HTML links ... done
GSNormalize html
dfbetasPerGene html
getResidPerGene html
gsealmPerm html
lmPerGene html
resplot html
** building package indices
** installing vignettes
** testing if installed package can be loaded from temporary location
** testing if installed package can be loaded from final location
** testing if installed package keeps a record of temporary installation path
install for x64
* installing *source* package 'GSEAlm' ...
** testing if installed package can be loaded
* MD5 sums
packaged installation of 'GSEAlm' as GSEAlm_1.44.0.zip
* DONE (GSEAlm)
* installing to library 'C:/Users/biocbuild/bbs-3.9-bioc/R/library'
package 'GSEAlm' successfully unpacked and MD5 sums checked