| Back to Multiple platform build/check report for BioC 3.9 |
|
This page was generated on 2019-10-16 12:40:56 -0400 (Wed, 16 Oct 2019).
| Package 726/1741 | Hostname | OS / Arch | INSTALL | BUILD | CHECK | BUILD BIN | ||||||
| GSEABenchmarkeR 1.4.0 Ludwig Geistlinger
| malbec2 | Linux (Ubuntu 18.04.2 LTS) / x86_64 | OK | OK | OK | |||||||
| tokay2 | Windows Server 2012 R2 Standard / x64 | OK | OK | OK | [ OK ] | |||||||
| celaya2 | OS X 10.11.6 El Capitan / x86_64 | OK | OK | OK | OK |
| Package: GSEABenchmarkeR |
| Version: 1.4.0 |
| Command: rm -rf GSEABenchmarkeR.buildbin-libdir && mkdir GSEABenchmarkeR.buildbin-libdir && C:\Users\biocbuild\bbs-3.9-bioc\R\bin\R.exe CMD INSTALL --merge-multiarch --build --library=GSEABenchmarkeR.buildbin-libdir GSEABenchmarkeR_1.4.0.tar.gz |
| StartedAt: 2019-10-16 09:23:52 -0400 (Wed, 16 Oct 2019) |
| EndedAt: 2019-10-16 09:24:22 -0400 (Wed, 16 Oct 2019) |
| EllapsedTime: 29.8 seconds |
| RetCode: 0 |
| Status: OK |
| PackageFile: GSEABenchmarkeR_1.4.0.zip |
| PackageFileSize: 653.1 KiB |
##############################################################################
##############################################################################
###
### Running command:
###
### rm -rf GSEABenchmarkeR.buildbin-libdir && mkdir GSEABenchmarkeR.buildbin-libdir && C:\Users\biocbuild\bbs-3.9-bioc\R\bin\R.exe CMD INSTALL --merge-multiarch --build --library=GSEABenchmarkeR.buildbin-libdir GSEABenchmarkeR_1.4.0.tar.gz
###
##############################################################################
##############################################################################
install for i386
* installing *source* package 'GSEABenchmarkeR' ...
** using staged installation
** R
** inst
** byte-compile and prepare package for lazy loading
** help
*** installing help indices
converting help for package 'GSEABenchmarkeR'
finding HTML links ... done
bpPlot html
cacheResource html
finding level-2 HTML links ... done
evalNrSigSets html
evalRelevance html
evalTypeIError html
loadEData html
maPreproc html
readDataId2diseaseCodeMap html
readResults html
runDE html
runEA html
** building package indices
** installing vignettes
** testing if installed package can be loaded from temporary location
** testing if installed package can be loaded from final location
** testing if installed package keeps a record of temporary installation path
install for x64
* installing *source* package 'GSEABenchmarkeR' ...
** testing if installed package can be loaded
* MD5 sums
packaged installation of 'GSEABenchmarkeR' as GSEABenchmarkeR_1.4.0.zip
* DONE (GSEABenchmarkeR)