| Back to Multiple platform build/check report for BioC 3.9 |
|
This page was generated on 2019-10-16 12:29:13 -0400 (Wed, 16 Oct 2019).
| Package 724/1741 | Hostname | OS / Arch | INSTALL | BUILD | CHECK | BUILD BIN | ||||||
| GSCA 2.14.0 Zhicheng Ji
| malbec2 | Linux (Ubuntu 18.04.2 LTS) / x86_64 | OK | OK | OK | |||||||
| tokay2 | Windows Server 2012 R2 Standard / x64 | [ OK ] | OK | OK | OK | |||||||
| celaya2 | OS X 10.11.6 El Capitan / x86_64 | OK | OK | OK | OK |
| Package: GSCA |
| Version: 2.14.0 |
| Command: C:\cygwin\bin\curl.exe -O https://malbec2.bioconductor.org/BBS/3.9/bioc/src/contrib/GSCA_2.14.0.tar.gz && rm -rf GSCA.buildbin-libdir && mkdir GSCA.buildbin-libdir && C:\Users\biocbuild\bbs-3.9-bioc\R\bin\R.exe CMD INSTALL --merge-multiarch --build --library=GSCA.buildbin-libdir GSCA_2.14.0.tar.gz && C:\Users\biocbuild\bbs-3.9-bioc\R\bin\R.exe CMD INSTALL GSCA_2.14.0.zip && rm GSCA_2.14.0.tar.gz GSCA_2.14.0.zip |
| StartedAt: 2019-10-15 19:16:25 -0400 (Tue, 15 Oct 2019) |
| EndedAt: 2019-10-15 19:17:18 -0400 (Tue, 15 Oct 2019) |
| EllapsedTime: 53.4 seconds |
| RetCode: 0 |
| Status: OK |
##############################################################################
##############################################################################
###
### Running command:
###
### C:\cygwin\bin\curl.exe -O https://malbec2.bioconductor.org/BBS/3.9/bioc/src/contrib/GSCA_2.14.0.tar.gz && rm -rf GSCA.buildbin-libdir && mkdir GSCA.buildbin-libdir && C:\Users\biocbuild\bbs-3.9-bioc\R\bin\R.exe CMD INSTALL --merge-multiarch --build --library=GSCA.buildbin-libdir GSCA_2.14.0.tar.gz && C:\Users\biocbuild\bbs-3.9-bioc\R\bin\R.exe CMD INSTALL GSCA_2.14.0.zip && rm GSCA_2.14.0.tar.gz GSCA_2.14.0.zip
###
##############################################################################
##############################################################################
% Total % Received % Xferd Average Speed Time Time Time Current
Dload Upload Total Spent Left Speed
0 0 0 0 0 0 0 0 --:--:-- --:--:-- --:--:-- 0
100 2156k 100 2156k 0 0 19.6M 0 --:--:-- --:--:-- --:--:-- 21.0M
install for i386
* installing *source* package 'GSCA' ...
** using staged installation
** R
** data
** inst
** byte-compile and prepare package for lazy loading
** help
*** installing help indices
converting help for package 'GSCA'
finding HTML links ... done
ConstructTG html
GSCA-package html
GSCA html
GSCAeda html
GSCAplot html
GSCAui html
Oct4ESC_TG html
STAT1_TG html
annotatePeaks html
geneIDdata html
tabSearch html
** building package indices
** installing vignettes
** testing if installed package can be loaded from temporary location
** testing if installed package can be loaded from final location
** testing if installed package keeps a record of temporary installation path
install for x64
* installing *source* package 'GSCA' ...
** testing if installed package can be loaded
* MD5 sums
packaged installation of 'GSCA' as GSCA_2.14.0.zip
* DONE (GSCA)
* installing to library 'C:/Users/biocbuild/bbs-3.9-bioc/R/library'
package 'GSCA' successfully unpacked and MD5 sums checked