| Back to Multiple platform build/check report for BioC 3.9 |
|
This page was generated on 2019-10-16 12:30:17 -0400 (Wed, 16 Oct 2019).
| Package 723/1741 | Hostname | OS / Arch | INSTALL | BUILD | CHECK | BUILD BIN | ||||||
| GSAR 1.18.0 Yasir Rahmatallah
| malbec2 | Linux (Ubuntu 18.04.2 LTS) / x86_64 | OK | OK | OK | |||||||
| tokay2 | Windows Server 2012 R2 Standard / x64 | [ OK ] | OK | OK | OK | |||||||
| celaya2 | OS X 10.11.6 El Capitan / x86_64 | OK | OK | OK | OK |
| Package: GSAR |
| Version: 1.18.0 |
| Command: C:\cygwin\bin\curl.exe -O https://malbec2.bioconductor.org/BBS/3.9/bioc/src/contrib/GSAR_1.18.0.tar.gz && rm -rf GSAR.buildbin-libdir && mkdir GSAR.buildbin-libdir && C:\Users\biocbuild\bbs-3.9-bioc\R\bin\R.exe CMD INSTALL --merge-multiarch --build --library=GSAR.buildbin-libdir GSAR_1.18.0.tar.gz && C:\Users\biocbuild\bbs-3.9-bioc\R\bin\R.exe CMD INSTALL GSAR_1.18.0.zip && rm GSAR_1.18.0.tar.gz GSAR_1.18.0.zip |
| StartedAt: 2019-10-15 18:57:37 -0400 (Tue, 15 Oct 2019) |
| EndedAt: 2019-10-15 18:58:38 -0400 (Tue, 15 Oct 2019) |
| EllapsedTime: 61.0 seconds |
| RetCode: 0 |
| Status: OK |
##############################################################################
##############################################################################
###
### Running command:
###
### C:\cygwin\bin\curl.exe -O https://malbec2.bioconductor.org/BBS/3.9/bioc/src/contrib/GSAR_1.18.0.tar.gz && rm -rf GSAR.buildbin-libdir && mkdir GSAR.buildbin-libdir && C:\Users\biocbuild\bbs-3.9-bioc\R\bin\R.exe CMD INSTALL --merge-multiarch --build --library=GSAR.buildbin-libdir GSAR_1.18.0.tar.gz && C:\Users\biocbuild\bbs-3.9-bioc\R\bin\R.exe CMD INSTALL GSAR_1.18.0.zip && rm GSAR_1.18.0.tar.gz GSAR_1.18.0.zip
###
##############################################################################
##############################################################################
% Total % Received % Xferd Average Speed Time Time Time Current
Dload Upload Total Spent Left Speed
0 0 0 0 0 0 0 0 --:--:-- --:--:-- --:--:-- 0
100 1442k 100 1442k 0 0 16.7M 0 --:--:-- --:--:-- --:--:-- 18.2M
install for i386
* installing *source* package 'GSAR' ...
** using staged installation
** R
** data
*** moving datasets to lazyload DB
** inst
** byte-compile and prepare package for lazy loading
** help
*** installing help indices
converting help for package 'GSAR'
finding HTML links ... done
AggrFtest html
GSAR-package html
finding level-2 HTML links ... done
GSNCAtest html
HDP.ranking html
KStest html
MDtest html
RKStest html
RMDtest html
TestGeneSets html
WWtest html
findMST2.PPI html
findMST2 html
p53DataSet html
plotMST2.pathway html
radial.ranking html
** building package indices
** installing vignettes
** testing if installed package can be loaded from temporary location
** testing if installed package can be loaded from final location
** testing if installed package keeps a record of temporary installation path
install for x64
* installing *source* package 'GSAR' ...
** testing if installed package can be loaded
* MD5 sums
packaged installation of 'GSAR' as GSAR_1.18.0.zip
* DONE (GSAR)
* installing to library 'C:/Users/biocbuild/bbs-3.9-bioc/R/library'
package 'GSAR' successfully unpacked and MD5 sums checked