| Back to Multiple platform build/check report for BioC 3.9 |
|
This page was generated on 2019-10-16 12:36:30 -0400 (Wed, 16 Oct 2019).
| Package 719/1741 | Hostname | OS / Arch | INSTALL | BUILD | CHECK | BUILD BIN | ||||||
| GRmetrics 1.10.0 Nicholas Clark
| malbec2 | Linux (Ubuntu 18.04.2 LTS) / x86_64 | OK | OK | OK | |||||||
| tokay2 | Windows Server 2012 R2 Standard / x64 | [ OK ] | OK | OK | OK | |||||||
| celaya2 | OS X 10.11.6 El Capitan / x86_64 | OK | OK | OK | OK |
| Package: GRmetrics |
| Version: 1.10.0 |
| Command: C:\cygwin\bin\curl.exe -O https://malbec2.bioconductor.org/BBS/3.9/bioc/src/contrib/GRmetrics_1.10.0.tar.gz && rm -rf GRmetrics.buildbin-libdir && mkdir GRmetrics.buildbin-libdir && C:\Users\biocbuild\bbs-3.9-bioc\R\bin\R.exe CMD INSTALL --merge-multiarch --build --library=GRmetrics.buildbin-libdir GRmetrics_1.10.0.tar.gz && C:\Users\biocbuild\bbs-3.9-bioc\R\bin\R.exe CMD INSTALL GRmetrics_1.10.0.zip && rm GRmetrics_1.10.0.tar.gz GRmetrics_1.10.0.zip |
| StartedAt: 2019-10-15 20:09:34 -0400 (Tue, 15 Oct 2019) |
| EndedAt: 2019-10-15 20:10:50 -0400 (Tue, 15 Oct 2019) |
| EllapsedTime: 75.9 seconds |
| RetCode: 0 |
| Status: OK |
##############################################################################
##############################################################################
###
### Running command:
###
### C:\cygwin\bin\curl.exe -O https://malbec2.bioconductor.org/BBS/3.9/bioc/src/contrib/GRmetrics_1.10.0.tar.gz && rm -rf GRmetrics.buildbin-libdir && mkdir GRmetrics.buildbin-libdir && C:\Users\biocbuild\bbs-3.9-bioc\R\bin\R.exe CMD INSTALL --merge-multiarch --build --library=GRmetrics.buildbin-libdir GRmetrics_1.10.0.tar.gz && C:\Users\biocbuild\bbs-3.9-bioc\R\bin\R.exe CMD INSTALL GRmetrics_1.10.0.zip && rm GRmetrics_1.10.0.tar.gz GRmetrics_1.10.0.zip
###
##############################################################################
##############################################################################
% Total % Received % Xferd Average Speed Time Time Time Current
Dload Upload Total Spent Left Speed
0 0 0 0 0 0 0 0 --:--:-- --:--:-- --:--:-- 0
100 36676 100 36676 0 0 329k 0 --:--:-- --:--:-- --:--:-- 351k
install for i386
* installing *source* package 'GRmetrics' ...
** using staged installation
** R
** data
*** moving datasets to lazyload DB
** inst
** byte-compile and prepare package for lazy loading
** help
*** installing help indices
converting help for package 'GRmetrics'
finding HTML links ... done
GRbox html
GRdrawDRC html
GRfit html
finding level-2 HTML links ... done
GRgetDefs html
GRgetGroupVars html
GRgetMetrics html
GRgetValues html
GRscatter html
inputCaseA html
inputCaseC html
** building package indices
** installing vignettes
** testing if installed package can be loaded from temporary location
** testing if installed package can be loaded from final location
** testing if installed package keeps a record of temporary installation path
install for x64
* installing *source* package 'GRmetrics' ...
** testing if installed package can be loaded
* MD5 sums
packaged installation of 'GRmetrics' as GRmetrics_1.10.0.zip
* DONE (GRmetrics)
* installing to library 'C:/Users/biocbuild/bbs-3.9-bioc/R/library'
package 'GRmetrics' successfully unpacked and MD5 sums checked