| Back to Multiple platform build/check report for BioC 3.9 |
|
This page was generated on 2019-04-09 13:30:24 -0400 (Tue, 09 Apr 2019).
| Package 682/1703 | Hostname | OS / Arch | INSTALL | BUILD | CHECK | BUILD BIN | ||||||
| GOexpress 1.17.1 Kevin Rue-Albrecht
| malbec2 | Linux (Ubuntu 18.04.2 LTS) / x86_64 | OK | OK | OK | |||||||
| tokay2 | Windows Server 2012 R2 Standard / x64 | OK | OK | WARNINGS | OK | |||||||
| celaya2 | OS X 10.11.6 El Capitan / x86_64 | OK | OK | OK | OK | |||||||
| merida2 | OS X 10.11.6 El Capitan / x86_64 | OK | OK | [ OK ] | OK |
| Package: GOexpress |
| Version: 1.17.1 |
| Command: /Library/Frameworks/R.framework/Versions/Current/Resources/bin/R CMD check --install=check:GOexpress.install-out.txt --library=/Library/Frameworks/R.framework/Versions/Current/Resources/library --no-vignettes --timings GOexpress_1.17.1.tar.gz |
| StartedAt: 2019-04-09 01:15:58 -0400 (Tue, 09 Apr 2019) |
| EndedAt: 2019-04-09 01:18:00 -0400 (Tue, 09 Apr 2019) |
| EllapsedTime: 122.2 seconds |
| RetCode: 0 |
| Status: OK |
| CheckDir: GOexpress.Rcheck |
| Warnings: 0 |
##############################################################################
##############################################################################
###
### Running command:
###
### /Library/Frameworks/R.framework/Versions/Current/Resources/bin/R CMD check --install=check:GOexpress.install-out.txt --library=/Library/Frameworks/R.framework/Versions/Current/Resources/library --no-vignettes --timings GOexpress_1.17.1.tar.gz
###
##############################################################################
##############################################################################
* using log directory ‘/Users/biocbuild/bbs-3.9-bioc/meat/GOexpress.Rcheck’
* using R Under development (unstable) (2018-11-27 r75683)
* using platform: x86_64-apple-darwin15.6.0 (64-bit)
* using session charset: UTF-8
* using option ‘--no-vignettes’
* checking for file ‘GOexpress/DESCRIPTION’ ... OK
* this is package ‘GOexpress’ version ‘1.17.1’
* checking package namespace information ... OK
* checking package dependencies ... OK
* checking if this is a source package ... OK
* checking if there is a namespace ... OK
* checking for hidden files and directories ... NOTE
Found the following hidden files and directories:
.travis.yml
These were most likely included in error. See section ‘Package
structure’ in the ‘Writing R Extensions’ manual.
* checking for portable file names ... OK
* checking for sufficient/correct file permissions ... OK
* checking whether package ‘GOexpress’ can be installed ... OK
* checking installed package size ... OK
* checking package directory ... OK
* checking ‘build’ directory ... OK
* checking DESCRIPTION meta-information ... OK
* checking top-level files ... OK
* checking for left-over files ... OK
* checking index information ... OK
* checking package subdirectories ... OK
* checking R files for non-ASCII characters ... OK
* checking R files for syntax errors ... OK
* checking whether the package can be loaded ... OK
* checking whether the package can be loaded with stated dependencies ... OK
* checking whether the package can be unloaded cleanly ... OK
* checking whether the namespace can be loaded with stated dependencies ... OK
* checking whether the namespace can be unloaded cleanly ... OK
* checking dependencies in R code ... OK
* checking S3 generic/method consistency ... OK
* checking replacement functions ... OK
* checking foreign function calls ... OK
* checking R code for possible problems ... NOTE
GO_analyse: no visible binding for global variable ‘microarray2dataset’
GO_analyse: no visible binding for global variable ‘prefix2dataset’
mart_from_ensembl: no visible binding for global variable
‘prefix2dataset’
Undefined global functions or variables:
microarray2dataset prefix2dataset
* checking Rd files ... OK
* checking Rd metadata ... OK
* checking Rd cross-references ... OK
* checking for missing documentation entries ... OK
* checking for code/documentation mismatches ... OK
* checking Rd \usage sections ... OK
* checking Rd contents ... OK
* checking for unstated dependencies in examples ... OK
* checking contents of ‘data’ directory ... OK
* checking data for non-ASCII characters ... OK
* checking data for ASCII and uncompressed saves ... OK
* checking sizes of PDF files under ‘inst/doc’ ... OK
* checking files in ‘vignettes’ ... OK
* checking examples ... OK
Examples with CPU or elapsed time > 5s
user system elapsed
AlvMac_results.pVal 4.257 1.015 5.308
* checking for unstated dependencies in vignettes ... OK
* checking package vignettes in ‘inst/doc’ ... OK
* checking running R code from vignettes ... SKIPPED
* checking re-building of vignette outputs ... SKIPPED
* checking PDF version of manual ... OK
* DONE
Status: 2 NOTEs
See
‘/Users/biocbuild/bbs-3.9-bioc/meat/GOexpress.Rcheck/00check.log’
for details.
GOexpress.Rcheck/00install.out
############################################################################## ############################################################################## ### ### Running command: ### ### /Library/Frameworks/R.framework/Versions/Current/Resources/bin/R CMD INSTALL GOexpress ### ############################################################################## ############################################################################## * installing to library ‘/Library/Frameworks/R.framework/Versions/3.6/Resources/library’ * installing *source* package ‘GOexpress’ ... ** R ** data *** moving datasets to lazyload DB ** inst ** byte-compile and prepare package for lazy loading ** help *** installing help indices ** building package indices ** installing vignettes ** testing if installed package can be loaded * DONE (GOexpress)
GOexpress.Rcheck/GOexpress-Ex.timings
| name | user | system | elapsed | |
| AlvMac | 0.110 | 0.010 | 0.122 | |
| AlvMac_GOgenes | 0.104 | 0.012 | 0.117 | |
| AlvMac_allGO | 0.027 | 0.003 | 0.030 | |
| AlvMac_allgenes | 0.018 | 0.002 | 0.019 | |
| AlvMac_results | 0.152 | 0.011 | 0.163 | |
| AlvMac_results.pVal | 4.257 | 1.015 | 5.308 | |
| GO_analyse | 4.002 | 0.173 | 4.213 | |
| GOexpress-package | 0.006 | 0.005 | 0.010 | |
| cluster_GO | 0.220 | 0.023 | 0.245 | |
| expression_plot | 1.720 | 0.030 | 1.775 | |
| expression_plot_symbol | 1.389 | 0.007 | 1.474 | |
| expression_profiles | 1.583 | 0.014 | 1.620 | |
| expression_profiles_symbol | 1.505 | 0.005 | 1.531 | |
| heatmap_GO | 0.857 | 0.014 | 0.881 | |
| hist_scores | 0.413 | 0.016 | 0.430 | |
| list_genes | 0.136 | 0.005 | 0.142 | |
| microarray2dataset | 0.025 | 0.007 | 0.033 | |
| pValue_GO | 0.001 | 0.000 | 0.000 | |
| plot_design | 0.276 | 0.011 | 0.288 | |
| prefix2dataset | 0.024 | 0.003 | 0.027 | |
| quantiles_scores | 0.230 | 0.015 | 0.245 | |
| rerank | 0.307 | 0.016 | 0.326 | |
| subEset | 0.041 | 0.001 | 0.041 | |
| subset_scores | 0.618 | 0.009 | 0.631 | |
| table_genes | 0.171 | 0.022 | 0.194 | |