| Back to Multiple platform build/check report for BioC 3.9 |
|
This page was generated on 2019-04-09 13:37:05 -0400 (Tue, 09 Apr 2019).
| Package 670/1703 | Hostname | OS / Arch | INSTALL | BUILD | CHECK | BUILD BIN | ||||||
| GIGSEA 1.1.0 Shijia Zhu
| malbec2 | Linux (Ubuntu 18.04.2 LTS) / x86_64 | OK | OK | OK | |||||||
| tokay2 | Windows Server 2012 R2 Standard / x64 | OK | OK | OK | OK | |||||||
| celaya2 | OS X 10.11.6 El Capitan / x86_64 | OK | OK | OK | OK | |||||||
| merida2 | OS X 10.11.6 El Capitan / x86_64 | OK | OK | [ OK ] | OK |
| Package: GIGSEA |
| Version: 1.1.0 |
| Command: /Library/Frameworks/R.framework/Versions/Current/Resources/bin/R CMD check --install=check:GIGSEA.install-out.txt --library=/Library/Frameworks/R.framework/Versions/Current/Resources/library --no-vignettes --timings GIGSEA_1.1.0.tar.gz |
| StartedAt: 2019-04-09 01:13:49 -0400 (Tue, 09 Apr 2019) |
| EndedAt: 2019-04-09 01:15:34 -0400 (Tue, 09 Apr 2019) |
| EllapsedTime: 104.7 seconds |
| RetCode: 0 |
| Status: OK |
| CheckDir: GIGSEA.Rcheck |
| Warnings: 0 |
##############################################################################
##############################################################################
###
### Running command:
###
### /Library/Frameworks/R.framework/Versions/Current/Resources/bin/R CMD check --install=check:GIGSEA.install-out.txt --library=/Library/Frameworks/R.framework/Versions/Current/Resources/library --no-vignettes --timings GIGSEA_1.1.0.tar.gz
###
##############################################################################
##############################################################################
* using log directory ‘/Users/biocbuild/bbs-3.9-bioc/meat/GIGSEA.Rcheck’
* using R Under development (unstable) (2018-11-27 r75683)
* using platform: x86_64-apple-darwin15.6.0 (64-bit)
* using session charset: UTF-8
* using option ‘--no-vignettes’
* checking for file ‘GIGSEA/DESCRIPTION’ ... OK
* checking extension type ... Package
* this is package ‘GIGSEA’ version ‘1.1.0’
* package encoding: UTF-8
* checking package namespace information ... OK
* checking package dependencies ... OK
* checking if this is a source package ... OK
* checking if there is a namespace ... OK
* checking for hidden files and directories ... OK
* checking for portable file names ... OK
* checking for sufficient/correct file permissions ... OK
* checking whether package ‘GIGSEA’ can be installed ... OK
* checking installed package size ... OK
* checking package directory ... OK
* checking ‘build’ directory ... OK
* checking DESCRIPTION meta-information ... OK
* checking top-level files ... OK
* checking for left-over files ... OK
* checking index information ... OK
* checking package subdirectories ... OK
* checking R files for non-ASCII characters ... OK
* checking R files for syntax errors ... OK
* checking whether the package can be loaded ... OK
* checking whether the package can be loaded with stated dependencies ... OK
* checking whether the package can be unloaded cleanly ... OK
* checking whether the namespace can be loaded with stated dependencies ... OK
* checking whether the namespace can be unloaded cleanly ... OK
* checking dependencies in R code ... OK
* checking S3 generic/method consistency ... OK
* checking replacement functions ... OK
* checking foreign function calls ... OK
* checking R code for possible problems ... OK
* checking Rd files ... OK
* checking Rd metadata ... OK
* checking Rd cross-references ... OK
* checking for missing documentation entries ... OK
* checking for code/documentation mismatches ... OK
* checking Rd \usage sections ... OK
* checking Rd contents ... OK
* checking for unstated dependencies in examples ... OK
* checking contents of ‘data’ directory ... OK
* checking data for non-ASCII characters ... OK
* checking data for ASCII and uncompressed saves ... OK
* checking sizes of PDF files under ‘inst/doc’ ... OK
* checking files in ‘vignettes’ ... OK
* checking examples ... OK
Examples with CPU or elapsed time > 5s
user system elapsed
geneSet2Net 14.896 1.158 16.810
geneSet2sparseMatrix 14.443 1.241 16.140
permutationMultipleLmMatrix 5.711 0.397 6.192
weightedMultipleLm 4.941 0.114 5.090
* checking for unstated dependencies in vignettes ... OK
* checking package vignettes in ‘inst/doc’ ... OK
* checking running R code from vignettes ... SKIPPED
* checking re-building of vignette outputs ... SKIPPED
* checking PDF version of manual ... OK
* DONE
Status: OK
GIGSEA.Rcheck/00install.out
############################################################################## ############################################################################## ### ### Running command: ### ### /Library/Frameworks/R.framework/Versions/Current/Resources/bin/R CMD INSTALL GIGSEA ### ############################################################################## ############################################################################## * installing to library ‘/Library/Frameworks/R.framework/Versions/3.6/Resources/library’ * installing *source* package ‘GIGSEA’ ... ** R ** data *** moving datasets to lazyload DB ** inst ** byte-compile and prepare package for lazy loading ** help *** installing help indices ** building package indices ** installing vignettes ** testing if installed package can be loaded * DONE (GIGSEA)
GIGSEA.Rcheck/GIGSEA-Ex.timings
| name | user | system | elapsed | |
| geneSet2Net | 14.896 | 1.158 | 16.810 | |
| geneSet2sparseMatrix | 14.443 | 1.241 | 16.140 | |
| gmt2geneSet | 3.265 | 0.043 | 3.606 | |
| matrixPval | 0.022 | 0.000 | 0.023 | |
| orderedIntersect | 0.073 | 0.007 | 0.081 | |
| permutationMultipleLm | 0.044 | 0.006 | 0.050 | |
| permutationMultipleLmMatrix | 5.711 | 0.397 | 6.192 | |
| permutationSimpleLm | 0.041 | 0.005 | 0.046 | |
| permutationSimpleLmMatrix | 1.784 | 0.359 | 2.203 | |
| runGIGSEA | 0 | 0 | 0 | |
| weightedGSEA | 0.015 | 0.002 | 0.017 | |
| weightedMultipleLm | 4.941 | 0.114 | 5.090 | |
| weightedPearsonCorr | 0.070 | 0.022 | 0.093 | |