| Back to Multiple platform build/check report for BioC 3.9 | 
 | 
This page was generated on 2019-10-16 12:26:03 -0400 (Wed, 16 Oct 2019).
| Package 673/1741 | Hostname | OS / Arch | INSTALL | BUILD | CHECK | BUILD BIN | ||||||
| GEWIST 1.28.0 Wei Q. Deng 
 | malbec2 | Linux (Ubuntu 18.04.2 LTS) / x86_64 | OK | OK | OK |  | ||||||
| tokay2 | Windows Server 2012 R2 Standard / x64 | [ OK ] | OK | OK | OK |  | ||||||
| celaya2 | OS X 10.11.6 El Capitan / x86_64 | OK | OK | OK | OK |  | 
| Package: GEWIST | 
| Version: 1.28.0 | 
| Command: C:\cygwin\bin\curl.exe -O https://malbec2.bioconductor.org/BBS/3.9/bioc/src/contrib/GEWIST_1.28.0.tar.gz && rm -rf GEWIST.buildbin-libdir && mkdir GEWIST.buildbin-libdir && C:\Users\biocbuild\bbs-3.9-bioc\R\bin\R.exe CMD INSTALL --merge-multiarch --build --library=GEWIST.buildbin-libdir GEWIST_1.28.0.tar.gz && C:\Users\biocbuild\bbs-3.9-bioc\R\bin\R.exe CMD INSTALL GEWIST_1.28.0.zip && rm GEWIST_1.28.0.tar.gz GEWIST_1.28.0.zip | 
| StartedAt: 2019-10-15 20:02:26 -0400 (Tue, 15 Oct 2019) | 
| EndedAt: 2019-10-15 20:02:50 -0400 (Tue, 15 Oct 2019) | 
| EllapsedTime: 23.7 seconds | 
| RetCode: 0 | 
| Status: OK | 
##############################################################################
##############################################################################
###
### Running command:
###
###   C:\cygwin\bin\curl.exe -O https://malbec2.bioconductor.org/BBS/3.9/bioc/src/contrib/GEWIST_1.28.0.tar.gz && rm -rf GEWIST.buildbin-libdir && mkdir GEWIST.buildbin-libdir && C:\Users\biocbuild\bbs-3.9-bioc\R\bin\R.exe CMD INSTALL --merge-multiarch --build --library=GEWIST.buildbin-libdir GEWIST_1.28.0.tar.gz && C:\Users\biocbuild\bbs-3.9-bioc\R\bin\R.exe CMD INSTALL GEWIST_1.28.0.zip && rm GEWIST_1.28.0.tar.gz GEWIST_1.28.0.zip
###
##############################################################################
##############################################################################
  % Total    % Received % Xferd  Average Speed   Time    Time     Time  Current
                                 Dload  Upload   Total   Spent    Left  Speed
  0     0    0     0    0     0      0      0 --:--:-- --:--:-- --:--:--     0
100  9165  100  9165    0     0   139k      0 --:--:-- --:--:-- --:--:--  157k
install for i386
* installing *source* package 'GEWIST' ...
** using staged installation
** R
** byte-compile and prepare package for lazy loading
** help
*** installing help indices
  converting help for package 'GEWIST'
    finding HTML links ... done
    GEWIST-package                          html  
    effectPDF                               html  
    gewistLevene                            html  
** building package indices
** installing vignettes
** testing if installed package can be loaded from temporary location
** testing if installed package can be loaded from final location
** testing if installed package keeps a record of temporary installation path
install for x64
* installing *source* package 'GEWIST' ...
** testing if installed package can be loaded
* MD5 sums
packaged installation of 'GEWIST' as GEWIST_1.28.0.zip
* DONE (GEWIST)
* installing to library 'C:/Users/biocbuild/bbs-3.9-bioc/R/library'
package 'GEWIST' successfully unpacked and MD5 sums checked