| Back to Multiple platform build/check report for BioC 3.9 |
|
This page was generated on 2019-04-09 13:31:13 -0400 (Tue, 09 Apr 2019).
| Package 631/1703 | Hostname | OS / Arch | INSTALL | BUILD | CHECK | BUILD BIN | ||||||
| GENESIS 2.13.9 Stephanie M. Gogarten
| malbec2 | Linux (Ubuntu 18.04.2 LTS) / x86_64 | OK | OK | OK | |||||||
| tokay2 | Windows Server 2012 R2 Standard / x64 | OK | OK | OK | OK | |||||||
| celaya2 | OS X 10.11.6 El Capitan / x86_64 | OK | OK | OK | OK | |||||||
| merida2 | OS X 10.11.6 El Capitan / x86_64 | OK | OK | [ OK ] | OK |
| Package: GENESIS |
| Version: 2.13.9 |
| Command: /Library/Frameworks/R.framework/Versions/Current/Resources/bin/R CMD check --install=check:GENESIS.install-out.txt --library=/Library/Frameworks/R.framework/Versions/Current/Resources/library --no-vignettes --timings GENESIS_2.13.9.tar.gz |
| StartedAt: 2019-04-09 01:06:06 -0400 (Tue, 09 Apr 2019) |
| EndedAt: 2019-04-09 01:12:00 -0400 (Tue, 09 Apr 2019) |
| EllapsedTime: 353.7 seconds |
| RetCode: 0 |
| Status: OK |
| CheckDir: GENESIS.Rcheck |
| Warnings: 0 |
##############################################################################
##############################################################################
###
### Running command:
###
### /Library/Frameworks/R.framework/Versions/Current/Resources/bin/R CMD check --install=check:GENESIS.install-out.txt --library=/Library/Frameworks/R.framework/Versions/Current/Resources/library --no-vignettes --timings GENESIS_2.13.9.tar.gz
###
##############################################################################
##############################################################################
* using log directory ‘/Users/biocbuild/bbs-3.9-bioc/meat/GENESIS.Rcheck’
* using R Under development (unstable) (2018-11-27 r75683)
* using platform: x86_64-apple-darwin15.6.0 (64-bit)
* using session charset: UTF-8
* using option ‘--no-vignettes’
* checking for file ‘GENESIS/DESCRIPTION’ ... OK
* checking extension type ... Package
* this is package ‘GENESIS’ version ‘2.13.9’
* checking package namespace information ... OK
* checking package dependencies ... OK
* checking if this is a source package ... OK
* checking if there is a namespace ... OK
* checking for hidden files and directories ... OK
* checking for portable file names ... OK
* checking for sufficient/correct file permissions ... OK
* checking whether package ‘GENESIS’ can be installed ... OK
* checking installed package size ... OK
* checking package directory ... OK
* checking ‘build’ directory ... OK
* checking DESCRIPTION meta-information ... OK
* checking top-level files ... OK
* checking for left-over files ... OK
* checking index information ... OK
* checking package subdirectories ... OK
* checking R files for non-ASCII characters ... OK
* checking R files for syntax errors ... OK
* checking whether the package can be loaded ... OK
* checking whether the package can be loaded with stated dependencies ... OK
* checking whether the package can be unloaded cleanly ... OK
* checking whether the namespace can be loaded with stated dependencies ... OK
* checking whether the namespace can be unloaded cleanly ... OK
* checking dependencies in R code ... NOTE
Unexported object imported by a ':::' call: ‘survey:::saddle’
See the note in ?`:::` about the use of this operator.
* checking S3 generic/method consistency ... OK
* checking replacement functions ... OK
* checking foreign function calls ... OK
* checking R code for possible problems ... NOTE
.pcrelate: no visible binding for global variable ‘k’
calcISAFBeta: no visible binding for global variable ‘k’
pcrelateSampBlock: no visible binding for global variable ‘k’
Undefined global functions or variables:
k
* checking Rd files ... OK
* checking Rd metadata ... OK
* checking Rd cross-references ... OK
* checking for missing documentation entries ... OK
* checking for code/documentation mismatches ... OK
* checking Rd \usage sections ... OK
* checking Rd contents ... OK
* checking for unstated dependencies in examples ... OK
* checking contents of ‘data’ directory ... OK
* checking data for non-ASCII characters ... OK
* checking data for ASCII and uncompressed saves ... OK
* checking files in ‘vignettes’ ... OK
* checking examples ... OK
Examples with CPU or elapsed time > 5s
user system elapsed
fitNullModel 16.722 2.425 16.126
varCompCI 15.387 1.787 15.201
pcrelate 13.842 1.366 14.120
admixMap 10.736 0.715 11.593
* checking for unstated dependencies in ‘tests’ ... OK
* checking tests ...
Running ‘testthat.R’
OK
* checking for unstated dependencies in vignettes ... OK
* checking package vignettes in ‘inst/doc’ ... OK
* checking running R code from vignettes ... SKIPPED
* checking re-building of vignette outputs ... SKIPPED
* checking PDF version of manual ... OK
* DONE
Status: 2 NOTEs
See
‘/Users/biocbuild/bbs-3.9-bioc/meat/GENESIS.Rcheck/00check.log’
for details.
GENESIS.Rcheck/00install.out
############################################################################## ############################################################################## ### ### Running command: ### ### /Library/Frameworks/R.framework/Versions/Current/Resources/bin/R CMD INSTALL GENESIS ### ############################################################################## ############################################################################## * installing to library ‘/Library/Frameworks/R.framework/Versions/3.6/Resources/library’ * installing *source* package ‘GENESIS’ ... ** R ** data ** inst ** byte-compile and prepare package for lazy loading ** help *** installing help indices ** building package indices ** installing vignettes ** testing if installed package can be loaded * DONE (GENESIS)
GENESIS.Rcheck/tests/testthat.Rout
R Under development (unstable) (2018-11-27 r75683) -- "Unsuffered Consequences"
Copyright (C) 2018 The R Foundation for Statistical Computing
Platform: x86_64-apple-darwin15.6.0 (64-bit)
R is free software and comes with ABSOLUTELY NO WARRANTY.
You are welcome to redistribute it under certain conditions.
Type 'license()' or 'licence()' for distribution details.
R is a collaborative project with many contributors.
Type 'contributors()' for more information and
'citation()' on how to cite R or R packages in publications.
Type 'demo()' for some demos, 'help()' for on-line help, or
'help.start()' for an HTML browser interface to help.
Type 'q()' to quit R.
> library(testthat)
> library(GENESIS)
>
> test_check("GENESIS")
══ testthat results ═══════════════════════════════════════════════════════════
OK: 368 SKIPPED: 0 FAILED: 0
>
> proc.time()
user system elapsed
135.457 41.984 112.486
GENESIS.Rcheck/GENESIS-Ex.timings
| name | user | system | elapsed | |
| admixMap | 10.736 | 0.715 | 11.593 | |
| assocTestAggregate | 3.536 | 0.111 | 3.671 | |
| assocTestSingle | 2.353 | 0.260 | 2.623 | |
| fitNullModel | 16.722 | 2.425 | 16.126 | |
| kin2gds | 1.351 | 0.839 | 0.723 | |
| kingToMatrix | 2.310 | 1.777 | 0.709 | |
| pcair | 0.982 | 0.546 | 0.568 | |
| pcairPartition | 0.043 | 0.002 | 0.046 | |
| pcrelate | 13.842 | 1.366 | 14.120 | |
| plot.pcair | 0.976 | 0.553 | 0.601 | |
| print.pcair | 0.513 | 0.061 | 0.583 | |
| varCompCI | 15.387 | 1.787 | 15.201 | |