| Back to Multiple platform build/check report for BioC 3.9 |
|
This page was generated on 2019-10-16 12:40:22 -0400 (Wed, 16 Oct 2019).
| Package 614/1741 | Hostname | OS / Arch | INSTALL | BUILD | CHECK | BUILD BIN | ||||||
| GDCRNATools 1.4.1 Ruidong Li
| malbec2 | Linux (Ubuntu 18.04.2 LTS) / x86_64 | OK | OK | OK | |||||||
| tokay2 | Windows Server 2012 R2 Standard / x64 | [ OK ] | OK | OK | OK | |||||||
| celaya2 | OS X 10.11.6 El Capitan / x86_64 | OK | OK | OK | OK |
| Package: GDCRNATools |
| Version: 1.4.1 |
| Command: C:\cygwin\bin\curl.exe -O https://malbec2.bioconductor.org/BBS/3.9/bioc/src/contrib/GDCRNATools_1.4.1.tar.gz && rm -rf GDCRNATools.buildbin-libdir && mkdir GDCRNATools.buildbin-libdir && C:\Users\biocbuild\bbs-3.9-bioc\R\bin\R.exe CMD INSTALL --merge-multiarch --build --library=GDCRNATools.buildbin-libdir GDCRNATools_1.4.1.tar.gz && C:\Users\biocbuild\bbs-3.9-bioc\R\bin\R.exe CMD INSTALL GDCRNATools_1.4.1.zip && rm GDCRNATools_1.4.1.tar.gz GDCRNATools_1.4.1.zip |
| StartedAt: 2019-10-15 20:13:42 -0400 (Tue, 15 Oct 2019) |
| EndedAt: 2019-10-15 20:15:50 -0400 (Tue, 15 Oct 2019) |
| EllapsedTime: 128.4 seconds |
| RetCode: 0 |
| Status: OK |
##############################################################################
##############################################################################
###
### Running command:
###
### C:\cygwin\bin\curl.exe -O https://malbec2.bioconductor.org/BBS/3.9/bioc/src/contrib/GDCRNATools_1.4.1.tar.gz && rm -rf GDCRNATools.buildbin-libdir && mkdir GDCRNATools.buildbin-libdir && C:\Users\biocbuild\bbs-3.9-bioc\R\bin\R.exe CMD INSTALL --merge-multiarch --build --library=GDCRNATools.buildbin-libdir GDCRNATools_1.4.1.tar.gz && C:\Users\biocbuild\bbs-3.9-bioc\R\bin\R.exe CMD INSTALL GDCRNATools_1.4.1.zip && rm GDCRNATools_1.4.1.tar.gz GDCRNATools_1.4.1.zip
###
##############################################################################
##############################################################################
% Total % Received % Xferd Average Speed Time Time Time Current
Dload Upload Total Spent Left Speed
0 0 0 0 0 0 0 0 --:--:-- --:--:-- --:--:-- 0
100 3962k 100 3962k 0 0 40.0M 0 --:--:-- --:--:-- --:--:-- 43.4M
install for i386
* installing *source* package 'GDCRNATools' ...
** using staged installation
** R
** data
** inst
** byte-compile and prepare package for lazy loading
** help
*** installing help indices
converting help for package 'GDCRNATools'
finding HTML links ... done
DEGAll html
GDCRNATools-package html
enrichOutput html
gdcBarPlot html
gdcCEAnalysis html
gdcClinicalDownload html
gdcClinicalMerge html
gdcCorPlot html
gdcDEAnalysis html
gdcDEReport html
gdcEnrichAnalysis html
gdcEnrichPlot html
gdcExportNetwork html
gdcFilterDuplicate html
gdcFilterSampleType html
gdcHeatmap html
gdcKMPlot html
gdcMatchSamples html
gdcParseMetadata html
gdcRNADownload html
gdcRNAMerge html
gdcSurvivalAnalysis html
gdcVolcanoPlot html
gdcVoomNormalization html
lncTarget html
mirCounts html
pcTarget html
rnaCounts html
shinyCorPlot html
shinyKMPlot html
shinyPathview html
** building package indices
** installing vignettes
** testing if installed package can be loaded from temporary location
** testing if installed package can be loaded from final location
** testing if installed package keeps a record of temporary installation path
install for x64
* installing *source* package 'GDCRNATools' ...
** testing if installed package can be loaded
* MD5 sums
packaged installation of 'GDCRNATools' as GDCRNATools_1.4.1.zip
* DONE (GDCRNATools)
* installing to library 'C:/Users/biocbuild/bbs-3.9-bioc/R/library'
package 'GDCRNATools' successfully unpacked and MD5 sums checked