| Back to Multiple platform build/check report for BioC 3.9 |
|
This page was generated on 2019-10-16 12:05:55 -0400 (Wed, 16 Oct 2019).
| Package 578/1741 | Hostname | OS / Arch | INSTALL | BUILD | CHECK | BUILD BIN | ||||||
| FlowSOM 1.16.0 Sofie Van Gassen
| malbec2 | Linux (Ubuntu 18.04.2 LTS) / x86_64 | OK | OK | [ OK ] | |||||||
| tokay2 | Windows Server 2012 R2 Standard / x64 | OK | OK | OK | OK | |||||||
| celaya2 | OS X 10.11.6 El Capitan / x86_64 | OK | OK | WARNINGS | OK |
| Package: FlowSOM |
| Version: 1.16.0 |
| Command: /home/biocbuild/bbs-3.9-bioc/R/bin/R CMD check --install=check:FlowSOM.install-out.txt --library=/home/biocbuild/bbs-3.9-bioc/R/library --no-vignettes --timings FlowSOM_1.16.0.tar.gz |
| StartedAt: 2019-10-16 01:41:56 -0400 (Wed, 16 Oct 2019) |
| EndedAt: 2019-10-16 01:43:50 -0400 (Wed, 16 Oct 2019) |
| EllapsedTime: 114.9 seconds |
| RetCode: 0 |
| Status: OK |
| CheckDir: FlowSOM.Rcheck |
| Warnings: 0 |
##############################################################################
##############################################################################
###
### Running command:
###
### /home/biocbuild/bbs-3.9-bioc/R/bin/R CMD check --install=check:FlowSOM.install-out.txt --library=/home/biocbuild/bbs-3.9-bioc/R/library --no-vignettes --timings FlowSOM_1.16.0.tar.gz
###
##############################################################################
##############################################################################
* using log directory ‘/home/biocbuild/bbs-3.9-bioc/meat/FlowSOM.Rcheck’
* using R version 3.6.1 (2019-07-05)
* using platform: x86_64-pc-linux-gnu (64-bit)
* using session charset: UTF-8
* using option ‘--no-vignettes’
* checking for file ‘FlowSOM/DESCRIPTION’ ... OK
* this is package ‘FlowSOM’ version ‘1.16.0’
* checking package namespace information ... OK
* checking package dependencies ... OK
* checking if this is a source package ... OK
* checking if there is a namespace ... OK
* checking for hidden files and directories ... OK
* checking for portable file names ... OK
* checking for sufficient/correct file permissions ... OK
* checking whether package ‘FlowSOM’ can be installed ... OK
* checking installed package size ... OK
* checking package directory ... OK
* checking ‘build’ directory ... OK
* checking DESCRIPTION meta-information ... OK
* checking top-level files ... OK
* checking for left-over files ... OK
* checking index information ... OK
* checking package subdirectories ... OK
* checking R files for non-ASCII characters ... OK
* checking R files for syntax errors ... OK
* checking whether the package can be loaded ... OK
* checking whether the package can be loaded with stated dependencies ... OK
* checking whether the package can be unloaded cleanly ... OK
* checking whether the namespace can be loaded with stated dependencies ... OK
* checking whether the namespace can be unloaded cleanly ... OK
* checking dependencies in R code ... OK
* checking S3 generic/method consistency ... OK
* checking replacement functions ... OK
* checking foreign function calls ... OK
* checking R code for possible problems ... OK
* checking Rd files ... OK
* checking Rd metadata ... OK
* checking Rd cross-references ... OK
* checking for missing documentation entries ... OK
* checking for code/documentation mismatches ... OK
* checking Rd \usage sections ... OK
* checking Rd contents ... OK
* checking for unstated dependencies in examples ... OK
* checking line endings in C/C++/Fortran sources/headers ... OK
* checking compiled code ... NOTE
Note: information on .o files is not available
* checking files in ‘vignettes’ ... OK
* checking examples ... OK
Examples with CPU or elapsed time > 5s
user system elapsed
CountGroups 8.575 0.060 8.634
FlowSOM 6.947 0.056 7.004
ProcessGatingML 6.096 0.027 6.125
* checking for unstated dependencies in vignettes ... OK
* checking package vignettes in ‘inst/doc’ ... OK
* checking running R code from vignettes ... SKIPPED
* checking re-building of vignette outputs ... SKIPPED
* checking PDF version of manual ... OK
* DONE
Status: 1 NOTE
See
‘/home/biocbuild/bbs-3.9-bioc/meat/FlowSOM.Rcheck/00check.log’
for details.
FlowSOM.Rcheck/00install.out
############################################################################## ############################################################################## ### ### Running command: ### ### /home/biocbuild/bbs-3.9-bioc/R/bin/R CMD INSTALL FlowSOM ### ############################################################################## ############################################################################## * installing to library ‘/home/biocbuild/bbs-3.9-bioc/R/library’ * installing *source* package ‘FlowSOM’ ... ** using staged installation ** libs gcc -I"/home/biocbuild/bbs-3.9-bioc/R/include" -DNDEBUG -I/usr/local/include -fpic -g -O2 -Wall -c som.c -o som.o gcc -shared -L/home/biocbuild/bbs-3.9-bioc/R/lib -L/usr/local/lib -o FlowSOM.so som.o -L/home/biocbuild/bbs-3.9-bioc/R/lib -lR installing to /home/biocbuild/bbs-3.9-bioc/R/library/00LOCK-FlowSOM/00new/FlowSOM/libs ** R ** inst ** byte-compile and prepare package for lazy loading ** help *** installing help indices ** building package indices ** installing vignettes ** testing if installed package can be loaded from temporary location ** checking absolute paths in shared objects and dynamic libraries ** testing if installed package can be loaded from final location ** testing if installed package keeps a record of temporary installation path * DONE (FlowSOM)
FlowSOM.Rcheck/FlowSOM-Ex.timings
| name | user | system | elapsed | |
| AggregateFlowFrames | 0.186 | 0.009 | 0.247 | |
| BuildMST | 1.087 | 0.016 | 1.102 | |
| BuildSOM | 1.68 | 0.00 | 1.68 | |
| CountGroups | 8.575 | 0.060 | 8.634 | |
| FMeasure | 0.003 | 0.000 | 0.003 | |
| FlowSOM | 6.947 | 0.056 | 7.004 | |
| FlowSOMSubset | 3.327 | 0.016 | 3.343 | |
| MetaClustering | 4.460 | 0.020 | 4.479 | |
| NewData | 3.322 | 0.008 | 3.331 | |
| PlotCenters | 0.962 | 0.012 | 0.974 | |
| PlotClusters2D | 0.778 | 0.004 | 0.782 | |
| PlotGroups | 0.001 | 0.000 | 0.000 | |
| PlotMarker | 0.976 | 0.004 | 0.980 | |
| PlotNode | 2.938 | 0.012 | 2.954 | |
| PlotNumbers | 0.929 | 0.016 | 0.946 | |
| PlotPies | 4.712 | 0.036 | 4.900 | |
| PlotStars | 1.247 | 0.004 | 1.252 | |
| PlotVariable | 1.357 | 0.000 | 1.358 | |
| ProcessGatingML | 6.096 | 0.027 | 6.125 | |
| Purity | 0.001 | 0.000 | 0.001 | |
| QueryStarPlot | 2.226 | 0.016 | 2.243 | |
| ReadInput | 3.873 | 0.019 | 3.893 | |
| UpdateNodeSize | 1.738 | 0.005 | 1.742 | |
| metaClustering_consensus | 3.107 | 0.004 | 3.111 | |