| Back to Multiple platform build/check report for BioC 3.9 |
|
This page was generated on 2019-10-16 12:38:57 -0400 (Wed, 16 Oct 2019).
| Package 507/1741 | Hostname | OS / Arch | INSTALL | BUILD | CHECK | BUILD BIN | ||||||
| EpiDISH 2.0.2 Shijie Charles Zheng
| malbec2 | Linux (Ubuntu 18.04.2 LTS) / x86_64 | OK | OK | OK | |||||||
| tokay2 | Windows Server 2012 R2 Standard / x64 | OK | OK | OK | [ OK ] | |||||||
| celaya2 | OS X 10.11.6 El Capitan / x86_64 | OK | OK | OK | OK |
| Package: EpiDISH |
| Version: 2.0.2 |
| Command: rm -rf EpiDISH.buildbin-libdir && mkdir EpiDISH.buildbin-libdir && C:\Users\biocbuild\bbs-3.9-bioc\R\bin\R.exe CMD INSTALL --merge-multiarch --build --library=EpiDISH.buildbin-libdir EpiDISH_2.0.2.tar.gz |
| StartedAt: 2019-10-16 09:08:57 -0400 (Wed, 16 Oct 2019) |
| EndedAt: 2019-10-16 09:09:16 -0400 (Wed, 16 Oct 2019) |
| EllapsedTime: 18.6 seconds |
| RetCode: 0 |
| Status: OK |
| PackageFile: EpiDISH_2.0.2.zip |
| PackageFileSize: 1.745 MiB |
##############################################################################
##############################################################################
###
### Running command:
###
### rm -rf EpiDISH.buildbin-libdir && mkdir EpiDISH.buildbin-libdir && C:\Users\biocbuild\bbs-3.9-bioc\R\bin\R.exe CMD INSTALL --merge-multiarch --build --library=EpiDISH.buildbin-libdir EpiDISH_2.0.2.tar.gz
###
##############################################################################
##############################################################################
install for i386
* installing *source* package 'EpiDISH' ...
** using staged installation
** R
** data
*** moving datasets to lazyload DB
** inst
** byte-compile and prepare package for lazy loading
** help
*** installing help indices
converting help for package 'EpiDISH'
finding HTML links ... done
CellDMC html
DummyBeta.m html
LiuDataSub.m html
centBloodSub.m html
centDHSbloodDMC.m html
centEpiFibFatIC.m html
centEpiFibIC.m html
epidish html
hepidish html
** building package indices
** installing vignettes
** testing if installed package can be loaded from temporary location
** testing if installed package can be loaded from final location
** testing if installed package keeps a record of temporary installation path
install for x64
* installing *source* package 'EpiDISH' ...
** testing if installed package can be loaded
* MD5 sums
packaged installation of 'EpiDISH' as EpiDISH_2.0.2.zip
* DONE (EpiDISH)