| Back to Multiple platform build/check report for BioC 3.9 |
|
This page was generated on 2019-10-16 12:54:01 -0400 (Wed, 16 Oct 2019).
| Package 501/1741 | Hostname | OS / Arch | INSTALL | BUILD | CHECK | BUILD BIN | ||||||
| EnrichmentBrowser 2.14.3 Ludwig Geistlinger
| malbec2 | Linux (Ubuntu 18.04.2 LTS) / x86_64 | OK | OK | OK | |||||||
| tokay2 | Windows Server 2012 R2 Standard / x64 | OK | OK | OK | OK | |||||||
| celaya2 | OS X 10.11.6 El Capitan / x86_64 | OK | OK | [ OK ] | OK |
| Package: EnrichmentBrowser |
| Version: 2.14.3 |
| Command: /Library/Frameworks/R.framework/Versions/Current/Resources/bin/R CMD check --install=check:EnrichmentBrowser.install-out.txt --library=/Library/Frameworks/R.framework/Versions/Current/Resources/library --no-vignettes --timings EnrichmentBrowser_2.14.3.tar.gz |
| StartedAt: 2019-10-16 02:32:59 -0400 (Wed, 16 Oct 2019) |
| EndedAt: 2019-10-16 02:43:18 -0400 (Wed, 16 Oct 2019) |
| EllapsedTime: 619.8 seconds |
| RetCode: 0 |
| Status: OK |
| CheckDir: EnrichmentBrowser.Rcheck |
| Warnings: 0 |
##############################################################################
##############################################################################
###
### Running command:
###
### /Library/Frameworks/R.framework/Versions/Current/Resources/bin/R CMD check --install=check:EnrichmentBrowser.install-out.txt --library=/Library/Frameworks/R.framework/Versions/Current/Resources/library --no-vignettes --timings EnrichmentBrowser_2.14.3.tar.gz
###
##############################################################################
##############################################################################
* using log directory ‘/Users/biocbuild/bbs-3.9-bioc/meat/EnrichmentBrowser.Rcheck’
* using R version 3.6.1 (2019-07-05)
* using platform: x86_64-apple-darwin15.6.0 (64-bit)
* using session charset: UTF-8
* using option ‘--no-vignettes’
* checking for file ‘EnrichmentBrowser/DESCRIPTION’ ... OK
* this is package ‘EnrichmentBrowser’ version ‘2.14.3’
* package encoding: UTF-8
* checking package namespace information ... OK
* checking package dependencies ... OK
* checking if this is a source package ... OK
* checking if there is a namespace ... OK
* checking for hidden files and directories ... OK
* checking for portable file names ... OK
* checking for sufficient/correct file permissions ... OK
* checking whether package ‘EnrichmentBrowser’ can be installed ... OK
* checking installed package size ... OK
* checking package directory ... OK
* checking ‘build’ directory ... OK
* checking DESCRIPTION meta-information ... OK
* checking top-level files ... OK
* checking for left-over files ... OK
* checking index information ... OK
* checking package subdirectories ... OK
* checking R files for non-ASCII characters ... OK
* checking R files for syntax errors ... OK
* checking whether the package can be loaded ... OK
* checking whether the package can be loaded with stated dependencies ... OK
* checking whether the package can be unloaded cleanly ... OK
* checking whether the namespace can be loaded with stated dependencies ... OK
* checking whether the namespace can be unloaded cleanly ... OK
* checking dependencies in R code ... NOTE
Unexported object imported by a ':::' call: 'pathview:::parseKGML2Graph2'
See the note in ?`:::` about the use of this operator.
* checking S3 generic/method consistency ... OK
* checking replacement functions ... OK
* checking foreign function calls ... OK
* checking R code for possible problems ... OK
* checking Rd files ... OK
* checking Rd metadata ... OK
* checking Rd cross-references ... OK
* checking for missing documentation entries ... OK
* checking for code/documentation mismatches ... OK
* checking Rd \usage sections ... OK
* checking Rd contents ... OK
* checking for unstated dependencies in examples ... OK
* checking sizes of PDF files under ‘inst/doc’ ... OK
* checking files in ‘vignettes’ ... OK
* checking examples ... OK
Examples with CPU or elapsed time > 5s
user system elapsed
ebrowser 140.560 58.477 199.200
compileGRN 56.787 4.490 61.554
getGenesets 21.422 0.710 25.862
eaBrowse 12.894 1.770 14.749
deAna 5.298 0.307 5.620
* checking for unstated dependencies in vignettes ... OK
* checking package vignettes in ‘inst/doc’ ... OK
* checking running R code from vignettes ... SKIPPED
* checking re-building of vignette outputs ... SKIPPED
* checking PDF version of manual ... OK
* DONE
Status: 1 NOTE
See
‘/Users/biocbuild/bbs-3.9-bioc/meat/EnrichmentBrowser.Rcheck/00check.log’
for details.
EnrichmentBrowser.Rcheck/00install.out
############################################################################## ############################################################################## ### ### Running command: ### ### /Library/Frameworks/R.framework/Versions/Current/Resources/bin/R CMD INSTALL EnrichmentBrowser ### ############################################################################## ############################################################################## * installing to library ‘/Library/Frameworks/R.framework/Versions/3.6/Resources/library’ * installing *source* package ‘EnrichmentBrowser’ ... ** using staged installation ** R ** inst ** byte-compile and prepare package for lazy loading ** help *** installing help indices ** building package indices ** installing vignettes ** testing if installed package can be loaded from temporary location ** testing if installed package can be loaded from final location ** testing if installed package keeps a record of temporary installation path * DONE (EnrichmentBrowser)
EnrichmentBrowser.Rcheck/EnrichmentBrowser-Ex.timings
| name | user | system | elapsed | |
| combResults | 1.030 | 0.100 | 1.141 | |
| compileGRN | 56.787 | 4.490 | 61.554 | |
| configEBrowser | 0.001 | 0.000 | 0.001 | |
| deAna | 5.298 | 0.307 | 5.620 | |
| downloadPathways | 0.001 | 0.000 | 0.000 | |
| eaBrowse | 12.894 | 1.770 | 14.749 | |
| ebrowser | 140.560 | 58.477 | 199.200 | |
| getGenesets | 21.422 | 0.710 | 25.862 | |
| ggeaGraph | 1.004 | 0.075 | 1.079 | |
| idMap | 0.771 | 0.069 | 0.841 | |
| isAvailable | 0 | 0 | 0 | |
| makeExampleData | 0.034 | 0.001 | 0.035 | |
| nbea | 0.530 | 0.010 | 0.539 | |
| normalize | 2.252 | 0.090 | 2.342 | |
| plots | 1.742 | 0.051 | 1.796 | |
| probe2gene | 0.129 | 0.009 | 0.138 | |
| readSE | 0.079 | 0.008 | 0.086 | |
| sbea | 0.319 | 0.003 | 0.366 | |
| vst | 0.521 | 0.003 | 0.523 | |