| Back to Multiple platform build/check report for BioC 3.9 |
|
This page was generated on 2019-10-16 12:34:03 -0400 (Wed, 16 Oct 2019).
| Package 500/1741 | Hostname | OS / Arch | INSTALL | BUILD | CHECK | BUILD BIN | ||||||
| EnrichedHeatmap 1.14.0 Zuguang Gu
| malbec2 | Linux (Ubuntu 18.04.2 LTS) / x86_64 | OK | OK | OK | |||||||
| tokay2 | Windows Server 2012 R2 Standard / x64 | OK | OK | OK | [ OK ] | |||||||
| celaya2 | OS X 10.11.6 El Capitan / x86_64 | OK | OK | OK | OK |
| Package: EnrichedHeatmap |
| Version: 1.14.0 |
| Command: rm -rf EnrichedHeatmap.buildbin-libdir && mkdir EnrichedHeatmap.buildbin-libdir && C:\Users\biocbuild\bbs-3.9-bioc\R\bin\R.exe CMD INSTALL --merge-multiarch --build --library=EnrichedHeatmap.buildbin-libdir EnrichedHeatmap_1.14.0.tar.gz |
| StartedAt: 2019-10-16 09:08:35 -0400 (Wed, 16 Oct 2019) |
| EndedAt: 2019-10-16 09:09:32 -0400 (Wed, 16 Oct 2019) |
| EllapsedTime: 56.9 seconds |
| RetCode: 0 |
| Status: OK |
| PackageFile: EnrichedHeatmap_1.14.0.zip |
| PackageFileSize: 6.93 MiB |
##############################################################################
##############################################################################
###
### Running command:
###
### rm -rf EnrichedHeatmap.buildbin-libdir && mkdir EnrichedHeatmap.buildbin-libdir && C:\Users\biocbuild\bbs-3.9-bioc\R\bin\R.exe CMD INSTALL --merge-multiarch --build --library=EnrichedHeatmap.buildbin-libdir EnrichedHeatmap_1.14.0.tar.gz
###
##############################################################################
##############################################################################
install for i386
* installing *source* package 'EnrichedHeatmap' ...
** using staged installation
** libs
C:/Rtools/mingw_32/bin/g++ -I"C:/Users/BIOCBU~1/BBS-3~1.9-B/R/include" -DNDEBUG -I"C:/Users/biocbuild/bbs-3.9-bioc/R/library/Rcpp/include" -I"C:/extsoft/include" -O2 -Wall -mtune=generic -c RcppExports.cpp -o RcppExports.o
C:/Rtools/mingw_32/bin/g++ -I"C:/Users/BIOCBU~1/BBS-3~1.9-B/R/include" -DNDEBUG -I"C:/Users/biocbuild/bbs-3.9-bioc/R/library/Rcpp/include" -I"C:/extsoft/include" -O2 -Wall -mtune=generic -c dist_by_closeness.cpp -o dist_by_closeness.o
C:/Rtools/mingw_32/bin/g++ -shared -s -static-libgcc -o EnrichedHeatmap.dll tmp.def RcppExports.o dist_by_closeness.o -LC:/extsoft/lib/i386 -LC:/extsoft/lib -LC:/Users/BIOCBU~1/BBS-3~1.9-B/R/bin/i386 -lR
installing to C:/Users/biocbuild/bbs-3.9-bioc/meat/EnrichedHeatmap.buildbin-libdir/00LOCK-EnrichedHeatmap/00new/EnrichedHeatmap/libs/i386
** R
** inst
** byte-compile and prepare package for lazy loading
** help
*** installing help indices
converting help for package 'EnrichedHeatmap'
finding HTML links ... done
EnrichedHeatmap html
finding level-2 HTML links ... done
Extract.normalizedMatrix html
anno_enriched html
as.normalizedMatrix html
copyAttr html
default_smooth_fun html
discretize html
dist_by_closeness html
enriched_score html
extract_anno_enriched html
failed_rows html
getSignalsFromList html
makeWindows html
normalizeToMatrix html
print.normalizedMatrix html
rbind.normalizedMatrix html
** building package indices
** installing vignettes
** testing if installed package can be loaded from temporary location
** testing if installed package can be loaded from final location
** testing if installed package keeps a record of temporary installation path
install for x64
* installing *source* package 'EnrichedHeatmap' ...
** libs
C:/Rtools/mingw_64/bin/g++ -I"C:/Users/BIOCBU~1/BBS-3~1.9-B/R/include" -DNDEBUG -I"C:/Users/biocbuild/bbs-3.9-bioc/R/library/Rcpp/include" -I"C:/extsoft/include" -O2 -Wall -mtune=generic -c RcppExports.cpp -o RcppExports.o
C:/Rtools/mingw_64/bin/g++ -I"C:/Users/BIOCBU~1/BBS-3~1.9-B/R/include" -DNDEBUG -I"C:/Users/biocbuild/bbs-3.9-bioc/R/library/Rcpp/include" -I"C:/extsoft/include" -O2 -Wall -mtune=generic -c dist_by_closeness.cpp -o dist_by_closeness.o
C:/Rtools/mingw_64/bin/g++ -shared -s -static-libgcc -o EnrichedHeatmap.dll tmp.def RcppExports.o dist_by_closeness.o -LC:/extsoft/lib/x64 -LC:/extsoft/lib -LC:/Users/BIOCBU~1/BBS-3~1.9-B/R/bin/x64 -lR
installing to C:/Users/biocbuild/bbs-3.9-bioc/meat/EnrichedHeatmap.buildbin-libdir/EnrichedHeatmap/libs/x64
** testing if installed package can be loaded
* MD5 sums
packaged installation of 'EnrichedHeatmap' as EnrichedHeatmap_1.14.0.zip
* DONE (EnrichedHeatmap)