| Back to Multiple platform build/check report for BioC 3.9 |
|
This page was generated on 2019-10-16 12:33:07 -0400 (Wed, 16 Oct 2019).
| Package 499/1741 | Hostname | OS / Arch | INSTALL | BUILD | CHECK | BUILD BIN | ||||||
| ENmix 1.21.6 Zongli Xu
| malbec2 | Linux (Ubuntu 18.04.2 LTS) / x86_64 | OK | OK | OK | |||||||
| tokay2 | Windows Server 2012 R2 Standard / x64 | OK | OK | OK | [ OK ] | |||||||
| celaya2 | OS X 10.11.6 El Capitan / x86_64 | OK | OK | OK | OK |
| Package: ENmix |
| Version: 1.21.6 |
| Command: rm -rf ENmix.buildbin-libdir && mkdir ENmix.buildbin-libdir && C:\Users\biocbuild\bbs-3.9-bioc\R\bin\R.exe CMD INSTALL --merge-multiarch --build --library=ENmix.buildbin-libdir ENmix_1.21.6.tar.gz |
| StartedAt: 2019-10-16 09:08:30 -0400 (Wed, 16 Oct 2019) |
| EndedAt: 2019-10-16 09:09:54 -0400 (Wed, 16 Oct 2019) |
| EllapsedTime: 83.6 seconds |
| RetCode: 0 |
| Status: OK |
| PackageFile: ENmix_1.21.6.zip |
| PackageFileSize: 1.443 MiB |
##############################################################################
##############################################################################
###
### Running command:
###
### rm -rf ENmix.buildbin-libdir && mkdir ENmix.buildbin-libdir && C:\Users\biocbuild\bbs-3.9-bioc\R\bin\R.exe CMD INSTALL --merge-multiarch --build --library=ENmix.buildbin-libdir ENmix_1.21.6.tar.gz
###
##############################################################################
##############################################################################
install for i386
* installing *source* package 'ENmix' ...
** using staged installation
** R
** inst
** byte-compile and prepare package for lazy loading
** help
*** installing help indices
converting help for package 'ENmix'
finding HTML links ... done
B2M html
ComBat.mc html
M2B html
QCfilter html
QCinfo html
bmiq.mc html
calc_detP html
ctrlsva html
dupicc html
estimateCellProp html
freqpoly html
getB html
getBeta html
getCGinfo html
getmeth html
methDataSet-class html
methyAge html
mpreprocess html
finding level-2 HTML links ... done
multifreqpoly html
nmode.mc html
norm.quantile html
normalize.quantile.450k html
oxBS.MLE html
pcrplot html
plotCtrl html
predSex html
preprocessENmix html
rcp html
readidat html
readmanifest html
relic html
rgDataSet-class html
rm.outlier html
** building package indices
** installing vignettes
** testing if installed package can be loaded from temporary location
** testing if installed package can be loaded from final location
** testing if installed package keeps a record of temporary installation path
install for x64
* installing *source* package 'ENmix' ...
** testing if installed package can be loaded
* MD5 sums
packaged installation of 'ENmix' as ENmix_1.21.6.zip
* DONE (ENmix)