| Back to Multiple platform build/check report for BioC 3.9 |
|
This page was generated on 2019-04-09 13:31:36 -0400 (Tue, 09 Apr 2019).
| Package 487/1703 | Hostname | OS / Arch | INSTALL | BUILD | CHECK | BUILD BIN | ||||||
| EMDomics 2.13.0 Sadhika Malladi
| malbec2 | Linux (Ubuntu 18.04.2 LTS) / x86_64 | OK | OK | OK | |||||||
| tokay2 | Windows Server 2012 R2 Standard / x64 | OK | OK | WARNINGS | OK | |||||||
| celaya2 | OS X 10.11.6 El Capitan / x86_64 | OK | OK | OK | OK | |||||||
| merida2 | OS X 10.11.6 El Capitan / x86_64 | OK | OK | [ OK ] | OK |
| Package: EMDomics |
| Version: 2.13.0 |
| Command: /Library/Frameworks/R.framework/Versions/Current/Resources/bin/R CMD check --install=check:EMDomics.install-out.txt --library=/Library/Frameworks/R.framework/Versions/Current/Resources/library --no-vignettes --timings EMDomics_2.13.0.tar.gz |
| StartedAt: 2019-04-09 00:41:59 -0400 (Tue, 09 Apr 2019) |
| EndedAt: 2019-04-09 00:43:28 -0400 (Tue, 09 Apr 2019) |
| EllapsedTime: 88.3 seconds |
| RetCode: 0 |
| Status: OK |
| CheckDir: EMDomics.Rcheck |
| Warnings: 0 |
##############################################################################
##############################################################################
###
### Running command:
###
### /Library/Frameworks/R.framework/Versions/Current/Resources/bin/R CMD check --install=check:EMDomics.install-out.txt --library=/Library/Frameworks/R.framework/Versions/Current/Resources/library --no-vignettes --timings EMDomics_2.13.0.tar.gz
###
##############################################################################
##############################################################################
* using log directory ‘/Users/biocbuild/bbs-3.9-bioc/meat/EMDomics.Rcheck’
* using R Under development (unstable) (2018-11-27 r75683)
* using platform: x86_64-apple-darwin15.6.0 (64-bit)
* using session charset: UTF-8
* using option ‘--no-vignettes’
* checking for file ‘EMDomics/DESCRIPTION’ ... OK
* this is package ‘EMDomics’ version ‘2.13.0’
* checking package namespace information ... OK
* checking package dependencies ... OK
* checking if this is a source package ... OK
* checking if there is a namespace ... OK
* checking for hidden files and directories ... OK
* checking for portable file names ... OK
* checking for sufficient/correct file permissions ... OK
* checking whether package ‘EMDomics’ can be installed ... OK
* checking installed package size ... OK
* checking package directory ... OK
* checking ‘build’ directory ... OK
* checking DESCRIPTION meta-information ... NOTE
Authors@R field gives more than one person with maintainer role:
Sadhika Malladi <contact@sadhikamalladi.com> [aut, cre]
Daniel Schmolze <emd@schmolze.com> [aut, cre]
* checking top-level files ... OK
* checking for left-over files ... OK
* checking index information ... OK
* checking package subdirectories ... OK
* checking R files for non-ASCII characters ... OK
* checking R files for syntax errors ... OK
* checking whether the package can be loaded ... OK
* checking whether the package can be loaded with stated dependencies ... OK
* checking whether the package can be unloaded cleanly ... OK
* checking whether the namespace can be loaded with stated dependencies ... OK
* checking whether the namespace can be unloaded cleanly ... OK
* checking dependencies in R code ... OK
* checking S3 generic/method consistency ... OK
* checking replacement functions ... OK
* checking foreign function calls ... OK
* checking R code for possible problems ... NOTE
.cvm_pairwise_q: no visible global function definition for ‘combn’
.cvm_pairwise_q : <anonymous>: no visible global function definition
for ‘median’
.emd_gene_pairwise: no visible global function definition for ‘hist’
.emd_pairwise_q: no visible global function definition for ‘combn’
.emd_pairwise_q : <anonymous>: no visible global function definition
for ‘median’
.ks_pairwise_table: no visible global function definition for ‘ks.test’
calculate_cvm: no visible global function definition for ‘combn’
calculate_cvm : <anonymous>: no visible global function definition for
‘median’
calculate_cvm_gene: no visible global function definition for ‘combn’
calculate_emd: no visible global function definition for ‘combn’
calculate_emd : <anonymous>: no visible global function definition for
‘median’
calculate_emd_gene: no visible global function definition for ‘combn’
calculate_ks: no visible global function definition for ‘combn’
calculate_ks : <anonymous>: no visible global function definition for
‘p.adjust’
calculate_ks : <anonymous>: no visible global function definition for
‘median’
calculate_ks_gene: no visible global function definition for ‘combn’
calculate_ks_gene: no visible global function definition for ‘ks.test’
Undefined global functions or variables:
combn hist ks.test median p.adjust
Consider adding
importFrom("graphics", "hist")
importFrom("stats", "ks.test", "median", "p.adjust")
importFrom("utils", "combn")
to your NAMESPACE file.
* checking Rd files ... OK
* checking Rd metadata ... OK
* checking Rd cross-references ... OK
* checking for missing documentation entries ... OK
* checking for code/documentation mismatches ... OK
* checking Rd \usage sections ... OK
* checking Rd contents ... OK
* checking for unstated dependencies in examples ... OK
* checking files in ‘vignettes’ ... OK
* checking examples ... OK
Examples with CPU or elapsed time > 5s
user system elapsed
plot_cvmperms 8.740 0.054 8.906
plot_cvm_density 8.643 0.059 8.790
calculate_cvm 8.292 0.095 8.444
plot_emd_density 4.983 0.066 5.087
* checking for unstated dependencies in vignettes ... OK
* checking package vignettes in ‘inst/doc’ ... OK
* checking running R code from vignettes ... SKIPPED
* checking re-building of vignette outputs ... SKIPPED
* checking PDF version of manual ... OK
* DONE
Status: 2 NOTEs
See
‘/Users/biocbuild/bbs-3.9-bioc/meat/EMDomics.Rcheck/00check.log’
for details.
EMDomics.Rcheck/00install.out
############################################################################## ############################################################################## ### ### Running command: ### ### /Library/Frameworks/R.framework/Versions/Current/Resources/bin/R CMD INSTALL EMDomics ### ############################################################################## ############################################################################## * installing to library ‘/Library/Frameworks/R.framework/Versions/3.6/Resources/library’ * installing *source* package ‘EMDomics’ ... ** R ** byte-compile and prepare package for lazy loading ** help *** installing help indices ** building package indices ** installing vignettes ** testing if installed package can be loaded * DONE (EMDomics)
EMDomics.Rcheck/EMDomics-Ex.timings
| name | user | system | elapsed | |
| calculate_cvm | 8.292 | 0.095 | 8.444 | |
| calculate_cvm_gene | 0.010 | 0.001 | 0.010 | |
| calculate_emd | 4.503 | 0.068 | 4.622 | |
| calculate_emd_gene | 0.007 | 0.000 | 0.007 | |
| calculate_ks | 1.438 | 0.039 | 1.493 | |
| calculate_ks_gene | 0.017 | 0.001 | 0.017 | |
| plot_cvm_density | 8.643 | 0.059 | 8.790 | |
| plot_cvmnull | 3.425 | 0.024 | 3.477 | |
| plot_cvmperms | 8.740 | 0.054 | 8.906 | |
| plot_emd_density | 4.983 | 0.066 | 5.087 | |
| plot_emdnull | 1.910 | 0.026 | 1.952 | |
| plot_emdperms | 4.679 | 0.051 | 4.778 | |
| plot_ks_density | 1.777 | 0.034 | 1.828 | |
| plot_ksnull | 0.710 | 0.019 | 0.735 | |
| plot_ksperms | 1.459 | 0.031 | 1.499 | |