This page was generated on 2019-10-16 12:17:39 -0400 (Wed, 16 Oct 2019).
##############################################################################
##############################################################################
###
### Running command:
###
###   /home/biocbuild/bbs-3.9-bioc/R/bin/R CMD INSTALL DepecheR
###
##############################################################################
##############################################################################
* installing to library ‘/home/biocbuild/bbs-3.9-bioc/R/library’
* installing *source* package ‘DepecheR’ ...
** using staged installation
** libs
g++ -std=gnu++11 -I"/home/biocbuild/bbs-3.9-bioc/R/include" -DNDEBUG -I../inst/include -pthread -I"/home/biocbuild/bbs-3.9-bioc/R/library/Rcpp/include" -I"/home/biocbuild/bbs-3.9-bioc/R/library/RcppEigen/include" -I/usr/local/include  -fpic  -g -O2  -Wall -c Clusterer.cpp -o Clusterer.o
In file included from /home/biocbuild/bbs-3.9-bioc/R/library/RcppEigen/include/Eigen/Core:392:0,
                 from Clusterer.h:14,
                 from Clusterer.cpp:14:
/home/biocbuild/bbs-3.9-bioc/R/library/RcppEigen/include/Eigen/src/Core/arch/SSE/PacketMath.h:60:39: warning: ignoring attributes on template argument ‘__m128 {aka __vector(4) float}’ [-Wignored-attributes]
 template<> struct is_arithmetic<__m128>  { enum { value = true }; };
                                       ^
/home/biocbuild/bbs-3.9-bioc/R/library/RcppEigen/include/Eigen/src/Core/arch/SSE/PacketMath.h:61:40: warning: ignoring attributes on template argument ‘__m128i {aka __vector(2) long long int}’ [-Wignored-attributes]
 template<> struct is_arithmetic<__m128i> { enum { value = true }; };
                                        ^
/home/biocbuild/bbs-3.9-bioc/R/library/RcppEigen/include/Eigen/src/Core/arch/SSE/PacketMath.h:62:40: warning: ignoring attributes on template argument ‘__m128d {aka __vector(2) double}’ [-Wignored-attributes]
 template<> struct is_arithmetic<__m128d> { enum { value = true }; };
                                        ^
/home/biocbuild/bbs-3.9-bioc/R/library/RcppEigen/include/Eigen/src/Core/arch/SSE/PacketMath.h:161:43: warning: ignoring attributes on template argument ‘Eigen::internal::Packet4f {aka __vector(4) float}’ [-Wignored-attributes]
 template<> struct unpacket_traits { typedef float  type; enum {size=4, alignment=Aligned16}; typedef Packet4f half; };
                                           ^
In file included from /home/biocbuild/bbs-3.9-bioc/R/library/RcppEigen/include/Eigen/Core:392:0,
                 from Clusterer.h:14,
                 from Clusterer.cpp:14:
/home/biocbuild/bbs-3.9-bioc/R/library/RcppEigen/include/Eigen/src/Core/arch/SSE/PacketMath.h:162:43: warning: ignoring attributes on template argument ‘Eigen::internal::Packet2d {aka __vector(2) double}’ [-Wignored-attributes]
 template<> struct unpacket_traits { typedef double type; enum {size=2, alignment=Aligned16}; typedef Packet2d half; };
                                           ^
/home/biocbuild/bbs-3.9-bioc/R/library/RcppEigen/include/Eigen/src/Core/arch/SSE/PacketMath.h:163:43: warning: ignoring attributes on template argument ‘Eigen::internal::Packet4i {aka __vector(2) long long int}’ [-Wignored-attributes]
 template<> struct unpacket_traits { typedef int    type; enum {size=4, alignment=Aligned16}; typedef Packet4i half; };
                                           ^
/home/biocbuild/bbs-3.9-bioc/R/library/RcppEigen/include/Eigen/src/Core/arch/SSE/PacketMath.h:718:35: warning: ignoring attributes on template argument ‘Eigen::internal::Packet4f {aka __vector(4) float}’ [-Wignored-attributes]
 struct palign_impl
                                   ^
/home/biocbuild/bbs-3.9-bioc/R/library/RcppEigen/include/Eigen/src/Core/arch/SSE/PacketMath.h:741:35: warning: ignoring attributes on template argument ‘Eigen::internal::Packet4i {aka __vector(2) long long int}’ [-Wignored-attributes]
 struct palign_impl
                                   ^
/home/biocbuild/bbs-3.9-bioc/R/library/RcppEigen/include/Eigen/src/Core/arch/SSE/PacketMath.h:764:35: warning: ignoring attributes on template argument ‘Eigen::internal::Packet2d {aka __vector(2) double}’ [-Wignored-attributes]
 struct palign_impl
                                   ^
/home/biocbuild/bbs-3.9-bioc/R/library/RcppEigen/include/Eigen/src/Core/arch/SSE/PacketMath.h:778:34: warning: ignoring attributes on template argument ‘Eigen::internal::Packet4f {aka __vector(4) float}’ [-Wignored-attributes]
 ptranspose(PacketBlock& kernel) {
                                  ^
/home/biocbuild/bbs-3.9-bioc/R/library/RcppEigen/include/Eigen/src/Core/arch/SSE/PacketMath.h:783:34: warning: ignoring attributes on template argument ‘Eigen::internal::Packet2d {aka __vector(2) double}’ [-Wignored-attributes]
 ptranspose(PacketBlock& kernel) {
                                  ^
/home/biocbuild/bbs-3.9-bioc/R/library/RcppEigen/include/Eigen/src/Core/arch/SSE/PacketMath.h:790:34: warning: ignoring attributes on template argument ‘Eigen::internal::Packet4i {aka __vector(2) long long int}’ [-Wignored-attributes]
 ptranspose(PacketBlock& kernel) {
                                  ^
In file included from /home/biocbuild/bbs-3.9-bioc/R/library/RcppEigen/include/Eigen/Core:374:0,
                 from Clusterer.h:14,
                 from Clusterer.cpp:14:
/home/biocbuild/bbs-3.9-bioc/R/library/RcppEigen/include/Eigen/src/Core/arch/Default/ConjHelper.h:15:70: warning: ignoring attributes on template argument ‘Eigen::internal::Packet4f {aka __vector(4) float}’ [-Wignored-attributes]
   template<> struct conj_helper {                                          \
                                                                      ^
/home/biocbuild/bbs-3.9-bioc/R/library/RcppEigen/include/Eigen/src/Core/arch/SSE/Complex.h:232:1: note: in expansion of macro ‘EIGEN_MAKE_CONJ_HELPER_CPLX_REAL’
 EIGEN_MAKE_CONJ_HELPER_CPLX_REAL(Packet2cf,Packet4f)
 ^~~~~~~~~~~~~~~~~~~~~~~~~~~~~~~~
/home/biocbuild/bbs-3.9-bioc/R/library/RcppEigen/include/Eigen/src/Core/arch/Default/ConjHelper.h:22:70: warning: ignoring attributes on template argument ‘Eigen::internal::Packet4f {aka __vector(4) float}’ [-Wignored-attributes]
   template<> struct conj_helper {                                          \
                                                                      ^
/home/biocbuild/bbs-3.9-bioc/R/library/RcppEigen/include/Eigen/src/Core/arch/SSE/Complex.h:232:1: note: in expansion of macro ‘EIGEN_MAKE_CONJ_HELPER_CPLX_REAL’
 EIGEN_MAKE_CONJ_HELPER_CPLX_REAL(Packet2cf,Packet4f)
 ^~~~~~~~~~~~~~~~~~~~~~~~~~~~~~~~
/home/biocbuild/bbs-3.9-bioc/R/library/RcppEigen/include/Eigen/src/Core/arch/Default/ConjHelper.h:15:70: warning: ignoring attributes on template argument ‘Eigen::internal::Packet2d {aka __vector(2) double}’ [-Wignored-attributes]
   template<> struct conj_helper {                                          \
                                                                      ^
/home/biocbuild/bbs-3.9-bioc/R/library/RcppEigen/include/Eigen/src/Core/arch/SSE/Complex.h:417:1: note: in expansion of macro ‘EIGEN_MAKE_CONJ_HELPER_CPLX_REAL’
 EIGEN_MAKE_CONJ_HELPER_CPLX_REAL(Packet1cd,Packet2d)
 ^~~~~~~~~~~~~~~~~~~~~~~~~~~~~~~~
/home/biocbuild/bbs-3.9-bioc/R/library/RcppEigen/include/Eigen/src/Core/arch/Default/ConjHelper.h:22:70: warning: ignoring attributes on template argument ‘Eigen::internal::Packet2d {aka __vector(2) double}’ [-Wignored-attributes]
   template<> struct conj_helper {                                          \
                                                                      ^
/home/biocbuild/bbs-3.9-bioc/R/library/RcppEigen/include/Eigen/src/Core/arch/SSE/Complex.h:417:1: note: in expansion of macro ‘EIGEN_MAKE_CONJ_HELPER_CPLX_REAL’
 EIGEN_MAKE_CONJ_HELPER_CPLX_REAL(Packet1cd,Packet2d)
 ^~~~~~~~~~~~~~~~~~~~~~~~~~~~~~~~
In file included from /home/biocbuild/bbs-3.9-bioc/R/library/RcppEigen/include/Eigen/Core:367:0,
                 from Clusterer.h:14,
                 from Clusterer.cpp:14:
/home/biocbuild/bbs-3.9-bioc/R/library/RcppEigen/include/Eigen/src/Core/util/XprHelper.h: In instantiation of ‘struct Eigen::internal::find_best_packet’:
/home/biocbuild/bbs-3.9-bioc/R/library/RcppEigen/include/Eigen/src/Core/Matrix.h:22:57:   required from ‘struct Eigen::internal::traits >’
/home/biocbuild/bbs-3.9-bioc/R/library/RcppEigen/include/Eigen/src/Geometry/Quaternion.h:224:7:   required from ‘struct Eigen::internal::traits >’
/home/biocbuild/bbs-3.9-bioc/R/library/RcppEigen/include/Eigen/src/Geometry/arch/Geometry_SSE.h:24:46:   required from here
/home/biocbuild/bbs-3.9-bioc/R/library/RcppEigen/include/Eigen/src/Core/util/XprHelper.h:170:44: warning: ignoring attributes on template argument ‘Eigen::internal::packet_traits::type {aka __vector(4) float}’ [-Wignored-attributes]
          bool Stop = Size==Dynamic || (Size%unpacket_traits::size)==0 || is_same::half>::value>
                                       ~~~~~^~~~~~~~~~~~~~~~~~~~~~~~~~~~~~~~~~~
/home/biocbuild/bbs-3.9-bioc/R/library/RcppEigen/include/Eigen/src/Core/util/XprHelper.h:170:83: warning: ignoring attributes on template argument ‘Eigen::internal::packet_traits::type {aka __vector(4) float}’ [-Wignored-attributes]
          bool Stop = Size==Dynamic || (Size%unpacket_traits::size)==0 || is_same::half>::value>
                      ~~~~~~~~~~~~~~~~~~~~~~~~~~~~~~~~~~~~~~~~~~~~~~~~~~~~~~~~~~~~~^~~~~~~~~~~~~~~~~~~~~~~~~~~~~~~~~~~~~~~~~~~~~~~~~~~~~~~~~~~~~~~~~
/home/biocbuild/bbs-3.9-bioc/R/library/RcppEigen/include/Eigen/src/Core/util/XprHelper.h:170:83: warning: ignoring attributes on template argument ‘Eigen::internal::packet_traits::type {aka __vector(4) float}’ [-Wignored-attributes]
/home/biocbuild/bbs-3.9-bioc/R/library/RcppEigen/include/Eigen/src/Core/util/XprHelper.h:170:83: warning: ignoring attributes on template argument ‘Eigen::internal::unpacket_traits<__vector(4) float>::half {aka __vector(4) float}’ [-Wignored-attributes]
/home/biocbuild/bbs-3.9-bioc/R/library/RcppEigen/include/Eigen/src/Core/util/XprHelper.h:188:88: warning: ignoring attributes on template argument ‘Eigen::internal::packet_traits::type {aka __vector(4) float}’ [-Wignored-attributes]
   typedef typename find_best_packet_helper::type>::type type;
                                                                                        ^~~~
In file included from /home/biocbuild/bbs-3.9-bioc/R/library/RcppEigen/include/Eigen/Core:434:0,
                 from Clusterer.h:14,
                 from Clusterer.cpp:14:
/home/biocbuild/bbs-3.9-bioc/R/library/RcppEigen/include/Eigen/src/Core/DenseCoeffsBase.h: In instantiation of ‘class Eigen::DenseCoeffsBase, 0>’:
/home/biocbuild/bbs-3.9-bioc/R/library/RcppEigen/include/Eigen/src/Core/DenseCoeffsBase.h:300:7:   required from ‘class Eigen::DenseCoeffsBase, 1>’
/home/biocbuild/bbs-3.9-bioc/R/library/RcppEigen/include/Eigen/src/Core/DenseCoeffsBase.h:551:7:   required from ‘class Eigen::DenseCoeffsBase, 3>’
/home/biocbuild/bbs-3.9-bioc/R/library/RcppEigen/include/Eigen/src/Core/DenseBase.h:41:34:   required from ‘class Eigen::DenseBase >’
/home/biocbuild/bbs-3.9-bioc/R/library/RcppEigen/include/Eigen/src/Core/MatrixBase.h:48:34:   required from ‘class Eigen::MatrixBase >’
/home/biocbuild/bbs-3.9-bioc/R/library/RcppEigen/include/Eigen/src/Core/PlainObjectBase.h:98:7:   required from ‘class Eigen::PlainObjectBase >’
/home/biocbuild/bbs-3.9-bioc/R/library/RcppEigen/include/Eigen/src/Core/Matrix.h:178:7:   required from ‘class Eigen::Matrix’
/home/biocbuild/bbs-3.9-bioc/R/library/RcppEigen/include/Eigen/src/Geometry/Quaternion.h:46:50:   required from ‘class Eigen::QuaternionBase >’
/home/biocbuild/bbs-3.9-bioc/R/library/RcppEigen/include/Eigen/src/Geometry/Quaternion.h:232:7:   required from ‘class Eigen::Quaternion’
/home/biocbuild/bbs-3.9-bioc/R/library/RcppEigen/include/Eigen/src/Geometry/arch/Geometry_SSE.h:27:3:   required from here
/home/biocbuild/bbs-3.9-bioc/R/library/RcppEigen/include/Eigen/src/Core/DenseCoeffsBase.h:55:30: warning: ignoring attributes on template argument ‘Eigen::internal::packet_traits::type {aka __vector(4) float}’ [-Wignored-attributes]
                      >::type PacketReturnType;
                              ^~~~~~~~~~~~~~~~
In file included from /home/biocbuild/bbs-3.9-bioc/R/library/RcppEigen/include/Eigen/Core:367:0,
                 from Clusterer.h:14,
                 from Clusterer.cpp:14:
/home/biocbuild/bbs-3.9-bioc/R/library/RcppEigen/include/Eigen/src/Core/util/XprHelper.h: In instantiation of ‘struct Eigen::internal::find_best_packet’:
/home/biocbuild/bbs-3.9-bioc/R/library/RcppEigen/include/Eigen/src/Core/Matrix.h:22:57:   required from ‘struct Eigen::internal::traits >’
/home/biocbuild/bbs-3.9-bioc/R/library/RcppEigen/include/Eigen/src/Geometry/Quaternion.h:224:7:   required from ‘struct Eigen::internal::traits >’
/home/biocbuild/bbs-3.9-bioc/R/library/RcppEigen/include/Eigen/src/Geometry/arch/Geometry_SSE.h:88:47:   required from here
/home/biocbuild/bbs-3.9-bioc/R/library/RcppEigen/include/Eigen/src/Core/util/XprHelper.h:170:44: warning: ignoring attributes on template argument ‘Eigen::internal::packet_traits::type {aka __vector(2) double}’ [-Wignored-attributes]
          bool Stop = Size==Dynamic || (Size%unpacket_traits::size)==0 || is_same::half>::value>
                                       ~~~~~^~~~~~~~~~~~~~~~~~~~~~~~~~~~~~~~~~~
/home/biocbuild/bbs-3.9-bioc/R/library/RcppEigen/include/Eigen/src/Core/util/XprHelper.h:170:83: warning: ignoring attributes on template argument ‘Eigen::internal::packet_traits::type {aka __vector(2) double}’ [-Wignored-attributes]
          bool Stop = Size==Dynamic || (Size%unpacket_traits::size)==0 || is_same::half>::value>
                      ~~~~~~~~~~~~~~~~~~~~~~~~~~~~~~~~~~~~~~~~~~~~~~~~~~~~~~~~~~~~~^~~~~~~~~~~~~~~~~~~~~~~~~~~~~~~~~~~~~~~~~~~~~~~~~~~~~~~~~~~~~~~~~
/home/biocbuild/bbs-3.9-bioc/R/library/RcppEigen/include/Eigen/src/Core/util/XprHelper.h:170:83: warning: ignoring attributes on template argument ‘Eigen::internal::packet_traits::type {aka __vector(2) double}’ [-Wignored-attributes]
/home/biocbuild/bbs-3.9-bioc/R/library/RcppEigen/include/Eigen/src/Core/util/XprHelper.h:170:83: warning: ignoring attributes on template argument ‘Eigen::internal::unpacket_traits<__vector(2) double>::half {aka __vector(2) double}’ [-Wignored-attributes]
/home/biocbuild/bbs-3.9-bioc/R/library/RcppEigen/include/Eigen/src/Core/util/XprHelper.h:188:88: warning: ignoring attributes on template argument ‘Eigen::internal::packet_traits::type {aka __vector(2) double}’ [-Wignored-attributes]
   typedef typename find_best_packet_helper::type>::type type;
                                                                                        ^~~~
In file included from /home/biocbuild/bbs-3.9-bioc/R/library/RcppEigen/include/Eigen/Core:434:0,
                 from Clusterer.h:14,
                 from Clusterer.cpp:14:
/home/biocbuild/bbs-3.9-bioc/R/library/RcppEigen/include/Eigen/src/Core/DenseCoeffsBase.h: In instantiation of ‘class Eigen::DenseCoeffsBase, 0>’:
/home/biocbuild/bbs-3.9-bioc/R/library/RcppEigen/include/Eigen/src/Core/DenseCoeffsBase.h:300:7:   required from ‘class Eigen::DenseCoeffsBase, 1>’
/home/biocbuild/bbs-3.9-bioc/R/library/RcppEigen/include/Eigen/src/Core/DenseCoeffsBase.h:551:7:   required from ‘class Eigen::DenseCoeffsBase, 3>’
/home/biocbuild/bbs-3.9-bioc/R/library/RcppEigen/include/Eigen/src/Core/DenseBase.h:41:34:   required from ‘class Eigen::DenseBase >’
/home/biocbuild/bbs-3.9-bioc/R/library/RcppEigen/include/Eigen/src/Core/MatrixBase.h:48:34:   required from ‘class Eigen::MatrixBase >’
/home/biocbuild/bbs-3.9-bioc/R/library/RcppEigen/include/Eigen/src/Core/PlainObjectBase.h:98:7:   required from ‘class Eigen::PlainObjectBase >’
/home/biocbuild/bbs-3.9-bioc/R/library/RcppEigen/include/Eigen/src/Core/Matrix.h:178:7:   required from ‘class Eigen::Matrix’
/home/biocbuild/bbs-3.9-bioc/R/library/RcppEigen/include/Eigen/src/Geometry/Quaternion.h:46:50:   required from ‘class Eigen::QuaternionBase >’
/home/biocbuild/bbs-3.9-bioc/R/library/RcppEigen/include/Eigen/src/Geometry/Quaternion.h:232:7:   required from ‘class Eigen::Quaternion’
/home/biocbuild/bbs-3.9-bioc/R/library/RcppEigen/include/Eigen/src/Geometry/arch/Geometry_SSE.h:92:3:   required from here
/home/biocbuild/bbs-3.9-bioc/R/library/RcppEigen/include/Eigen/src/Core/DenseCoeffsBase.h:55:30: warning: ignoring attributes on template argument ‘Eigen::internal::packet_traits::type {aka __vector(2) double}’ [-Wignored-attributes]
                      >::type PacketReturnType;
                              ^~~~~~~~~~~~~~~~
In file included from /home/biocbuild/bbs-3.9-bioc/R/library/RcppEigen/include/Eigen/Core:367:0,
                 from Clusterer.h:14,
                 from Clusterer.cpp:14:
/home/biocbuild/bbs-3.9-bioc/R/library/RcppEigen/include/Eigen/src/Core/util/XprHelper.h: In instantiation of ‘struct Eigen::internal::find_best_packet’:
/home/biocbuild/bbs-3.9-bioc/R/library/RcppEigen/include/Eigen/src/Core/Matrix.h:22:57:   required from ‘struct Eigen::internal::traits >’
/home/biocbuild/bbs-3.9-bioc/R/library/RcppEigen/include/Eigen/src/Core/PlainObjectBase.h:98:7:   required from ‘class Eigen::PlainObjectBase >’
/home/biocbuild/bbs-3.9-bioc/R/library/RcppEigen/include/Eigen/src/Core/Matrix.h:178:7:   required from ‘class Eigen::Matrix’
Clusterer.h:23:21:   required from here
/home/biocbuild/bbs-3.9-bioc/R/library/RcppEigen/include/Eigen/src/Core/util/XprHelper.h:170:44: warning: ignoring attributes on template argument ‘Eigen::internal::packet_traits::type {aka __vector(2) long long int}’ [-Wignored-attributes]
          bool Stop = Size==Dynamic || (Size%unpacket_traits::size)==0 || is_same::half>::value>
                                       ~~~~~^~~~~~~~~~~~~~~~~~~~~~~~~~~~~~~~~~~
/home/biocbuild/bbs-3.9-bioc/R/library/RcppEigen/include/Eigen/src/Core/util/XprHelper.h:170:83: warning: ignoring attributes on template argument ‘Eigen::internal::packet_traits::type {aka __vector(2) long long int}’ [-Wignored-attributes]
          bool Stop = Size==Dynamic || (Size%unpacket_traits::size)==0 || is_same::half>::value>
                      ~~~~~~~~~~~~~~~~~~~~~~~~~~~~~~~~~~~~~~~~~~~~~~~~~~~~~~~~~~~~~^~~~~~~~~~~~~~~~~~~~~~~~~~~~~~~~~~~~~~~~~~~~~~~~~~~~~~~~~~~~~~~~~
/home/biocbuild/bbs-3.9-bioc/R/library/RcppEigen/include/Eigen/src/Core/util/XprHelper.h:170:83: warning: ignoring attributes on template argument ‘Eigen::internal::packet_traits::type {aka __vector(2) long long int}’ [-Wignored-attributes]
/home/biocbuild/bbs-3.9-bioc/R/library/RcppEigen/include/Eigen/src/Core/util/XprHelper.h:170:83: warning: ignoring attributes on template argument ‘Eigen::internal::unpacket_traits<__vector(2) long long int>::half {aka __vector(2) long long int}’ [-Wignored-attributes]
/home/biocbuild/bbs-3.9-bioc/R/library/RcppEigen/include/Eigen/src/Core/util/XprHelper.h:188:88: warning: ignoring attributes on template argument ‘Eigen::internal::packet_traits::type {aka __vector(2) long long int}’ [-Wignored-attributes]
   typedef typename find_best_packet_helper::type>::type type;
                                                                                        ^~~~
In file included from /home/biocbuild/bbs-3.9-bioc/R/library/RcppEigen/include/Eigen/Core:434:0,
                 from Clusterer.h:14,
                 from Clusterer.cpp:14:
/home/biocbuild/bbs-3.9-bioc/R/library/RcppEigen/include/Eigen/src/Core/DenseCoeffsBase.h: In instantiation of ‘class Eigen::DenseCoeffsBase, 0>’:
/home/biocbuild/bbs-3.9-bioc/R/library/RcppEigen/include/Eigen/src/Core/DenseCoeffsBase.h:300:7:   required from ‘class Eigen::DenseCoeffsBase, 1>’
/home/biocbuild/bbs-3.9-bioc/R/library/RcppEigen/include/Eigen/src/Core/DenseCoeffsBase.h:551:7:   required from ‘class Eigen::DenseCoeffsBase, 3>’
/home/biocbuild/bbs-3.9-bioc/R/library/RcppEigen/include/Eigen/src/Core/DenseBase.h:41:34:   required from ‘class Eigen::DenseBase >’
/home/biocbuild/bbs-3.9-bioc/R/library/RcppEigen/include/Eigen/src/Core/MatrixBase.h:48:34:   required from ‘class Eigen::MatrixBase >’
/home/biocbuild/bbs-3.9-bioc/R/library/RcppEigen/include/Eigen/src/Core/PlainObjectBase.h:98:7:   required from ‘class Eigen::PlainObjectBase >’
/home/biocbuild/bbs-3.9-bioc/R/library/RcppEigen/include/Eigen/src/Core/Matrix.h:178:7:   required from ‘class Eigen::Matrix’
Clusterer.h:23:21:   required from here
/home/biocbuild/bbs-3.9-bioc/R/library/RcppEigen/include/Eigen/src/Core/DenseCoeffsBase.h:55:30: warning: ignoring attributes on template argument ‘Eigen::internal::packet_traits::type {aka __vector(2) long long int}’ [-Wignored-attributes]
                      >::type PacketReturnType;
                              ^~~~~~~~~~~~~~~~
In file included from /home/biocbuild/bbs-3.9-bioc/R/library/RcppEigen/include/Eigen/Core:367:0,
                 from Clusterer.h:14,
                 from Clusterer.cpp:14:
/home/biocbuild/bbs-3.9-bioc/R/library/RcppEigen/include/Eigen/src/Core/util/XprHelper.h: In instantiation of ‘struct Eigen::internal::find_best_packet’:
/home/biocbuild/bbs-3.9-bioc/R/library/RcppEigen/include/Eigen/src/Core/Matrix.h:22:57:   required from ‘struct Eigen::internal::traits >’
/home/biocbuild/bbs-3.9-bioc/R/library/RcppEigen/include/Eigen/src/Core/PlainObjectBase.h:98:7:   required from ‘class Eigen::PlainObjectBase >’
/home/biocbuild/bbs-3.9-bioc/R/library/RcppEigen/include/Eigen/src/Core/Matrix.h:178:7:   required from ‘class Eigen::Matrix’
Clusterer.h:25:17:   required from here
/home/biocbuild/bbs-3.9-bioc/R/library/RcppEigen/include/Eigen/src/Core/util/XprHelper.h:170:44: warning: ignoring attributes on template argument ‘Eigen::internal::packet_traits::type {aka __vector(2) double}’ [-Wignored-attributes]
          bool Stop = Size==Dynamic || (Size%unpacket_traits::size)==0 || is_same::half>::value>
                                       ~~~~~^~~~~~~~~~~~~~~~~~~~~~~~~~~~~~~~~~~
/home/biocbuild/bbs-3.9-bioc/R/library/RcppEigen/include/Eigen/src/Core/util/XprHelper.h:170:83: warning: ignoring attributes on template argument ‘Eigen::internal::packet_traits::type {aka __vector(2) double}’ [-Wignored-attributes]
          bool Stop = Size==Dynamic || (Size%unpacket_traits::size)==0 || is_same::half>::value>
                      ~~~~~~~~~~~~~~~~~~~~~~~~~~~~~~~~~~~~~~~~~~~~~~~~~~~~~~~~~~~~~^~~~~~~~~~~~~~~~~~~~~~~~~~~~~~~~~~~~~~~~~~~~~~~~~~~~~~~~~~~~~~~~~
/home/biocbuild/bbs-3.9-bioc/R/library/RcppEigen/include/Eigen/src/Core/util/XprHelper.h:170:83: warning: ignoring attributes on template argument ‘Eigen::internal::packet_traits::type {aka __vector(2) double}’ [-Wignored-attributes]
/home/biocbuild/bbs-3.9-bioc/R/library/RcppEigen/include/Eigen/src/Core/util/XprHelper.h:170:83: warning: ignoring attributes on template argument ‘Eigen::internal::unpacket_traits<__vector(2) double>::half {aka __vector(2) double}’ [-Wignored-attributes]
/home/biocbuild/bbs-3.9-bioc/R/library/RcppEigen/include/Eigen/src/Core/util/XprHelper.h:188:88: warning: ignoring attributes on template argument ‘Eigen::internal::packet_traits::type {aka __vector(2) double}’ [-Wignored-attributes]
   typedef typename find_best_packet_helper::type>::type type;
                                                                                        ^~~~
In file included from /home/biocbuild/bbs-3.9-bioc/R/library/RcppEigen/include/Eigen/Core:434:0,
                 from Clusterer.h:14,
                 from Clusterer.cpp:14:
/home/biocbuild/bbs-3.9-bioc/R/library/RcppEigen/include/Eigen/src/Core/DenseCoeffsBase.h: In instantiation of ‘class Eigen::DenseCoeffsBase, 0>’:
/home/biocbuild/bbs-3.9-bioc/R/library/RcppEigen/include/Eigen/src/Core/DenseCoeffsBase.h:300:7:   required from ‘class Eigen::DenseCoeffsBase, 1>’
/home/biocbuild/bbs-3.9-bioc/R/library/RcppEigen/include/Eigen/src/Core/DenseCoeffsBase.h:551:7:   required from ‘class Eigen::DenseCoeffsBase, 3>’
/home/biocbuild/bbs-3.9-bioc/R/library/RcppEigen/include/Eigen/src/Core/DenseBase.h:41:34:   required from ‘class Eigen::DenseBase >’
/home/biocbuild/bbs-3.9-bioc/R/library/RcppEigen/include/Eigen/src/Core/MatrixBase.h:48:34:   required from ‘class Eigen::MatrixBase >’
/home/biocbuild/bbs-3.9-bioc/R/library/RcppEigen/include/Eigen/src/Core/PlainObjectBase.h:98:7:   required from ‘class Eigen::PlainObjectBase >’
/home/biocbuild/bbs-3.9-bioc/R/library/RcppEigen/include/Eigen/src/Core/Matrix.h:178:7:   required from ‘class Eigen::Matrix’
Clusterer.h:25:17:   required from here
/home/biocbuild/bbs-3.9-bioc/R/library/RcppEigen/include/Eigen/src/Core/DenseCoeffsBase.h:55:30: warning: ignoring attributes on template argument ‘Eigen::internal::packet_traits::type {aka __vector(2) double}’ [-Wignored-attributes]
                      >::type PacketReturnType;
                              ^~~~~~~~~~~~~~~~
/home/biocbuild/bbs-3.9-bioc/R/library/RcppEigen/include/Eigen/src/Core/DenseCoeffsBase.h: In instantiation of ‘class Eigen::DenseCoeffsBase, 1, -1, true>, 0>’:
/home/biocbuild/bbs-3.9-bioc/R/library/RcppEigen/include/Eigen/src/Core/DenseCoeffsBase.h:478:7:   required from ‘class Eigen::DenseCoeffsBase, 1, -1, true>, 2>’
/home/biocbuild/bbs-3.9-bioc/R/library/RcppEigen/include/Eigen/src/Core/DenseBase.h:41:34:   required from ‘class Eigen::DenseBase, 1, -1, true> >’
/home/biocbuild/bbs-3.9-bioc/R/library/RcppEigen/include/Eigen/src/Core/MatrixBase.h:48:34:   required from ‘class Eigen::MatrixBase, 1, -1, true> >’
/home/biocbuild/bbs-3.9-bioc/R/library/RcppEigen/include/Eigen/src/Core/MapBase.h:37:34:   required from ‘class Eigen::MapBase, 1, -1, true>, 0>’
/home/biocbuild/bbs-3.9-bioc/R/library/RcppEigen/include/Eigen/src/Core/Block.h:329:7:   required from ‘class Eigen::internal::BlockImpl_dense, 1, -1, true, true>’
/home/biocbuild/bbs-3.9-bioc/R/library/RcppEigen/include/Eigen/src/Core/Block.h:154:7:   required from ‘class Eigen::BlockImpl, 1, -1, true, Eigen::Dense>’
/home/biocbuild/bbs-3.9-bioc/R/library/RcppEigen/include/Eigen/src/Core/Block.h:103:81:   required from ‘class Eigen::Block, 1, -1, true>’
Clusterer.cpp:42:25:   required from here
/home/biocbuild/bbs-3.9-bioc/R/library/RcppEigen/include/Eigen/src/Core/DenseCoeffsBase.h:55:30: warning: ignoring attributes on template argument ‘Eigen::internal::packet_traits::type {aka __vector(2) double}’ [-Wignored-attributes]
/home/biocbuild/bbs-3.9-bioc/R/library/RcppEigen/include/Eigen/src/Core/DenseCoeffsBase.h: In instantiation of ‘class Eigen::DenseCoeffsBase, Eigen::Matrix >, 0>’:
/home/biocbuild/bbs-3.9-bioc/R/library/RcppEigen/include/Eigen/src/Core/DenseBase.h:41:34:   required from ‘class Eigen::DenseBase, Eigen::Matrix > >’
/home/biocbuild/bbs-3.9-bioc/R/library/RcppEigen/include/Eigen/src/Core/MatrixBase.h:48:34:   required from ‘class Eigen::MatrixBase, Eigen::Matrix > >’
/home/biocbuild/bbs-3.9-bioc/R/library/RcppEigen/include/Eigen/src/Core/CwiseNullaryOp.h:60:7:   required from ‘class Eigen::CwiseNullaryOp, Eigen::Matrix >’
Clusterer.cpp:52:44:   required from here
/home/biocbuild/bbs-3.9-bioc/R/library/RcppEigen/include/Eigen/src/Core/DenseCoeffsBase.h:55:30: warning: ignoring attributes on template argument ‘Eigen::internal::packet_traits::type {aka __vector(2) long long int}’ [-Wignored-attributes]
/home/biocbuild/bbs-3.9-bioc/R/library/RcppEigen/include/Eigen/src/Core/DenseCoeffsBase.h: In instantiation of ‘class Eigen::DenseCoeffsBase, Eigen::Matrix >, 0>’:
/home/biocbuild/bbs-3.9-bioc/R/library/RcppEigen/include/Eigen/src/Core/DenseBase.h:41:34:   required from ‘class Eigen::DenseBase, Eigen::Matrix > >’
/home/biocbuild/bbs-3.9-bioc/R/library/RcppEigen/include/Eigen/src/Core/MatrixBase.h:48:34:   required from ‘class Eigen::MatrixBase, Eigen::Matrix > >’
/home/biocbuild/bbs-3.9-bioc/R/library/RcppEigen/include/Eigen/src/Core/CwiseNullaryOp.h:60:7:   required from ‘class Eigen::CwiseNullaryOp, Eigen::Matrix >’
Clusterer.cpp:56:67:   required from here
/home/biocbuild/bbs-3.9-bioc/R/library/RcppEigen/include/Eigen/src/Core/DenseCoeffsBase.h:55:30: warning: ignoring attributes on template argument ‘Eigen::internal::packet_traits::type {aka __vector(2) double}’ [-Wignored-attributes]
/home/biocbuild/bbs-3.9-bioc/R/library/RcppEigen/include/Eigen/src/Core/DenseCoeffsBase.h: In instantiation of ‘class Eigen::DenseCoeffsBase, -1, 1, false>, 0>’:
/home/biocbuild/bbs-3.9-bioc/R/library/RcppEigen/include/Eigen/src/Core/DenseCoeffsBase.h:300:7:   required from ‘class Eigen::DenseCoeffsBase, -1, 1, false>, 1>’
/home/biocbuild/bbs-3.9-bioc/R/library/RcppEigen/include/Eigen/src/Core/DenseCoeffsBase.h:551:7:   required from ‘class Eigen::DenseCoeffsBase, -1, 1, false>, 3>’
/home/biocbuild/bbs-3.9-bioc/R/library/RcppEigen/include/Eigen/src/Core/DenseBase.h:41:34:   required from ‘class Eigen::DenseBase, -1, 1, false> >’
/home/biocbuild/bbs-3.9-bioc/R/library/RcppEigen/include/Eigen/src/Core/MatrixBase.h:48:34:   required from ‘class Eigen::MatrixBase, -1, 1, false> >’
/home/biocbuild/bbs-3.9-bioc/R/library/RcppEigen/include/Eigen/src/Core/MapBase.h:37:34:   required from ‘class Eigen::MapBase, -1, 1, false>, 0>’
/home/biocbuild/bbs-3.9-bioc/R/library/RcppEigen/include/Eigen/src/Core/MapBase.h:215:34:   required from ‘class Eigen::MapBase, -1, 1, false>, 1>’
/home/biocbuild/bbs-3.9-bioc/R/library/RcppEigen/include/Eigen/src/Core/Block.h:329:7:   required from ‘class Eigen::internal::BlockImpl_dense, -1, 1, false, true>’
/home/biocbuild/bbs-3.9-bioc/R/library/RcppEigen/include/Eigen/src/Core/Block.h:154:7:   required from ‘class Eigen::BlockImpl, -1, 1, false, Eigen::Dense>’
/home/biocbuild/bbs-3.9-bioc/R/library/RcppEigen/include/Eigen/src/Core/Block.h:103:81:   required from ‘class Eigen::Block, -1, 1, false>’
Clusterer.cpp:58:24:   required from here
/home/biocbuild/bbs-3.9-bioc/R/library/RcppEigen/include/Eigen/src/Core/DenseCoeffsBase.h:55:30: warning: ignoring attributes on template argument ‘Eigen::internal::packet_traits::type {aka __vector(2) double}’ [-Wignored-attributes]
/home/biocbuild/bbs-3.9-bioc/R/library/RcppEigen/include/Eigen/src/Core/DenseCoeffsBase.h: In instantiation of ‘class Eigen::DenseCoeffsBase, const Eigen::Matrix >, 0>’:
/home/biocbuild/bbs-3.9-bioc/R/library/RcppEigen/include/Eigen/src/Core/DenseBase.h:41:34:   required from ‘class Eigen::DenseBase, const Eigen::Matrix > >’
/home/biocbuild/bbs-3.9-bioc/R/library/RcppEigen/include/Eigen/src/Core/MatrixBase.h:48:34:   required from ‘class Eigen::MatrixBase, const Eigen::Matrix > >’
/home/biocbuild/bbs-3.9-bioc/R/library/RcppEigen/include/Eigen/src/Core/CwiseUnaryOp.h:94:7:   required from ‘class Eigen::CwiseUnaryOpImpl, const Eigen::Matrix, Eigen::Dense>’
/home/biocbuild/bbs-3.9-bioc/R/library/RcppEigen/include/Eigen/src/Core/CwiseUnaryOp.h:55:7:   required from ‘class Eigen::CwiseUnaryOp, const Eigen::Matrix >’
Clusterer.cpp:58:30:   required from here
/home/biocbuild/bbs-3.9-bioc/R/library/RcppEigen/include/Eigen/src/Core/DenseCoeffsBase.h:55:30: warning: ignoring attributes on template argument ‘Eigen::internal::packet_traits::type {aka __vector(2) double}’ [-Wignored-attributes]
/home/biocbuild/bbs-3.9-bioc/R/library/RcppEigen/include/Eigen/src/Core/DenseCoeffsBase.h: In instantiation of ‘class Eigen::DenseCoeffsBase, 1, -1, true>, -1, 1>, 0>’:
/home/biocbuild/bbs-3.9-bioc/R/library/RcppEigen/include/Eigen/src/Core/DenseBase.h:41:34:   required from ‘class Eigen::DenseBase, 1, -1, true>, -1, 1> >’
/home/biocbuild/bbs-3.9-bioc/R/library/RcppEigen/include/Eigen/src/Core/MatrixBase.h:48:34:   required from ‘class Eigen::MatrixBase, 1, -1, true>, -1, 1> >’
/home/biocbuild/bbs-3.9-bioc/R/library/RcppEigen/include/Eigen/src/Core/Replicate.h:61:65:   required from ‘class Eigen::Replicate, 1, -1, true>, -1, 1>’
/home/biocbuild/bbs-3.9-bioc/R/library/RcppEigen/include/Eigen/src/Core/CwiseBinaryOp.h:38:28:   required from ‘struct Eigen::internal::traits, const Eigen::CwiseUnaryOp, const Eigen::Matrix >, const Eigen::Replicate, 1, -1, true>, -1, 1> > >’
/home/biocbuild/bbs-3.9-bioc/R/library/RcppEigen/include/Eigen/src/Core/CwiseBinaryOp.h:148:7:   required from ‘class Eigen::CwiseBinaryOpImpl, const Eigen::CwiseUnaryOp, const Eigen::Matrix >, const Eigen::Replicate, 1, -1, true>, -1, 1>, Eigen::Dense>’
/home/biocbuild/bbs-3.9-bioc/R/library/RcppEigen/include/Eigen/src/Core/CwiseBinaryOp.h:77:7:   required from ‘class Eigen::CwiseBinaryOp, const Eigen::CwiseUnaryOp, const Eigen::Matrix >, const Eigen::Replicate, 1, -1, true>, -1, 1> >’
Clusterer.cpp:58:67:   required from here
/home/biocbuild/bbs-3.9-bioc/R/library/RcppEigen/include/Eigen/src/Core/DenseCoeffsBase.h:55:30: warning: ignoring attributes on template argument ‘Eigen::internal::packet_traits::type {aka __vector(2) double}’ [-Wignored-attributes]
/home/biocbuild/bbs-3.9-bioc/R/library/RcppEigen/include/Eigen/src/Core/DenseCoeffsBase.h: In instantiation of ‘class Eigen::DenseCoeffsBase, const Eigen::CwiseUnaryOp, const Eigen::Matrix >, const Eigen::Replicate, 1, -1, true>, -1, 1> >, 0>’:
/home/biocbuild/bbs-3.9-bioc/R/library/RcppEigen/include/Eigen/src/Core/DenseBase.h:41:34:   required from ‘class Eigen::DenseBase, const Eigen::CwiseUnaryOp, const Eigen::Matrix >, const Eigen::Replicate, 1, -1, true>, -1, 1> > >’
/home/biocbuild/bbs-3.9-bioc/R/library/RcppEigen/include/Eigen/src/Core/MatrixBase.h:48:34:   required from ‘class Eigen::MatrixBase, const Eigen::CwiseUnaryOp, const Eigen::Matrix >, const Eigen::Replicate, 1, -1, true>, -1, 1> > >’
/home/biocbuild/bbs-3.9-bioc/R/library/RcppEigen/include/Eigen/src/Core/CwiseBinaryOp.h:148:7:   required from ‘class Eigen::CwiseBinaryOpImpl, const Eigen::CwiseUnaryOp, const Eigen::Matrix >, const Eigen::Replicate, 1, -1, true>, -1, 1>, Eigen::Dense>’
/home/biocbuild/bbs-3.9-bioc/R/library/RcppEigen/include/Eigen/src/Core/CwiseBinaryOp.h:77:7:   required from ‘class Eigen::CwiseBinaryOp, const Eigen::CwiseUnaryOp, const Eigen::Matrix >, const Eigen::Replicate, 1, -1, true>, -1, 1> >’
Clusterer.cpp:58:67:   required from here
/home/biocbuild/bbs-3.9-bioc/R/library/RcppEigen/include/Eigen/src/Core/DenseCoeffsBase.h:55:30: warning: ignoring attributes on template argument ‘Eigen::internal::packet_traits::type {aka __vector(2) double}’ [-Wignored-attributes]
/home/biocbuild/bbs-3.9-bioc/R/library/RcppEigen/include/Eigen/src/Core/DenseCoeffsBase.h: In instantiation of ‘class Eigen::DenseCoeffsBase, const Eigen::CwiseUnaryOp, const Eigen::Matrix >, const Eigen::Replicate, 1, -1, true>, -1, 1> >, Eigen::internal::member_norm, 1>, 0>’:
/home/biocbuild/bbs-3.9-bioc/R/library/RcppEigen/include/Eigen/src/Core/DenseBase.h:41:34:   required from ‘class Eigen::DenseBase, const Eigen::CwiseUnaryOp, const Eigen::Matrix >, const Eigen::Replicate, 1, -1, true>, -1, 1> >, Eigen::internal::member_norm, 1> >’
/home/biocbuild/bbs-3.9-bioc/R/library/RcppEigen/include/Eigen/src/Core/MatrixBase.h:48:34:   required from ‘class Eigen::MatrixBase, const Eigen::CwiseUnaryOp, const Eigen::Matrix >, const Eigen::Replicate, 1, -1, true>, -1, 1> >, Eigen::internal::member_norm, 1> >’
/home/biocbuild/bbs-3.9-bioc/R/library/RcppEigen/include/Eigen/src/Core/VectorwiseOp.h:56:7:   required from ‘class Eigen::PartialReduxExpr, const Eigen::CwiseUnaryOp, const Eigen::Matrix >, const Eigen::Replicate, 1, -1, true>, -1, 1> >, Eigen::internal::member_norm, 1>’
Clusterer.cpp:58:85:   required from here
/home/biocbuild/bbs-3.9-bioc/R/library/RcppEigen/include/Eigen/src/Core/DenseCoeffsBase.h:55:30: warning: ignoring attributes on template argument ‘Eigen::internal::packet_traits::type {aka __vector(2) double}’ [-Wignored-attributes]
/home/biocbuild/bbs-3.9-bioc/R/library/RcppEigen/include/Eigen/src/Core/DenseCoeffsBase.h: In instantiation of ‘class Eigen::DenseCoeffsBase, 0>’:
/home/biocbuild/bbs-3.9-bioc/R/library/RcppEigen/include/Eigen/src/Core/DenseCoeffsBase.h:300:7:   required from ‘class Eigen::DenseCoeffsBase, 1>’
/home/biocbuild/bbs-3.9-bioc/R/library/RcppEigen/include/Eigen/src/Core/DenseCoeffsBase.h:551:7:   required from ‘class Eigen::DenseCoeffsBase, 3>’
/home/biocbuild/bbs-3.9-bioc/R/library/RcppEigen/include/Eigen/src/Core/DenseBase.h:41:34:   required from ‘class Eigen::DenseBase >’
/home/biocbuild/bbs-3.9-bioc/R/library/RcppEigen/include/Eigen/src/Core/MatrixBase.h:48:34:   required from ‘class Eigen::MatrixBase >’
/home/biocbuild/bbs-3.9-bioc/R/library/RcppEigen/include/Eigen/src/Core/PlainObjectBase.h:98:7:   required from ‘class Eigen::PlainObjectBase >’
/home/biocbuild/bbs-3.9-bioc/R/library/RcppEigen/include/Eigen/src/Core/Matrix.h:178:7:   required from ‘class Eigen::Matrix’
Clusterer.cpp:62:20:   required from here
/home/biocbuild/bbs-3.9-bioc/R/library/RcppEigen/include/Eigen/src/Core/DenseCoeffsBase.h:55:30: warning: ignoring attributes on template argument ‘Eigen::internal::packet_traits::type {aka __vector(2) double}’ [-Wignored-attributes]
/home/biocbuild/bbs-3.9-bioc/R/library/RcppEigen/include/Eigen/src/Core/DenseCoeffsBase.h: In instantiation of ‘class Eigen::DenseCoeffsBase, 1, -1, true>, 0>’:
/home/biocbuild/bbs-3.9-bioc/R/library/RcppEigen/include/Eigen/src/Core/DenseCoeffsBase.h:300:7:   required from ‘class Eigen::DenseCoeffsBase, 1, -1, true>, 1>’
/home/biocbuild/bbs-3.9-bioc/R/library/RcppEigen/include/Eigen/src/Core/DenseCoeffsBase.h:551:7:   required from ‘class Eigen::DenseCoeffsBase, 1, -1, true>, 3>’
/home/biocbuild/bbs-3.9-bioc/R/library/RcppEigen/include/Eigen/src/Core/DenseBase.h:41:34:   required from ‘class Eigen::DenseBase, 1, -1, true> >’
/home/biocbuild/bbs-3.9-bioc/R/library/RcppEigen/include/Eigen/src/Core/MatrixBase.h:48:34:   required from ‘class Eigen::MatrixBase, 1, -1, true> >’
/home/biocbuild/bbs-3.9-bioc/R/library/RcppEigen/include/Eigen/src/Core/MapBase.h:37:34:   required from ‘class Eigen::MapBase, 1, -1, true>, 0>’
/home/biocbuild/bbs-3.9-bioc/R/library/RcppEigen/include/Eigen/src/Core/MapBase.h:215:34:   required from ‘class Eigen::MapBase, 1, -1, true>, 1>’
/home/biocbuild/bbs-3.9-bioc/R/library/RcppEigen/include/Eigen/src/Core/Block.h:329:7:   required from ‘class Eigen::internal::BlockImpl_dense, 1, -1, true, true>’
/home/biocbuild/bbs-3.9-bioc/R/library/RcppEigen/include/Eigen/src/Core/Block.h:154:7:   required from ‘class Eigen::BlockImpl, 1, -1, true, Eigen::Dense>’
/home/biocbuild/bbs-3.9-bioc/R/library/RcppEigen/include/Eigen/src/Core/Block.h:103:81:   required from ‘class Eigen::Block, 1, -1, true>’
Clusterer.cpp:64:25:   required from here
/home/biocbuild/bbs-3.9-bioc/R/library/RcppEigen/include/Eigen/src/Core/DenseCoeffsBase.h:55:30: warning: ignoring attributes on template argument ‘Eigen::internal::packet_traits::type {aka __vector(2) double}’ [-Wignored-attributes]
/home/biocbuild/bbs-3.9-bioc/R/library/RcppEigen/include/Eigen/src/Core/DenseCoeffsBase.h: In instantiation of ‘class Eigen::DenseCoeffsBase, 1, -1, true> >, 0>’:
/home/biocbuild/bbs-3.9-bioc/R/library/RcppEigen/include/Eigen/src/Core/DenseCoeffsBase.h:300:7:   required from ‘class Eigen::DenseCoeffsBase, 1, -1, true> >, 1>’
/home/biocbuild/bbs-3.9-bioc/R/library/RcppEigen/include/Eigen/src/Core/DenseCoeffsBase.h:551:7:   required from ‘class Eigen::DenseCoeffsBase, 1, -1, true> >, 3>’
/home/biocbuild/bbs-3.9-bioc/R/library/RcppEigen/include/Eigen/src/Core/DenseBase.h:41:34:   required from ‘class Eigen::DenseBase, 1, -1, true> > >’
/home/biocbuild/bbs-3.9-bioc/R/library/RcppEigen/include/Eigen/src/Core/ArrayBase.h:39:34:   required from ‘class Eigen::ArrayBase, 1, -1, true> > >’
/home/biocbuild/bbs-3.9-bioc/R/library/RcppEigen/include/Eigen/src/Core/ArrayWrapper.h:42:7:   required from ‘class Eigen::ArrayWrapper, 1, -1, true> >’
Clusterer.cpp:104:45:   required from here
/home/biocbuild/bbs-3.9-bioc/R/library/RcppEigen/include/Eigen/src/Core/DenseCoeffsBase.h:55:30: warning: ignoring attributes on template argument ‘Eigen::internal::packet_traits::type {aka __vector(2) double}’ [-Wignored-attributes]
/home/biocbuild/bbs-3.9-bioc/R/library/RcppEigen/include/Eigen/src/Core/DenseCoeffsBase.h: In instantiation of ‘class Eigen::DenseCoeffsBase, const Eigen::Array >, 0>’:
/home/biocbuild/bbs-3.9-bioc/R/library/RcppEigen/include/Eigen/src/Core/DenseBase.h:41:34:   required from ‘class Eigen::DenseBase, const Eigen::Array > >’
/home/biocbuild/bbs-3.9-bioc/R/library/RcppEigen/include/Eigen/src/Core/ArrayBase.h:39:34:   required from ‘class Eigen::ArrayBase, const Eigen::Array > >’
/home/biocbuild/bbs-3.9-bioc/R/library/RcppEigen/include/Eigen/src/Core/CwiseNullaryOp.h:60:7:   required from ‘class Eigen::CwiseNullaryOp, const Eigen::Array >’
/home/biocbuild/bbs-3.9-bioc/R/library/RcppEigen/include/Eigen/src/Core/CwiseBinaryOp.h:38:28:   required from ‘struct Eigen::internal::traits, const Eigen::ArrayWrapper, 1, -1, true> >, const Eigen::CwiseNullaryOp, const Eigen::Array > > >’
/home/biocbuild/bbs-3.9-bioc/R/library/RcppEigen/include/Eigen/src/Core/CwiseBinaryOp.h:148:7:   required from ‘class Eigen::CwiseBinaryOpImpl, const Eigen::ArrayWrapper, 1, -1, true> >, const Eigen::CwiseNullaryOp, const Eigen::Array >, Eigen::Dense>’
/home/biocbuild/bbs-3.9-bioc/R/library/RcppEigen/include/Eigen/src/Core/CwiseBinaryOp.h:77:7:   required from ‘class Eigen::CwiseBinaryOp, const Eigen::ArrayWrapper, 1, -1, true> >, const Eigen::CwiseNullaryOp, const Eigen::Array