| Back to Multiple platform build/check report for BioC 3.9 |
|
This page was generated on 2019-10-16 12:13:12 -0400 (Wed, 16 Oct 2019).
| Package 399/1741 | Hostname | OS / Arch | INSTALL | BUILD | CHECK | BUILD BIN | ||||||
| DEComplexDisease 1.4.0 Guofeng Meng
| malbec2 | Linux (Ubuntu 18.04.2 LTS) / x86_64 | OK | OK | [ OK ] | |||||||
| tokay2 | Windows Server 2012 R2 Standard / x64 | OK | OK | OK | OK | |||||||
| celaya2 | OS X 10.11.6 El Capitan / x86_64 | OK | OK | OK | OK |
| Package: DEComplexDisease |
| Version: 1.4.0 |
| Command: /home/biocbuild/bbs-3.9-bioc/R/bin/R CMD check --install=check:DEComplexDisease.install-out.txt --library=/home/biocbuild/bbs-3.9-bioc/R/library --no-vignettes --timings DEComplexDisease_1.4.0.tar.gz |
| StartedAt: 2019-10-16 00:59:57 -0400 (Wed, 16 Oct 2019) |
| EndedAt: 2019-10-16 01:04:07 -0400 (Wed, 16 Oct 2019) |
| EllapsedTime: 249.7 seconds |
| RetCode: 0 |
| Status: OK |
| CheckDir: DEComplexDisease.Rcheck |
| Warnings: 0 |
##############################################################################
##############################################################################
###
### Running command:
###
### /home/biocbuild/bbs-3.9-bioc/R/bin/R CMD check --install=check:DEComplexDisease.install-out.txt --library=/home/biocbuild/bbs-3.9-bioc/R/library --no-vignettes --timings DEComplexDisease_1.4.0.tar.gz
###
##############################################################################
##############################################################################
* using log directory ‘/home/biocbuild/bbs-3.9-bioc/meat/DEComplexDisease.Rcheck’
* using R version 3.6.1 (2019-07-05)
* using platform: x86_64-pc-linux-gnu (64-bit)
* using session charset: UTF-8
* using option ‘--no-vignettes’
* checking for file ‘DEComplexDisease/DESCRIPTION’ ... OK
* checking extension type ... Package
* this is package ‘DEComplexDisease’ version ‘1.4.0’
* checking package namespace information ... OK
* checking package dependencies ... OK
* checking if this is a source package ... OK
* checking if there is a namespace ... OK
* checking for hidden files and directories ... OK
* checking for portable file names ... OK
* checking for sufficient/correct file permissions ... OK
* checking whether package ‘DEComplexDisease’ can be installed ... OK
* checking installed package size ... OK
* checking package directory ... OK
* checking ‘build’ directory ... OK
* checking DESCRIPTION meta-information ... OK
* checking top-level files ... OK
* checking for left-over files ... OK
* checking index information ... OK
* checking package subdirectories ... OK
* checking R files for non-ASCII characters ... OK
* checking R files for syntax errors ... OK
* checking whether the package can be loaded ... OK
* checking whether the package can be loaded with stated dependencies ... OK
* checking whether the package can be unloaded cleanly ... OK
* checking whether the namespace can be loaded with stated dependencies ... OK
* checking whether the namespace can be unloaded cleanly ... OK
* checking dependencies in R code ... OK
* checking S3 generic/method consistency ... OK
* checking replacement functions ... OK
* checking foreign function calls ... OK
* checking R code for possible problems ... OK
* checking Rd files ... NOTE
prepare_Rd: Plot.cluster.module.Rd:53-55: Dropping empty section \references
prepare_Rd: Plot.deg.specific.test.Rd:43-45: Dropping empty section \references
prepare_Rd: module.curve.Rd:27-29: Dropping empty section \references
prepare_Rd: summarize.cluster.module.Rd:30-32: Dropping empty section \references
prepare_Rd: summarize.seed.module.Rd:31-33: Dropping empty section \references
* checking Rd metadata ... OK
* checking Rd cross-references ... OK
* checking for missing documentation entries ... OK
* checking for code/documentation mismatches ... OK
* checking Rd \usage sections ... OK
* checking Rd contents ... OK
* checking for unstated dependencies in examples ... OK
* checking contents of ‘data’ directory ... OK
* checking data for non-ASCII characters ... OK
* checking data for ASCII and uncompressed saves ... OK
* checking line endings in C/C++/Fortran sources/headers ... OK
* checking compiled code ... NOTE
Note: information on .o files is not available
* checking installed files from ‘inst/doc’ ... OK
* checking files in ‘vignettes’ ... OK
* checking examples ... OK
Examples with CPU or elapsed time > 5s
user system elapsed
bi.deg 28.121 0.088 28.333
* checking for unstated dependencies in vignettes ... OK
* checking package vignettes in ‘inst/doc’ ... OK
* checking running R code from vignettes ... SKIPPED
* checking re-building of vignette outputs ... SKIPPED
* checking PDF version of manual ... OK
* DONE
Status: 2 NOTEs
See
‘/home/biocbuild/bbs-3.9-bioc/meat/DEComplexDisease.Rcheck/00check.log’
for details.
DEComplexDisease.Rcheck/00install.out
############################################################################## ############################################################################## ### ### Running command: ### ### /home/biocbuild/bbs-3.9-bioc/R/bin/R CMD INSTALL DEComplexDisease ### ############################################################################## ############################################################################## * installing to library ‘/home/biocbuild/bbs-3.9-bioc/R/library’ * installing *source* package ‘DEComplexDisease’ ... ** using staged installation ** libs g++ -std=gnu++11 -I"/home/biocbuild/bbs-3.9-bioc/R/include" -DNDEBUG -I"/home/biocbuild/bbs-3.9-bioc/R/library/Rcpp/include" -I/usr/local/include -fpic -g -O2 -Wall -c RcppExports.cpp -o RcppExports.o g++ -std=gnu++11 -I"/home/biocbuild/bbs-3.9-bioc/R/include" -DNDEBUG -I"/home/biocbuild/bbs-3.9-bioc/R/library/Rcpp/include" -I/usr/local/include -fpic -g -O2 -Wall -c sig.cpp -o sig.o g++ -std=gnu++11 -shared -L/home/biocbuild/bbs-3.9-bioc/R/lib -L/usr/local/lib -o DEComplexDisease.so RcppExports.o sig.o -L/home/biocbuild/bbs-3.9-bioc/R/lib -lR installing to /home/biocbuild/bbs-3.9-bioc/R/library/00LOCK-DEComplexDisease/00new/DEComplexDisease/libs ** R ** data *** moving datasets to lazyload DB ** inst ** byte-compile and prepare package for lazy loading ** help *** installing help indices ** building package indices ** installing vignettes ‘decd.Rmd’ ‘vignettes.Rmd’ ** testing if installed package can be loaded from temporary location ** checking absolute paths in shared objects and dynamic libraries ** testing if installed package can be loaded from final location ** testing if installed package keeps a record of temporary installation path * DONE (DEComplexDisease)
DEComplexDisease.Rcheck/DEComplexDisease-Ex.timings
| name | user | system | elapsed | |
| Plot.cluster.module | 4.728 | 0.088 | 4.815 | |
| Plot.deg | 0.629 | 0.000 | 0.628 | |
| Plot.deg.specific | 0.453 | 0.000 | 0.453 | |
| Plot.deg.specific.test | 0.654 | 0.000 | 0.657 | |
| Plot.seed.module | 0.595 | 0.000 | 0.595 | |
| bi.deg | 28.121 | 0.088 | 28.333 | |
| cluster.module | 0.696 | 0.004 | 0.700 | |
| deg.specific | 1.778 | 0.000 | 1.778 | |
| module.compare | 0.150 | 0.000 | 0.149 | |
| module.curve | 0.022 | 0.000 | 0.022 | |
| module.exact | 0.002 | 0.000 | 0.001 | |
| module.modeling | 0.046 | 0.000 | 0.046 | |
| module.overlap | 0.428 | 0.004 | 0.432 | |
| module.screen | 0.041 | 0.000 | 0.041 | |
| seed.module | 2.272 | 0.004 | 2.286 | |
| summarize.cluster.module | 0.006 | 0.000 | 0.007 | |
| summarize.deg.specific | 0.019 | 0.000 | 0.019 | |
| summarize.seed.module | 0.008 | 0.000 | 0.008 | |