| Back to Multiple platform build/check report for BioC 3.9 |
|
This page was generated on 2019-10-16 12:57:32 -0400 (Wed, 16 Oct 2019).
| Package 355/1741 | Hostname | OS / Arch | INSTALL | BUILD | CHECK | BUILD BIN | ||||||
| CountClust 1.12.0 Kushal Dey
| malbec2 | Linux (Ubuntu 18.04.2 LTS) / x86_64 | OK | OK | OK | |||||||
| tokay2 | Windows Server 2012 R2 Standard / x64 | OK | OK | OK | OK | |||||||
| celaya2 | OS X 10.11.6 El Capitan / x86_64 | OK | OK | [ OK ] | OK |
| Package: CountClust |
| Version: 1.12.0 |
| Command: /Library/Frameworks/R.framework/Versions/Current/Resources/bin/R CMD check --install=check:CountClust.install-out.txt --library=/Library/Frameworks/R.framework/Versions/Current/Resources/library --no-vignettes --timings CountClust_1.12.0.tar.gz |
| StartedAt: 2019-10-16 01:51:47 -0400 (Wed, 16 Oct 2019) |
| EndedAt: 2019-10-16 01:54:18 -0400 (Wed, 16 Oct 2019) |
| EllapsedTime: 150.8 seconds |
| RetCode: 0 |
| Status: OK |
| CheckDir: CountClust.Rcheck |
| Warnings: 0 |
##############################################################################
##############################################################################
###
### Running command:
###
### /Library/Frameworks/R.framework/Versions/Current/Resources/bin/R CMD check --install=check:CountClust.install-out.txt --library=/Library/Frameworks/R.framework/Versions/Current/Resources/library --no-vignettes --timings CountClust_1.12.0.tar.gz
###
##############################################################################
##############################################################################
* using log directory ‘/Users/biocbuild/bbs-3.9-bioc/meat/CountClust.Rcheck’
* using R version 3.6.1 (2019-07-05)
* using platform: x86_64-apple-darwin15.6.0 (64-bit)
* using session charset: UTF-8
* using option ‘--no-vignettes’
* checking for file ‘CountClust/DESCRIPTION’ ... OK
* checking extension type ... Package
* this is package ‘CountClust’ version ‘1.12.0’
* package encoding: UTF-8
* checking package namespace information ... OK
* checking package dependencies ... OK
* checking if this is a source package ... OK
* checking if there is a namespace ... OK
* checking for hidden files and directories ... OK
* checking for portable file names ... OK
* checking for sufficient/correct file permissions ... OK
* checking whether package ‘CountClust’ can be installed ... OK
* checking installed package size ... NOTE
installed size is 7.5Mb
sub-directories of 1Mb or more:
data 7.3Mb
* checking package directory ... OK
* checking ‘build’ directory ... OK
* checking DESCRIPTION meta-information ... OK
* checking top-level files ... OK
* checking for left-over files ... OK
* checking index information ... OK
* checking package subdirectories ... OK
* checking R files for non-ASCII characters ... OK
* checking R files for syntax errors ... OK
* checking whether the package can be loaded ... OK
* checking whether the package can be loaded with stated dependencies ... OK
* checking whether the package can be unloaded cleanly ... OK
* checking whether the namespace can be loaded with stated dependencies ... OK
* checking whether the namespace can be unloaded cleanly ... OK
* checking dependencies in R code ... OK
* checking S3 generic/method consistency ... OK
* checking replacement functions ... OK
* checking foreign function calls ... OK
* checking R code for possible problems ... OK
* checking Rd files ... OK
* checking Rd metadata ... OK
* checking Rd cross-references ... OK
* checking for missing documentation entries ... OK
* checking for code/documentation mismatches ... OK
* checking Rd \usage sections ... OK
* checking Rd contents ... OK
* checking for unstated dependencies in examples ... OK
* checking contents of ‘data’ directory ... OK
* checking data for non-ASCII characters ... OK
* checking data for ASCII and uncompressed saves ... OK
* checking files in ‘vignettes’ ... OK
* checking examples ... OK
Examples with CPU or elapsed time > 5s
user system elapsed
compGoM 13.759 3.436 17.824
FitGoM 5.626 0.731 6.357
nullmodel_GoM 4.104 1.300 5.405
* checking for unstated dependencies in vignettes ... OK
* checking package vignettes in ‘inst/doc’ ... OK
* checking running R code from vignettes ... SKIPPED
* checking re-building of vignette outputs ... SKIPPED
* checking PDF version of manual ... OK
* DONE
Status: 1 NOTE
See
‘/Users/biocbuild/bbs-3.9-bioc/meat/CountClust.Rcheck/00check.log’
for details.
CountClust.Rcheck/00install.out
############################################################################## ############################################################################## ### ### Running command: ### ### /Library/Frameworks/R.framework/Versions/Current/Resources/bin/R CMD INSTALL CountClust ### ############################################################################## ############################################################################## * installing to library ‘/Library/Frameworks/R.framework/Versions/3.6/Resources/library’ * installing *source* package ‘CountClust’ ... ** using staged installation ** R ** data *** moving datasets to lazyload DB ** inst ** byte-compile and prepare package for lazy loading ** help *** installing help indices ** building package indices ** installing vignettes ** testing if installed package can be loaded from temporary location ** testing if installed package can be loaded from final location ** testing if installed package keeps a record of temporary installation path * DONE (CountClust)
CountClust.Rcheck/CountClust-Ex.timings
| name | user | system | elapsed | |
| BatchCorrectedCounts | 1.445 | 0.187 | 1.632 | |
| ExtractTopFeatures | 2.882 | 0.212 | 3.095 | |
| FitGoM | 5.626 | 0.731 | 6.357 | |
| RemoveSparseFeatures | 0.001 | 0.001 | 0.002 | |
| StructureGGplot | 0.817 | 0.048 | 0.865 | |
| compGoM | 13.759 | 3.436 | 17.824 | |
| compare_omega | 0.065 | 0.003 | 0.069 | |
| handleNA | 0.002 | 0.000 | 0.003 | |
| nullmodel_GoM | 4.104 | 1.300 | 5.405 | |