| Back to Multiple platform build/check report for BioC 3.9 |
|
This page was generated on 2019-04-09 13:39:20 -0400 (Tue, 09 Apr 2019).
| Package 341/1703 | Hostname | OS / Arch | INSTALL | BUILD | CHECK | BUILD BIN | ||||||
| CoRegFlux 0.99.22 Pauline Trébulle and Mohamed Elati
| malbec2 | Linux (Ubuntu 18.04.2 LTS) / x86_64 | OK | OK | OK | |||||||
| tokay2 | Windows Server 2012 R2 Standard / x64 | OK | OK | OK | OK | |||||||
| celaya2 | OS X 10.11.6 El Capitan / x86_64 | OK | OK | OK | OK | |||||||
| merida2 | OS X 10.11.6 El Capitan / x86_64 | OK | OK | [ OK ] | OK |
| Package: CoRegFlux |
| Version: 0.99.22 |
| Command: /Library/Frameworks/R.framework/Versions/Current/Resources/bin/R CMD check --install=check:CoRegFlux.install-out.txt --library=/Library/Frameworks/R.framework/Versions/Current/Resources/library --no-vignettes --timings CoRegFlux_0.99.22.tar.gz |
| StartedAt: 2019-04-09 00:08:57 -0400 (Tue, 09 Apr 2019) |
| EndedAt: 2019-04-09 00:12:31 -0400 (Tue, 09 Apr 2019) |
| EllapsedTime: 213.8 seconds |
| RetCode: 0 |
| Status: OK |
| CheckDir: CoRegFlux.Rcheck |
| Warnings: 0 |
##############################################################################
##############################################################################
###
### Running command:
###
### /Library/Frameworks/R.framework/Versions/Current/Resources/bin/R CMD check --install=check:CoRegFlux.install-out.txt --library=/Library/Frameworks/R.framework/Versions/Current/Resources/library --no-vignettes --timings CoRegFlux_0.99.22.tar.gz
###
##############################################################################
##############################################################################
* using log directory ‘/Users/biocbuild/bbs-3.9-bioc/meat/CoRegFlux.Rcheck’
* using R Under development (unstable) (2018-11-27 r75683)
* using platform: x86_64-apple-darwin15.6.0 (64-bit)
* using session charset: UTF-8
* using option ‘--no-vignettes’
* checking for file ‘CoRegFlux/DESCRIPTION’ ... OK
* checking extension type ... Package
* this is package ‘CoRegFlux’ version ‘0.99.22’
* package encoding: UTF-8
* checking package namespace information ... OK
* checking package dependencies ... OK
* checking if this is a source package ... OK
* checking if there is a namespace ... OK
* checking for hidden files and directories ... OK
* checking for portable file names ... OK
* checking for sufficient/correct file permissions ... OK
* checking whether package ‘CoRegFlux’ can be installed ... OK
* checking installed package size ... OK
* checking package directory ... OK
* checking ‘build’ directory ... OK
* checking DESCRIPTION meta-information ... OK
* checking top-level files ... OK
* checking for left-over files ... OK
* checking index information ... OK
* checking package subdirectories ... OK
* checking R files for non-ASCII characters ... OK
* checking R files for syntax errors ... OK
* checking whether the package can be loaded ... OK
* checking whether the package can be loaded with stated dependencies ... OK
* checking whether the package can be unloaded cleanly ... OK
* checking whether the namespace can be loaded with stated dependencies ... OK
* checking whether the namespace can be unloaded cleanly ... OK
* checking dependencies in R code ... OK
* checking S3 generic/method consistency ... OK
* checking replacement functions ... OK
* checking foreign function calls ... OK
* checking R code for possible problems ... OK
* checking Rd files ... OK
* checking Rd metadata ... OK
* checking Rd cross-references ... OK
* checking for missing documentation entries ... OK
* checking for code/documentation mismatches ... OK
* checking Rd \usage sections ... OK
* checking Rd contents ... OK
* checking for unstated dependencies in examples ... OK
* checking contents of ‘data’ directory ... OK
* checking data for non-ASCII characters ... OK
* checking data for ASCII and uncompressed saves ... OK
* checking files in ‘vignettes’ ... OK
* checking examples ... OK
Examples with CPU or elapsed time > 5s
user system elapsed
predict_linear_model_influence 28.837 1.592 21.268
ODCurveToFluxCurves 24.930 0.193 25.309
ODCurveToMetabolicGeneCurves 12.350 0.242 12.663
Simulation 8.164 0.087 8.283
get_fva_intervals_from_observations 5.066 0.013 5.112
* checking for unstated dependencies in ‘tests’ ... OK
* checking tests ...
Running ‘Test.R’
OK
* checking for unstated dependencies in vignettes ... OK
* checking package vignettes in ‘inst/doc’ ... OK
* checking running R code from vignettes ... SKIPPED
* checking re-building of vignette outputs ... SKIPPED
* checking PDF version of manual ... OK
* DONE
Status: OK
CoRegFlux.Rcheck/00install.out
############################################################################## ############################################################################## ### ### Running command: ### ### /Library/Frameworks/R.framework/Versions/Current/Resources/bin/R CMD INSTALL CoRegFlux ### ############################################################################## ############################################################################## * installing to library ‘/Library/Frameworks/R.framework/Versions/3.6/Resources/library’ * installing *source* package ‘CoRegFlux’ ... ** R ** data ** byte-compile and prepare package for lazy loading ** help *** installing help indices ** building package indices ** installing vignettes ** testing if installed package can be loaded * DONE (CoRegFlux)
CoRegFlux.Rcheck/tests/Test.Rout
R Under development (unstable) (2018-11-27 r75683) -- "Unsuffered Consequences"
Copyright (C) 2018 The R Foundation for Statistical Computing
Platform: x86_64-apple-darwin15.6.0 (64-bit)
R is free software and comes with ABSOLUTELY NO WARRANTY.
You are welcome to redistribute it under certain conditions.
Type 'license()' or 'licence()' for distribution details.
R is a collaborative project with many contributors.
Type 'contributors()' for more information and
'citation()' on how to cite R or R packages in publications.
Type 'demo()' for some demos, 'help()' for on-line help, or
'help.start()' for an HTML browser interface to help.
Type 'q()' to quit R.
> library(CoRegFlux)
> library(testthat)
>
> testthat::test_dir("testthat/")
✔ | OK F W S | Context
⠏ | 0 | CoregfluxAndFVAFonctions
⠋ | 1 | CoregfluxAndFVAFonctions
⠙ | 2 | CoregfluxAndFVAFonctions
⠹ | 3 | CoregfluxAndFVAFonctions
⠸ | 4 | CoregfluxAndFVAFonctions
⠼ | 5 | CoregfluxAndFVAFonctions
⠴ | 6 | CoregfluxAndFVAFonctions
✔ | 6 | CoregfluxAndFVAFonctions [48.5 s]
⠏ | 0 | DFBAsimulationFunctions
⠋ | 1 | DFBAsimulationFunctions
⠙ | 2 | DFBAsimulationFunctions
⠹ | 3 | DFBAsimulationFunctions
⠸ | 4 | DFBAsimulationFunctions
⠼ | 4 1 | DFBAsimulationFunctions
⠴ | 4 2 | DFBAsimulationFunctions
⠦ | 4 3 | DFBAsimulationFunctions
⠧ | 5 3 | DFBAsimulationFunctions
⠇ | 6 3 | DFBAsimulationFunctions
⠏ | 7 3 | DFBAsimulationFunctions
⠋ | 8 3 | DFBAsimulationFunctions
⠙ | 9 3 | DFBAsimulationFunctions
⠹ | 10 3 | DFBAsimulationFunctions
⠸ | 11 3 | DFBAsimulationFunctions
⠼ | 12 3 | DFBAsimulationFunctions
⠴ | 13 3 | DFBAsimulationFunctions
⠦ | 14 3 | DFBAsimulationFunctions
⠧ | 15 3 | DFBAsimulationFunctions
⠇ | 16 3 | DFBAsimulationFunctions
⠏ | 17 3 | DFBAsimulationFunctions
✖ | 17 3 | DFBAsimulationFunctions [3.4 s]
────────────────────────────────────────────────────────────────────────────────
test_DFBAsimulationFunctions.R:41: error: uptake fluxes diminish metabolite concentrations
could not find function "euler_step_metabolites"
1: expect_lt(euler_step_metabolites(met_concentrations_t0 = 10, fluxes = -1, rate = 0.1,
time_step = 0.1, biomass_t0 = 0.3), expected = 10) at testthat//test_DFBAsimulationFunctions.R:41
2: quasi_label(enquo(object), label)
3: eval_bare(get_expr(quo), get_env(quo))
test_DFBAsimulationFunctions.R:49: error: positive fluxes increase metabolite concentrations
could not find function "euler_step_metabolites"
1: expect_gt(euler_step_metabolites(met_concentrations_t0 = 10, fluxes = 1, rate = 0.1,
time_step = 0.1, biomass_t0 = 0.3), expected = 10) at testthat//test_DFBAsimulationFunctions.R:49
2: quasi_label(enquo(object), label)
3: eval_bare(get_expr(quo), get_env(quo))
test_DFBAsimulationFunctions.R:59: error: update_uptake_fluxes_constraints_metabolites check that
bounds are changed
could not find function "update_uptake_fluxes_constraints_metabolites"
1: .handleSimpleError(function (e)
{
handled <<- TRUE
test_error <<- e
options(expressions = expressions_opt_new)
on.exit(options(expressions = expressions_opt), add = TRUE)
e$expectation_calls <- frame_calls(11, 2)
test_error <<- e
register_expectation(e)
e$handled <- TRUE
test_error <<- e
}, "could not find function \"update_uptake_fluxes_constraints_metabolites\"", base::quote(update_uptake_fluxes_constraints_metabolites(model = iMM904,
met_fluxes_indexes = 550, biomass_t0 = 0.3, met_concentrations_t0 = 1e-06, time_step = 1))) at testthat//test_DFBAsimulationFunctions.R:59
2: eval(code, test_env)
────────────────────────────────────────────────────────────────────────────────
⠏ | 0 | MetabolicModelFunctions
⠋ | 0 1 | MetabolicModelFunctions
⠙ | 1 1 | MetabolicModelFunctions
⠹ | 2 1 | MetabolicModelFunctions
⠸ | 3 1 | MetabolicModelFunctions
⠼ | 4 1 | MetabolicModelFunctions
⠴ | 5 1 | MetabolicModelFunctions
⠦ | 6 1 | MetabolicModelFunctions
✖ | 6 1 | MetabolicModelFunctions [0.1 s]
────────────────────────────────────────────────────────────────────────────────
test_MetabolicModelFunctions.R:13: error: Metabolites names to model names works and return a
data.frame
could not find function "convert_metabolites_to_model_names"
1: expect_true(is.data.frame(convert_metabolites_to_model_names(metabolites = metabolites,
model = iMM904))) at testthat//test_MetabolicModelFunctions.R:13
2: quasi_label(enquo(object), label)
3: eval_bare(get_expr(quo), get_env(quo))
4: is.data.frame(convert_metabolites_to_model_names(metabolites = metabolites, model = iMM904))
────────────────────────────────────────────────────────────────────────────────
══ Results ═════════════════════════════════════════════════════════════════════
Duration: 52.3 s
OK: 29
Failed: 4
Warnings: 0
Skipped: 0
>
> proc.time()
user system elapsed
73.210 3.531 55.082
CoRegFlux.Rcheck/CoRegFlux-Ex.timings
| name | user | system | elapsed | |
| ODCurveToFluxCurves | 24.930 | 0.193 | 25.309 | |
| ODCurveToMetabolicGeneCurves | 12.350 | 0.242 | 12.663 | |
| Simulation | 8.164 | 0.087 | 8.283 | |
| adjust_constraints_to_observed_rates | 0.106 | 0.001 | 0.109 | |
| build_exchange_met | 0.107 | 0.002 | 0.111 | |
| coregflux_static | 1.288 | 0.020 | 1.323 | |
| get_biomass_flux_position | 0.098 | 0.002 | 0.100 | |
| get_fba_fluxes_from_observations | 0.335 | 0.004 | 0.341 | |
| get_fva_intervals_from_observations | 5.066 | 0.013 | 5.112 | |
| get_metabolites_exchange_fluxes | 0.093 | 0.002 | 0.095 | |
| predict_linear_model_influence | 28.837 | 1.592 | 21.268 | |
| update_fluxes_constraints_geneKOOV | 0.190 | 0.013 | 0.203 | |
| update_fluxes_constraints_influence | 0.408 | 0.008 | 0.416 | |
| visFluxCurves | 0.335 | 0.004 | 0.339 | |
| visMetabolicGeneCurves | 0.375 | 0.015 | 0.392 | |