| Back to Multiple platform build/check report for BioC 3.9 |
|
This page was generated on 2019-04-09 13:38:43 -0400 (Tue, 09 Apr 2019).
| Package 285/1703 | Hostname | OS / Arch | INSTALL | BUILD | CHECK | BUILD BIN | ||||||
| CluMSID 0.99.13 Tobias Depke
| malbec2 | Linux (Ubuntu 18.04.2 LTS) / x86_64 | OK | OK | OK | |||||||
| tokay2 | Windows Server 2012 R2 Standard / x64 | OK | OK | OK | OK | |||||||
| celaya2 | OS X 10.11.6 El Capitan / x86_64 | OK | OK | OK | OK | |||||||
| merida2 | OS X 10.11.6 El Capitan / x86_64 | OK | OK | [ OK ] | OK |
| Package: CluMSID |
| Version: 0.99.13 |
| Command: /Library/Frameworks/R.framework/Versions/Current/Resources/bin/R CMD check --install=check:CluMSID.install-out.txt --library=/Library/Frameworks/R.framework/Versions/Current/Resources/library --no-vignettes --timings CluMSID_0.99.13.tar.gz |
| StartedAt: 2019-04-08 23:57:19 -0400 (Mon, 08 Apr 2019) |
| EndedAt: 2019-04-09 00:00:19 -0400 (Tue, 09 Apr 2019) |
| EllapsedTime: 179.5 seconds |
| RetCode: 0 |
| Status: OK |
| CheckDir: CluMSID.Rcheck |
| Warnings: 0 |
##############################################################################
##############################################################################
###
### Running command:
###
### /Library/Frameworks/R.framework/Versions/Current/Resources/bin/R CMD check --install=check:CluMSID.install-out.txt --library=/Library/Frameworks/R.framework/Versions/Current/Resources/library --no-vignettes --timings CluMSID_0.99.13.tar.gz
###
##############################################################################
##############################################################################
* using log directory ‘/Users/biocbuild/bbs-3.9-bioc/meat/CluMSID.Rcheck’
* using R Under development (unstable) (2018-11-27 r75683)
* using platform: x86_64-apple-darwin15.6.0 (64-bit)
* using session charset: UTF-8
* using option ‘--no-vignettes’
* checking for file ‘CluMSID/DESCRIPTION’ ... OK
* checking extension type ... Package
* this is package ‘CluMSID’ version ‘0.99.13’
* package encoding: UTF-8
* checking package namespace information ... OK
* checking package dependencies ... OK
* checking if this is a source package ... OK
* checking if there is a namespace ... OK
* checking for hidden files and directories ... OK
* checking for portable file names ... OK
* checking for sufficient/correct file permissions ... OK
* checking whether package ‘CluMSID’ can be installed ... OK
* checking installed package size ... OK
* checking package directory ... OK
* checking ‘build’ directory ... OK
* checking DESCRIPTION meta-information ... OK
* checking top-level files ... OK
* checking for left-over files ... OK
* checking index information ... OK
* checking package subdirectories ... OK
* checking R files for non-ASCII characters ... OK
* checking R files for syntax errors ... OK
* checking whether the package can be loaded ... OK
* checking whether the package can be loaded with stated dependencies ... OK
* checking whether the package can be unloaded cleanly ... OK
* checking whether the namespace can be loaded with stated dependencies ... OK
* checking whether the namespace can be unloaded cleanly ... OK
* checking dependencies in R code ... OK
* checking S3 generic/method consistency ... OK
* checking replacement functions ... OK
* checking foreign function calls ... OK
* checking R code for possible problems ... OK
* checking Rd files ... OK
* checking Rd metadata ... OK
* checking Rd cross-references ... OK
* checking for missing documentation entries ... OK
* checking for code/documentation mismatches ... OK
* checking Rd \usage sections ... OK
* checking Rd contents ... OK
* checking for unstated dependencies in examples ... OK
* checking files in ‘vignettes’ ... OK
* checking examples ... OK
Examples with CPU or elapsed time > 5s
user system elapsed
mergeMS2spectra 8.713 0.059 8.862
getSimilarities 5.787 0.052 5.905
* checking for unstated dependencies in ‘tests’ ... OK
* checking tests ...
Running ‘testthat.R’
OK
* checking for unstated dependencies in vignettes ... OK
* checking package vignettes in ‘inst/doc’ ... OK
* checking running R code from vignettes ... SKIPPED
* checking re-building of vignette outputs ... SKIPPED
* checking PDF version of manual ... OK
* DONE
Status: OK
CluMSID.Rcheck/00install.out
############################################################################## ############################################################################## ### ### Running command: ### ### /Library/Frameworks/R.framework/Versions/Current/Resources/bin/R CMD INSTALL CluMSID ### ############################################################################## ############################################################################## * installing to library ‘/Library/Frameworks/R.framework/Versions/3.6/Resources/library’ * installing *source* package ‘CluMSID’ ... ** R ** byte-compile and prepare package for lazy loading ** help *** installing help indices ** building package indices ** installing vignettes ** testing if installed package can be loaded * DONE (CluMSID)
CluMSID.Rcheck/tests/testthat.Rout
R Under development (unstable) (2018-11-27 r75683) -- "Unsuffered Consequences"
Copyright (C) 2018 The R Foundation for Statistical Computing
Platform: x86_64-apple-darwin15.6.0 (64-bit)
R is free software and comes with ABSOLUTELY NO WARRANTY.
You are welcome to redistribute it under certain conditions.
Type 'license()' or 'licence()' for distribution details.
R is a collaborative project with many contributors.
Type 'contributors()' for more information and
'citation()' on how to cite R or R packages in publications.
Type 'demo()' for some demos, 'help()' for on-line help, or
'help.start()' for an HTML browser interface to help.
Type 'q()' to quit R.
> library(testthat)
> library(CluMSID)
>
> test_check("CluMSID")
══ testthat results ═══════════════════════════════════════════════════════════
OK: 16 SKIPPED: 0 FAILED: 0
>
> proc.time()
user system elapsed
18.297 0.484 18.996
CluMSID.Rcheck/CluMSID-Ex.timings
| name | user | system | elapsed | |
| Featurelist | 0.030 | 0.001 | 0.032 | |
| HCplot | 0.411 | 0.008 | 0.422 | |
| HCtbl | 0.014 | 0.002 | 0.016 | |
| MDSplot | 0.689 | 0.020 | 0.714 | |
| OPTICSplot | 0.038 | 0.004 | 0.043 | |
| OPTICStbl | 0.020 | 0.001 | 0.021 | |
| accessors | 0.091 | 0.004 | 0.095 | |
| addAnnotations | 0.185 | 0.106 | 0.296 | |
| as.MS2spectrum | 0.340 | 0.014 | 0.358 | |
| cossim | 0.038 | 0.001 | 0.038 | |
| distanceMatrix | 1.731 | 0.107 | 1.852 | |
| extractMS2spectra | 2.208 | 0.054 | 2.287 | |
| extractPseudospectra | 0.733 | 0.054 | 0.801 | |
| findFragment | 0.062 | 0.001 | 0.064 | |
| findNL | 0.063 | 0.002 | 0.067 | |
| getSimilarities | 5.787 | 0.052 | 5.905 | |
| getSpectrum | 0.061 | 0.002 | 0.064 | |
| mergeMS2spectra | 8.713 | 0.059 | 8.862 | |
| networkplot | 0.292 | 0.006 | 0.302 | |
| specplot | 0.017 | 0.001 | 0.018 | |
| splitPolarities | 2.048 | 0.034 | 2.104 | |
| writeFeaturelist | 0.031 | 0.000 | 0.031 | |