| Back to Multiple platform build/check report for BioC 3.9 |
|
This page was generated on 2019-10-16 12:24:35 -0400 (Wed, 16 Oct 2019).
| Package 286/1741 | Hostname | OS / Arch | INSTALL | BUILD | CHECK | BUILD BIN | ||||||
| Clonality 1.32.0 Irina Ostrovnaya
| malbec2 | Linux (Ubuntu 18.04.2 LTS) / x86_64 | OK | OK | OK | |||||||
| tokay2 | Windows Server 2012 R2 Standard / x64 | OK | OK | [ OK ] | OK | |||||||
| celaya2 | OS X 10.11.6 El Capitan / x86_64 | OK | OK | OK | OK |
| Package: Clonality |
| Version: 1.32.0 |
| Command: C:\Users\biocbuild\bbs-3.9-bioc\R\bin\R.exe CMD check --force-multiarch --install=check:Clonality.install-out.txt --library=C:\Users\biocbuild\bbs-3.9-bioc\R\library --no-vignettes --timings Clonality_1.32.0.tar.gz |
| StartedAt: 2019-10-16 02:42:10 -0400 (Wed, 16 Oct 2019) |
| EndedAt: 2019-10-16 02:46:25 -0400 (Wed, 16 Oct 2019) |
| EllapsedTime: 254.6 seconds |
| RetCode: 0 |
| Status: OK |
| CheckDir: Clonality.Rcheck |
| Warnings: 0 |
##############################################################################
##############################################################################
###
### Running command:
###
### C:\Users\biocbuild\bbs-3.9-bioc\R\bin\R.exe CMD check --force-multiarch --install=check:Clonality.install-out.txt --library=C:\Users\biocbuild\bbs-3.9-bioc\R\library --no-vignettes --timings Clonality_1.32.0.tar.gz
###
##############################################################################
##############################################################################
* using log directory 'C:/Users/biocbuild/bbs-3.9-bioc/meat/Clonality.Rcheck'
* using R version 3.6.1 (2019-07-05)
* using platform: x86_64-w64-mingw32 (64-bit)
* using session charset: ISO8859-1
* using option '--no-vignettes'
* checking for file 'Clonality/DESCRIPTION' ... OK
* checking extension type ... Package
* this is package 'Clonality' version '1.32.0'
* checking package namespace information ... OK
* checking package dependencies ... OK
* checking if this is a source package ... OK
* checking if there is a namespace ... OK
* checking for hidden files and directories ... OK
* checking for portable file names ... OK
* checking whether package 'Clonality' can be installed ... OK
* checking installed package size ... OK
* checking package directory ... OK
* checking 'build' directory ... OK
* checking DESCRIPTION meta-information ... NOTE
Malformed Description field: should contain one or more complete sentences.
* checking top-level files ... OK
* checking for left-over files ... OK
* checking index information ... OK
* checking package subdirectories ... OK
* checking R files for non-ASCII characters ... OK
* checking R files for syntax errors ... OK
* loading checks for arch 'i386'
** checking whether the package can be loaded ... OK
** checking whether the package can be loaded with stated dependencies ... OK
** checking whether the package can be unloaded cleanly ... OK
** checking whether the namespace can be loaded with stated dependencies ... OK
** checking whether the namespace can be unloaded cleanly ... OK
* loading checks for arch 'x64'
** checking whether the package can be loaded ... OK
** checking whether the package can be loaded with stated dependencies ... OK
** checking whether the package can be unloaded cleanly ... OK
** checking whether the namespace can be loaded with stated dependencies ... OK
** checking whether the namespace can be unloaded cleanly ... OK
* checking dependencies in R code ... OK
* checking S3 generic/method consistency ... OK
* checking replacement functions ... OK
* checking foreign function calls ... NOTE
Foreign function call to a different package:
.Fortran("fndcpt", ..., PACKAGE = "DNAcopy")
See chapter 'System and foreign language interfaces' in the 'Writing R
Extensions' manual.
* checking R code for possible problems ... OK
* checking Rd files ... OK
* checking Rd metadata ... OK
* checking Rd cross-references ... OK
* checking for missing documentation entries ... OK
* checking for code/documentation mismatches ... OK
* checking Rd \usage sections ... OK
* checking Rd contents ... OK
* checking for unstated dependencies in examples ... OK
* checking contents of 'data' directory ... OK
* checking data for non-ASCII characters ... OK
* checking data for ASCII and uncompressed saves ... OK
* checking files in 'vignettes' ... OK
* checking examples ...
** running examples for arch 'i386' ... OK
Examples with CPU or elapsed time > 5s
user system elapsed
clonality.analysis 72.30 0.27 72.58
LRtesting3or4tumors 21.11 0.00 21.11
LOHclonality 8.58 0.00 8.58
ECMtesting 7.19 0.00 7.19
** running examples for arch 'x64' ... OK
Examples with CPU or elapsed time > 5s
user system elapsed
clonality.analysis 59.54 0.17 59.72
LRtesting3or4tumors 22.35 0.00 22.34
LOHclonality 8.33 0.00 8.32
ECMtesting 7.47 0.01 7.50
* checking for unstated dependencies in vignettes ... OK
* checking package vignettes in 'inst/doc' ... OK
* checking running R code from vignettes ... SKIPPED
* checking re-building of vignette outputs ... SKIPPED
* checking PDF version of manual ... OK
* DONE
Status: 2 NOTEs
See
'C:/Users/biocbuild/bbs-3.9-bioc/meat/Clonality.Rcheck/00check.log'
for details.
Clonality.Rcheck/00install.out
##############################################################################
##############################################################################
###
### Running command:
###
### C:\cygwin\bin\curl.exe -O https://malbec2.bioconductor.org/BBS/3.9/bioc/src/contrib/Clonality_1.32.0.tar.gz && rm -rf Clonality.buildbin-libdir && mkdir Clonality.buildbin-libdir && C:\Users\biocbuild\bbs-3.9-bioc\R\bin\R.exe CMD INSTALL --merge-multiarch --build --library=Clonality.buildbin-libdir Clonality_1.32.0.tar.gz && C:\Users\biocbuild\bbs-3.9-bioc\R\bin\R.exe CMD INSTALL Clonality_1.32.0.zip && rm Clonality_1.32.0.tar.gz Clonality_1.32.0.zip
###
##############################################################################
##############################################################################
% Total % Received % Xferd Average Speed Time Time Time Current
Dload Upload Total Spent Left Speed
0 0 0 0 0 0 0 0 --:--:-- --:--:-- --:--:-- 0
100 53945 100 53945 0 0 802k 0 --:--:-- --:--:-- --:--:-- 892k
install for i386
* installing *source* package 'Clonality' ...
** using staged installation
** R
** data
** byte-compile and prepare package for lazy loading
** help
*** installing help indices
converting help for package 'Clonality'
finding HTML links ... done
Clonality-internal html
Clonality-package html
ECMtesting html
LOHclonality html
LRtesting3or4tumors html
SNVtest html
ave.adj.probes html
chromosomePlots html
clonality.analysis html
genomewidePlots html
grid.lik html
histogramPlot html
lcis html
model.lik html
mutation.proba html
mutation.rem html
print.mutation.proba html
print.mutation.rem html
splitChromosomes html
xidens html
** building package indices
** installing vignettes
** testing if installed package can be loaded from temporary location
** testing if installed package can be loaded from final location
** testing if installed package keeps a record of temporary installation path
install for x64
* installing *source* package 'Clonality' ...
** testing if installed package can be loaded
* MD5 sums
packaged installation of 'Clonality' as Clonality_1.32.0.zip
* DONE (Clonality)
* installing to library 'C:/Users/biocbuild/bbs-3.9-bioc/R/library'
package 'Clonality' successfully unpacked and MD5 sums checked
|
Clonality.Rcheck/examples_i386/Clonality-Ex.timings
|
Clonality.Rcheck/examples_x64/Clonality-Ex.timings
|