| Back to Multiple platform build/check report for BioC 3.9 |
|
This page was generated on 2019-04-09 13:32:25 -0400 (Tue, 09 Apr 2019).
| Package 248/1703 | Hostname | OS / Arch | INSTALL | BUILD | CHECK | BUILD BIN | ||||||
| Chicago 1.11.1 Mikhail Spivakov
| malbec2 | Linux (Ubuntu 18.04.2 LTS) / x86_64 | OK | OK | OK | |||||||
| tokay2 | Windows Server 2012 R2 Standard / x64 | OK | OK | OK | OK | |||||||
| celaya2 | OS X 10.11.6 El Capitan / x86_64 | OK | OK | OK | OK | |||||||
| merida2 | OS X 10.11.6 El Capitan / x86_64 | OK | OK | [ OK ] | OK |
| Package: Chicago |
| Version: 1.11.1 |
| Command: /Library/Frameworks/R.framework/Versions/Current/Resources/bin/R CMD check --install=check:Chicago.install-out.txt --library=/Library/Frameworks/R.framework/Versions/Current/Resources/library --no-vignettes --timings Chicago_1.11.1.tar.gz |
| StartedAt: 2019-04-08 23:47:47 -0400 (Mon, 08 Apr 2019) |
| EndedAt: 2019-04-08 23:50:02 -0400 (Mon, 08 Apr 2019) |
| EllapsedTime: 135.2 seconds |
| RetCode: 0 |
| Status: OK |
| CheckDir: Chicago.Rcheck |
| Warnings: 0 |
##############################################################################
##############################################################################
###
### Running command:
###
### /Library/Frameworks/R.framework/Versions/Current/Resources/bin/R CMD check --install=check:Chicago.install-out.txt --library=/Library/Frameworks/R.framework/Versions/Current/Resources/library --no-vignettes --timings Chicago_1.11.1.tar.gz
###
##############################################################################
##############################################################################
* using log directory ‘/Users/biocbuild/bbs-3.9-bioc/meat/Chicago.Rcheck’
* using R Under development (unstable) (2018-11-27 r75683)
* using platform: x86_64-apple-darwin15.6.0 (64-bit)
* using session charset: UTF-8
* using option ‘--no-vignettes’
* checking for file ‘Chicago/DESCRIPTION’ ... OK
* checking extension type ... Package
* this is package ‘Chicago’ version ‘1.11.1’
* checking package namespace information ... OK
* checking package dependencies ... OK
* checking if this is a source package ... OK
* checking if there is a namespace ... OK
* checking for hidden files and directories ... NOTE
Found the following hidden files and directories:
.BBSoptions
These were most likely included in error. See section ‘Package
structure’ in the ‘Writing R Extensions’ manual.
* checking for portable file names ... OK
* checking for sufficient/correct file permissions ... OK
* checking whether package ‘Chicago’ can be installed ... OK
* checking installed package size ... OK
* checking package directory ... OK
* checking ‘build’ directory ... OK
* checking DESCRIPTION meta-information ... OK
* checking top-level files ... OK
* checking for left-over files ... OK
* checking index information ... OK
* checking package subdirectories ... OK
* checking R files for non-ASCII characters ... OK
* checking R files for syntax errors ... OK
* checking whether the package can be loaded ... OK
* checking whether the package can be loaded with stated dependencies ... OK
* checking whether the package can be unloaded cleanly ... OK
* checking whether the namespace can be loaded with stated dependencies ... OK
* checking whether the namespace can be unloaded cleanly ... OK
* checking dependencies in R code ... OK
* checking S3 generic/method consistency ... OK
* checking replacement functions ... OK
* checking foreign function calls ... OK
* checking R code for possible problems ... OK
* checking Rd files ... OK
* checking Rd metadata ... OK
* checking Rd cross-references ... OK
* checking for missing documentation entries ... OK
* checking for code/documentation mismatches ... OK
* checking Rd \usage sections ... OK
* checking Rd contents ... OK
* checking for unstated dependencies in examples ... OK
* checking contents of ‘data’ directory ... OK
* checking data for non-ASCII characters ... OK
* checking data for ASCII and uncompressed saves ... OK
* checking files in ‘vignettes’ ... OK
* checking examples ... OK
Examples with CPU or elapsed time > 5s
user system elapsed
normaliseOtherEnds 25.712 17.826 15.217
exportResults 15.080 1.336 14.767
peakEnrichment4Features 10.023 5.902 2.303
* checking for unstated dependencies in ‘tests’ ... OK
* checking tests ...
Running ‘testthat.R’
OK
* checking for unstated dependencies in vignettes ... OK
* checking package vignettes in ‘inst/doc’ ... OK
* checking running R code from vignettes ... SKIPPED
* checking re-building of vignette outputs ... SKIPPED
* checking PDF version of manual ... OK
* DONE
Status: 1 NOTE
See
‘/Users/biocbuild/bbs-3.9-bioc/meat/Chicago.Rcheck/00check.log’
for details.
Chicago.Rcheck/00install.out
############################################################################## ############################################################################## ### ### Running command: ### ### /Library/Frameworks/R.framework/Versions/Current/Resources/bin/R CMD INSTALL Chicago ### ############################################################################## ############################################################################## * installing to library ‘/Library/Frameworks/R.framework/Versions/3.6/Resources/library’ * installing *source* package ‘Chicago’ ... ** R ** data ** inst ** byte-compile and prepare package for lazy loading ** help *** installing help indices ** building package indices ** installing vignettes ** testing if installed package can be loaded * DONE (Chicago)
Chicago.Rcheck/tests/testthat.Rout
R Under development (unstable) (2018-11-27 r75683) -- "Unsuffered Consequences"
Copyright (C) 2018 The R Foundation for Statistical Computing
Platform: x86_64-apple-darwin15.6.0 (64-bit)
R is free software and comes with ABSOLUTELY NO WARRANTY.
You are welcome to redistribute it under certain conditions.
Type 'license()' or 'licence()' for distribution details.
R is a collaborative project with many contributors.
Type 'contributors()' for more information and
'citation()' on how to cite R or R packages in publications.
Type 'demo()' for some demos, 'help()' for on-line help, or
'help.start()' for an HTML browser interface to help.
Type 'q()' to quit R.
> library(testthat)
> library(Chicago)
Loading required package: data.table
Welcome to CHiCAGO - version 1.11.1
If you are new to CHiCAGO, please consider reading the vignette through the command: vignette("Chicago").
NOTE: Default values of tlb.minProxOEPerBin and tlb.minProxB2BPerBin changed as of Version 1.1.5. No action is required unless you specified non-default values, or wish to re-run the pipeline on old chicagoData objects. See news(package="Chicago")
>
> test_check("Chicago")
Read 4 items
Read 4 items
Read 4 items
══ testthat results ═══════════════════════════════════════════════════════════
OK: 11 SKIPPED: 0 FAILED: 0
>
> proc.time()
user system elapsed
9.167 5.801 4.295
Chicago.Rcheck/Chicago-Ex.timings
| name | user | system | elapsed | |
| cdUnitTest | 0.202 | 0.152 | 0.071 | |
| chicagoData | 0.004 | 0.003 | 0.001 | |
| chicagoPipeline | 0.241 | 0.205 | 0.064 | |
| copyCD | 0.034 | 0.036 | 0.010 | |
| defaultSettings | 0.007 | 0.006 | 0.002 | |
| estimateBrownianComponent | 1.117 | 0.947 | 0.295 | |
| estimateDistFun | 0.201 | 0.154 | 0.051 | |
| estimateTechnicalNoise | 0.536 | 0.367 | 0.128 | |
| exportResults | 15.080 | 1.336 | 14.767 | |
| getPvals | 0.092 | 0.024 | 0.023 | |
| getScores | 0.249 | 0.210 | 0.065 | |
| getSkOnly | 2.807 | 1.796 | 1.340 | |
| mergeSamples | 0.633 | 0.520 | 0.165 | |
| modifySettings | 0.122 | 0.114 | 0.034 | |
| normaliseBaits | 0.668 | 0.495 | 0.166 | |
| normaliseOtherEnds | 25.712 | 17.826 | 15.217 | |
| overlapFragWithFeatures | 0.510 | 0.279 | 0.143 | |
| peakEnrichment4Features | 10.023 | 5.902 | 2.303 | |
| plotBaits | 1.664 | 1.185 | 0.470 | |
| plotDistFun | 0.060 | 0.068 | 0.017 | |
| readAndMerge | 0.647 | 0.516 | 0.150 | |
| readSample | 0.259 | 0.186 | 0.056 | |
| setExperiment | 0.089 | 0.070 | 0.020 | |