| Back to Multiple platform build/check report for BioC 3.9 |
|
This page was generated on 2019-10-16 12:11:56 -0400 (Wed, 16 Oct 2019).
| Package 256/1741 | Hostname | OS / Arch | INSTALL | BUILD | CHECK | BUILD BIN | ||||||
| ChIPanalyser 1.6.0 Patrick C.N. Martin
| malbec2 | Linux (Ubuntu 18.04.2 LTS) / x86_64 | OK | [ OK ] | OK | |||||||
| tokay2 | Windows Server 2012 R2 Standard / x64 | OK | OK | WARNINGS | OK | |||||||
| celaya2 | OS X 10.11.6 El Capitan / x86_64 | OK | OK | OK | OK |
| Package: ChIPanalyser |
| Version: 1.6.0 |
| Command: /home/biocbuild/bbs-3.9-bioc/R/bin/R CMD build --keep-empty-dirs --no-resave-data ChIPanalyser |
| StartedAt: 2019-10-15 22:36:11 -0400 (Tue, 15 Oct 2019) |
| EndedAt: 2019-10-15 22:39:24 -0400 (Tue, 15 Oct 2019) |
| EllapsedTime: 193.0 seconds |
| RetCode: 0 |
| Status: OK |
| PackageFile: ChIPanalyser_1.6.0.tar.gz |
| PackageFileSize: 574.7 KiB |
############################################################################## ############################################################################## ### ### Running command: ### ### /home/biocbuild/bbs-3.9-bioc/R/bin/R CMD build --keep-empty-dirs --no-resave-data ChIPanalyser ### ############################################################################## ############################################################################## * checking for file ‘ChIPanalyser/DESCRIPTION’ ... OK * preparing ‘ChIPanalyser’: * checking DESCRIPTION meta-information ... OK * installing the package to process help pages * saving partial Rd database * creating vignettes ... OK * checking for LF line-endings in source and make files and shell scripts * checking for empty or unneeded directories * looking to see if a ‘data/datalist’ file should be added * building ‘ChIPanalyser_1.6.0.tar.gz’