| Back to Multiple platform build/check report for BioC 3.9 |
|
This page was generated on 2019-04-09 13:29:01 -0400 (Tue, 09 Apr 2019).
| Package 318/1703 | Hostname | OS / Arch | INSTALL | BUILD | CHECK | BUILD BIN | ||||||
| COHCAP 1.29.3 Charles Warden
| malbec2 | Linux (Ubuntu 18.04.2 LTS) / x86_64 | OK | OK | OK | |||||||
| tokay2 | Windows Server 2012 R2 Standard / x64 | OK | OK | OK | OK | |||||||
| celaya2 | OS X 10.11.6 El Capitan / x86_64 | OK | OK | OK | OK | |||||||
| merida2 | OS X 10.11.6 El Capitan / x86_64 | OK | OK | [ OK ] | OK |
| Package: COHCAP |
| Version: 1.29.3 |
| Command: /Library/Frameworks/R.framework/Versions/Current/Resources/bin/R CMD check --install=check:COHCAP.install-out.txt --library=/Library/Frameworks/R.framework/Versions/Current/Resources/library --no-vignettes --timings COHCAP_1.29.3.tar.gz |
| StartedAt: 2019-04-09 00:03:33 -0400 (Tue, 09 Apr 2019) |
| EndedAt: 2019-04-09 00:04:50 -0400 (Tue, 09 Apr 2019) |
| EllapsedTime: 76.0 seconds |
| RetCode: 0 |
| Status: OK |
| CheckDir: COHCAP.Rcheck |
| Warnings: 0 |
##############################################################################
##############################################################################
###
### Running command:
###
### /Library/Frameworks/R.framework/Versions/Current/Resources/bin/R CMD check --install=check:COHCAP.install-out.txt --library=/Library/Frameworks/R.framework/Versions/Current/Resources/library --no-vignettes --timings COHCAP_1.29.3.tar.gz
###
##############################################################################
##############################################################################
* using log directory ‘/Users/biocbuild/bbs-3.9-bioc/meat/COHCAP.Rcheck’
* using R Under development (unstable) (2018-11-27 r75683)
* using platform: x86_64-apple-darwin15.6.0 (64-bit)
* using session charset: UTF-8
* using option ‘--no-vignettes’
* checking for file ‘COHCAP/DESCRIPTION’ ... OK
* checking extension type ... Package
* this is package ‘COHCAP’ version ‘1.29.3’
* checking package namespace information ... OK
* checking package dependencies ... OK
* checking if this is a source package ... OK
* checking if there is a namespace ... OK
* checking for hidden files and directories ... OK
* checking for portable file names ... OK
* checking for sufficient/correct file permissions ... OK
* checking whether package ‘COHCAP’ can be installed ... OK
* checking installed package size ... OK
* checking package directory ... OK
* checking ‘build’ directory ... OK
* checking DESCRIPTION meta-information ... NOTE
Malformed Description field: should contain one or more complete sentences.
* checking top-level files ... OK
* checking for left-over files ... OK
* checking index information ... OK
* checking package subdirectories ... OK
* checking R files for non-ASCII characters ... OK
* checking R files for syntax errors ... OK
* checking whether the package can be loaded ... OK
* checking whether the package can be loaded with stated dependencies ... OK
* checking whether the package can be unloaded cleanly ... OK
* checking whether the namespace can be loaded with stated dependencies ... OK
* checking whether the namespace can be unloaded cleanly ... OK
* checking dependencies in R code ... OK
* checking S3 generic/method consistency ... OK
* checking replacement functions ... OK
* checking foreign function calls ... OK
* checking R code for possible problems ... NOTE
COHCAP.annotate: no visible binding for global variable
‘COHCAP.450k.UCSC’
COHCAP.annotate: no visible binding for global variable
‘COHCAP.450k.HMM’
COHCAP.annotate: no visible binding for global variable ‘COHCAP.27k’
COHCAP.integrate.avg.by.island: no visible binding for global variable
‘na.rm’
cor.test.est: no visible binding for global variable ‘na.rm’
cor.test.pvalue: no visible binding for global variable ‘na.rm’
Undefined global functions or variables:
COHCAP.27k COHCAP.450k.HMM COHCAP.450k.UCSC na.rm
* checking Rd files ... OK
* checking Rd metadata ... OK
* checking Rd cross-references ... OK
* checking for missing documentation entries ... OK
* checking for code/documentation mismatches ... OK
* checking Rd \usage sections ... OK
* checking Rd contents ... OK
* checking for unstated dependencies in examples ... OK
* checking line endings in C/C++/Fortran sources/headers ... OK
* checking compiled code ... NOTE
Note: information on .o files is not available
* checking sizes of PDF files under ‘inst/doc’ ... OK
* checking files in ‘vignettes’ ... OK
* checking examples ... OK
Examples with CPU or elapsed time > 5s
user system elapsed
COHCAP.integrate.avg.by.island 5.243 0.516 5.901
COHCAP.integrate.avg.by.site 4.632 0.410 5.153
* checking for unstated dependencies in vignettes ... OK
* checking package vignettes in ‘inst/doc’ ... OK
* checking running R code from vignettes ... SKIPPED
* checking re-building of vignette outputs ... SKIPPED
* checking PDF version of manual ... OK
* DONE
Status: 3 NOTEs
See
‘/Users/biocbuild/bbs-3.9-bioc/meat/COHCAP.Rcheck/00check.log’
for details.
COHCAP.Rcheck/00install.out
############################################################################## ############################################################################## ### ### Running command: ### ### /Library/Frameworks/R.framework/Versions/Current/Resources/bin/R CMD INSTALL COHCAP ### ############################################################################## ############################################################################## * installing to library ‘/Library/Frameworks/R.framework/Versions/3.6/Resources/library’ * installing *source* package ‘COHCAP’ ... ** libs clang++ -std=gnu++11 -I"/Library/Frameworks/R.framework/Resources/include" -DNDEBUG -I"/Library/Frameworks/R.framework/Versions/3.6/Resources/library/Rcpp/include" -I"/Library/Frameworks/R.framework/Versions/3.6/Resources/library/BH/include" -I/usr/local/include -fPIC -Wall -g -O2 -c RcppExports.cpp -o RcppExports.o clang++ -std=gnu++11 -I"/Library/Frameworks/R.framework/Resources/include" -DNDEBUG -I"/Library/Frameworks/R.framework/Versions/3.6/Resources/library/Rcpp/include" -I"/Library/Frameworks/R.framework/Versions/3.6/Resources/library/BH/include" -I/usr/local/include -fPIC -Wall -g -O2 -c Rcpp_BH_ANOVA.cpp -o Rcpp_BH_ANOVA.o clang++ -std=gnu++11 -I"/Library/Frameworks/R.framework/Resources/include" -DNDEBUG -I"/Library/Frameworks/R.framework/Versions/3.6/Resources/library/Rcpp/include" -I"/Library/Frameworks/R.framework/Versions/3.6/Resources/library/BH/include" -I/usr/local/include -fPIC -Wall -g -O2 -c Rcpp_BH_ttest.cpp -o Rcpp_BH_ttest.o clang++ -std=gnu++11 -dynamiclib -Wl,-headerpad_max_install_names -undefined dynamic_lookup -single_module -multiply_defined suppress -L/Library/Frameworks/R.framework/Resources/lib -L/usr/local/lib -o COHCAP.so RcppExports.o Rcpp_BH_ANOVA.o Rcpp_BH_ttest.o -F/Library/Frameworks/R.framework/.. -framework R -Wl,-framework -Wl,CoreFoundation installing to /Library/Frameworks/R.framework/Versions/3.6/Resources/library/COHCAP/libs ** R ** inst ** byte-compile and prepare package for lazy loading ** help *** installing help indices ** building package indices ** installing vignettes ** testing if installed package can be loaded * DONE (COHCAP)
COHCAP.Rcheck/COHCAP-Ex.timings
| name | user | system | elapsed | |
| COHCAP.BSSeq.preprocess | 0.037 | 0.013 | 0.054 | |
| COHCAP.BSSeq_V2.methyl.table | 0.018 | 0.001 | 0.020 | |
| COHCAP.annotate | 1.913 | 0.111 | 2.053 | |
| COHCAP.avg.by.island | 4.174 | 0.379 | 4.643 | |
| COHCAP.avg.by.site | 3.638 | 0.314 | 4.028 | |
| COHCAP.denovo | 3.688 | 0.268 | 4.034 | |
| COHCAP.integrate.avg.by.island | 5.243 | 0.516 | 5.901 | |
| COHCAP.integrate.avg.by.site | 4.632 | 0.410 | 5.153 | |
| COHCAP.qc | 1.662 | 0.082 | 1.767 | |
| COHCAP.reformatFinalReport | 0.011 | 0.002 | 0.013 | |
| COHCAP.site | 3.345 | 0.201 | 3.618 | |